BEGIN:VCALENDAR
VERSION:2.0
PRODID:-//Makó - ECPv6.8.3//NONSGML v1.0//EN
CALSCALE:GREGORIAN
METHOD:PUBLISH
X-ORIGINAL-URL:http://mako.hu
X-WR-CALDESC:Events for Makó
REFRESH-INTERVAL;VALUE=DURATION:PT1H
X-Robots-Tag:noindex
X-PUBLISHED-TTL:PT1H
BEGIN:VTIMEZONE
TZID:Europe/Budapest
BEGIN:DAYLIGHT
TZOFFSETFROM:+0100
TZOFFSETTO:+0200
TZNAME:CEST
DTSTART:20260329T010000
END:DAYLIGHT
BEGIN:STANDARD
TZOFFSETFROM:+0200
TZOFFSETTO:+0100
TZNAME:CET
DTSTART:20261025T010000
END:STANDARD
END:VTIMEZONE
BEGIN:VEVENT
DTSTART;TZID=Europe/Budapest:20260114T150000
DTEND;TZID=Europe/Budapest:20260114T150000
DTSTAMP:20260422T012410
CREATED:20260112T095840Z
LAST-MODIFIED:20260112T095840Z
UID:37784-1768402800-1768402800@mako.hu
SUMMARY:Makói Magán Zeneiskola Képzőművészeti tanszakának félévi kiállítás megnyitója
DESCRIPTION:
URL:http://mako.hu/program/makoi-magan-zeneiskola-kepzomuveszeti-tanszakanak-felevi-kiallitas-megnyitoja/
ATTACH;FMTTYPE=image/jpeg:http://mako.hu/wp-content/uploads/2026/01/615263094-1463051692496460-1343324495670035926-n.jpg
END:VEVENT
BEGIN:VEVENT
DTSTART;VALUE=DATE:20260118
DTEND;VALUE=DATE:20260126
DTSTAMP:20260422T012410
CREATED:20260114T091044Z
LAST-MODIFIED:20260114T091044Z
UID:37806-1768694400-1769385599@mako.hu
SUMMARY:Ökomenikus Imahét
DESCRIPTION:
URL:http://mako.hu/program/okomenikus-imahet/
ATTACH;FMTTYPE=image/jpeg:http://mako.hu/wp-content/uploads/2026/01/616394617-1950539022507400-6132882628101691537-n.jpg
END:VEVENT
BEGIN:VEVENT
DTSTART;TZID=Europe/Budapest:20260120T190000
DTEND;TZID=Europe/Budapest:20260120T210000
DTSTAMP:20260422T012410
CREATED:20251125T082951Z
LAST-MODIFIED:20251125T082951Z
UID:37304-1768935600-1768942800@mako.hu
SUMMARY:Hullajó nászéjszaka
DESCRIPTION:
URL:http://mako.hu/program/hullajo-naszejszaka/
ATTACH;FMTTYPE=image/jpeg:http://mako.hu/wp-content/uploads/2025/11/581421099-867277759291882-1770594430111326208-n.jpg
END:VEVENT
BEGIN:VEVENT
DTSTART;TZID=Europe/Budapest:20260121T100000
DTEND;TZID=Europe/Budapest:20260121T130000
DTSTAMP:20260422T012410
CREATED:20260113T101030Z
LAST-MODIFIED:20260113T101030Z
UID:37801-1768989600-1769000400@mako.hu
SUMMARY:Magyar Kultúra Napja
DESCRIPTION:
URL:http://mako.hu/program/magyar-kultura-napja-2/
ATTACH;FMTTYPE=image/jpeg:http://mako.hu/wp-content/uploads/2026/01/a-magyar-kultura-napja-plakat.jpg
END:VEVENT
BEGIN:VEVENT
DTSTART;VALUE=DATE:20260124
DTEND;VALUE=DATE:20260125
DTSTAMP:20260422T012410
CREATED:20260120T081334Z
LAST-MODIFIED:20260120T081334Z
UID:37871-1769212800-1769299199@mako.hu
SUMMARY:Hagymatikum 14. - Születésnapi házibuli!
DESCRIPTION:
URL:http://mako.hu/program/hagymatikum-14-szuletesnapi-hazibuli/
ATTACH;FMTTYPE=image/jpeg:http://mako.hu/wp-content/uploads/2026/01/616231183-1281792520649443-5959892628306922130-n.jpg
END:VEVENT
BEGIN:VEVENT
DTSTART;TZID=Europe/Budapest:20260125T133000
DTEND;TZID=Europe/Budapest:20260125T170000
DTSTAMP:20260422T012410
CREATED:20260112T100016Z
LAST-MODIFIED:20260114T105623Z
UID:37788-1769347800-1769360400@mako.hu
SUMMARY:Páger Antal-színészdíj átadó
DESCRIPTION:
URL:http://mako.hu/program/pager-antal-szineszdij-atado-2/
ATTACH;FMTTYPE=image/jpeg:http://mako.hu/wp-content/uploads/2026/01/pager-antal-dij-2026-flyer-v01-scaled.jpg
END:VEVENT
BEGIN:VEVENT
DTSTART;TZID=Europe/Budapest:20260131T100000
DTEND;TZID=Europe/Budapest:20260131T130000
DTSTAMP:20260422T012410
CREATED:20251217T131037Z
LAST-MODIFIED:20251217T131037Z
UID:37677-1769853600-1769864400@mako.hu
SUMMARY:TÉLŰZÉS MOHÁCSI BUSÓKKAL
DESCRIPTION:
URL:http://mako.hu/program/teluzes-mohacsi-busokkal/
ATTACH;FMTTYPE=image/jpeg:http://mako.hu/wp-content/uploads/2025/12/601005178-1438953274901017-4751213383914508077-n.jpg
END:VEVENT
BEGIN:VEVENT
DTSTART;TZID=Europe/Budapest:20260203T090000
DTEND;TZID=Europe/Budapest:20260203T110000
DTSTAMP:20260422T012410
CREATED:20260128T083214Z
LAST-MODIFIED:20260128T083214Z
UID:37930-1770109200-1770116400@mako.hu
SUMMARY:Megemlékezés Galamb József születésének 145. évfordulója alkalmából
DESCRIPTION:
URL:http://mako.hu/program/megemlekezes-galamb-jozsef-szuletesenek-145-evforduloja-alkalmabol/
ATTACH;FMTTYPE=image/jpeg:http://mako.hu/wp-content/uploads/2026/01/622813186-1475267777936233-5936438337718487009-n.jpg
END:VEVENT
BEGIN:VEVENT
DTSTART;TZID=Europe/Budapest:20260204T170000
DTEND;TZID=Europe/Budapest:20260204T200000
DTSTAMP:20260422T012410
CREATED:20260204T072056Z
LAST-MODIFIED:20260204T072056Z
UID:38034-1770224400-1770235200@mako.hu
SUMMARY:"Makó Büszkeségei" ünnepség
DESCRIPTION:
URL:http://mako.hu/program/mako-buszkesegei-unnepseg/
END:VEVENT
BEGIN:VEVENT
DTSTART;TZID=Europe/Budapest:20260206T190000
DTEND;TZID=Europe/Budapest:20260206T210000
DTSTAMP:20260422T012410
CREATED:20251217T144122Z
LAST-MODIFIED:20251217T144122Z
UID:37680-1770404400-1770411600@mako.hu
SUMMARY:Bernard Slade: Jövőre Veled ugyanitt
DESCRIPTION:
URL:http://mako.hu/program/bernard-slade-jovore-veled-ugyanitt/
ATTACH;FMTTYPE=image/jpeg:http://mako.hu/wp-content/uploads/2025/12/jovore-veled-ugyanitt-original-269824.jpg
END:VEVENT
BEGIN:VEVENT
DTSTART;VALUE=DATE:20260207
DTEND;VALUE=DATE:20260208
DTSTAMP:20260422T012410
CREATED:20260122T115401Z
LAST-MODIFIED:20260122T115606Z
UID:37910-1770422400-1770508799@mako.hu
SUMMARY:Makói Járás Ifjúsági Sakkversenye
DESCRIPTION:
URL:http://mako.hu/program/makoi-jaras-ifjusagi-sakkversenye/
ATTACH;FMTTYPE=image/jpeg:http://mako.hu/wp-content/uploads/2026/01/miska-plakat-724x1024-1.jpg
END:VEVENT
BEGIN:VEVENT
DTSTART;TZID=Europe/Budapest:20260208T180000
DTEND;TZID=Europe/Budapest:20260208T200000
DTSTAMP:20260422T012410
CREATED:20260121T154958Z
LAST-MODIFIED:20260121T154958Z
UID:37897-1770573600-1770580800@mako.hu
SUMMARY:Szabó Magda - Az őz - színmű egy felvonásban
DESCRIPTION:
URL:http://mako.hu/program/szabo-magda-az-oz-szinmu-egy-felvonasban/
ATTACH;FMTTYPE=image/jpeg:http://mako.hu/wp-content/uploads/2026/01/617054047-1468563491945280-1368330973781670666-n.jpg
END:VEVENT
BEGIN:VEVENT
DTSTART;TZID=Europe/Budapest:20260212T170000
DTEND;TZID=Europe/Budapest:20260212T180000
DTSTAMP:20260422T012410
CREATED:20260204T083710Z
LAST-MODIFIED:20260204T083710Z
UID:38036-1770915600-1770919200@mako.hu
SUMMARY:KETTEN - Kolumbán Katalin fotókiállítása
DESCRIPTION:
URL:http://mako.hu/program/ketten-kolumban-katalin-fotokiallitasa/
ATTACH;FMTTYPE=image/jpeg:http://mako.hu/wp-content/uploads/2026/02/ketten-plakat.jpg
END:VEVENT
BEGIN:VEVENT
DTSTART;TZID=Europe/Budapest:20260213T160000
DTEND;TZID=Europe/Budapest:20260213T210000
DTSTAMP:20260422T012410
CREATED:20260128T105713Z
LAST-MODIFIED:20260128T105713Z
UID:37934-1770998400-1771016400@mako.hu
SUMMARY:Farsangi batyus bál
DESCRIPTION:
URL:http://mako.hu/program/farsangi-batyus-bal-4/
END:VEVENT
BEGIN:VEVENT
DTSTART;TZID=Europe/Budapest:20260213T170000
DTEND;TZID=Europe/Budapest:20260213T180000
DTSTAMP:20260422T012410
CREATED:20260203T120924Z
LAST-MODIFIED:20260203T120924Z
UID:38031-1771002000-1771005600@mako.hu
SUMMARY:"TIZENKETTŐ" - Ádók Zsanett és Góg Csaba fotókiállítása
DESCRIPTION:
URL:http://mako.hu/program/tizenketto-adok-zsanett-es-gog-csaba-fotokiallitasa/
ATTACH;FMTTYPE=image/jpeg:http://mako.hu/wp-content/uploads/2026/02/627727534-1354981026662736-8035778428143785808-n.jpg
END:VEVENT
BEGIN:VEVENT
DTSTART;TZID=Europe/Budapest:20260214T160000
DTEND;TZID=Europe/Budapest:20260214T180000
DTSTAMP:20260422T012410
CREATED:20260203T101828Z
LAST-MODIFIED:20260203T101828Z
UID:38025-1771084800-1771092000@mako.hu
SUMMARY:Házasság Hete: “VÁGYNI ARRA\, AMI A MIÉNK”
DESCRIPTION:
URL:http://mako.hu/program/hazassag-hete-vagyni-arra-ami-a-mienk/
ATTACH;FMTTYPE=image/jpeg:http://mako.hu/wp-content/uploads/2026/02/hazassag-hete-vagyni-arra-ami-a-mienk-minta-scaled.jpg
END:VEVENT
BEGIN:VEVENT
DTSTART;TZID=Europe/Budapest:20260225T100000
DTEND;TZID=Europe/Budapest:20260225T120000
DTSTAMP:20260422T012410
CREATED:20260219T134401Z
LAST-MODIFIED:20260219T134401Z
UID:38277-1772013600-1772020800@mako.hu
SUMMARY:Megemlékezés a Kommunista Diktatúrák Áldozatainak emléknapján
DESCRIPTION:
URL:http://mako.hu/program/megemlekezes-a-kommunista-diktaturak-aldozatainak-emleknapjan/
ATTACH;FMTTYPE=image/jpeg:http://mako.hu/wp-content/uploads/2026/02/629331696-1481835957279415-4853612109554497223-n-1.jpg
END:VEVENT
BEGIN:VEVENT
DTSTART;TZID=Europe/Budapest:20260228T180000
DTEND;TZID=Europe/Budapest:20260228T200000
DTSTAMP:20260422T012410
CREATED:20260211T150205Z
LAST-MODIFIED:20260211T150205Z
UID:38131-1772301600-1772308800@mako.hu
SUMMARY:Maros Táncegyüttes - Pót - Farsangi\, vidám műsora
DESCRIPTION:
URL:http://mako.hu/program/maros-tancegyuttes-pot-farsangi-vidam-musora/
ATTACH;FMTTYPE=image/jpeg:http://mako.hu/wp-content/uploads/2026/02/632220068-1491705812964381-2827390020630227340-n.jpg
END:VEVENT
BEGIN:VEVENT
DTSTART;TZID=Europe/Budapest:20260303T090000
DTEND;TZID=Europe/Budapest:20260303T170000
DTSTAMP:20260422T012410
CREATED:20260226T084835Z
LAST-MODIFIED:20260226T084835Z
UID:38337-1772528400-1772557200@mako.hu
SUMMARY:Magyarország átfogó egészségvédelmi szűrőprogram
DESCRIPTION:
URL:http://mako.hu/program/magyarorszag-atfogo-egeszsegvedelmi-szuroprogram/
ATTACH;FMTTYPE=image/jpeg:http://mako.hu/wp-content/uploads/2026/02/641646761-1586306296834427-5125771229053712716-n.jpg
END:VEVENT
BEGIN:VEVENT
DTSTART;TZID=Europe/Budapest:20260303T190000
DTEND;TZID=Europe/Budapest:20260303T210000
DTSTAMP:20260422T012410
CREATED:20260223T095755Z
LAST-MODIFIED:20260223T095755Z
UID:38298-1772564400-1772571600@mako.hu
SUMMARY:Öreglányok
DESCRIPTION:
URL:http://mako.hu/program/oreglanyok/
ATTACH;FMTTYPE=image/jpeg:http://mako.hu/wp-content/uploads/2026/02/639709211-1500516428749986-7664977028328515366-n.jpg
END:VEVENT
BEGIN:VEVENT
DTSTART;TZID=Europe/Budapest:20260306T090000
DTEND;TZID=Europe/Budapest:20260306T110000
DTSTAMP:20260422T012410
CREATED:20260227T084757Z
LAST-MODIFIED:20260227T084757Z
UID:38390-1772787600-1772794800@mako.hu
SUMMARY:Logopédia Európa Napja - Gyökerek és Szárnyak felkészítés az iskolára
DESCRIPTION:
URL:http://mako.hu/program/logopedia-europa-napja-gyokerek-es-szarnyak-felkeszites-az-iskolara/
END:VEVENT
BEGIN:VEVENT
DTSTART;TZID=Europe/Budapest:20260306T150000
DTEND;TZID=Europe/Budapest:20260306T170000
DTSTAMP:20260422T012410
CREATED:20260226T070611Z
LAST-MODIFIED:20260226T070611Z
UID:38328-1772809200-1772816400@mako.hu
SUMMARY:BEKUKKANTÓ - Makói Óvoda Kálvin téri Tagintézmény és a Hold utcai óvoda épület
DESCRIPTION:
URL:http://mako.hu/program/bekukkanto-makoi-ovoda-kalvin-teri-tagintezmeny-es-a-hold-utcai-ovoda-epulet/
ATTACH;FMTTYPE=image/jpeg:http://mako.hu/wp-content/uploads/2026/02/2026-bekukkanto-plakat-kalvin-hold-scaled.jpg
END:VEVENT
BEGIN:VEVENT
DTSTART;TZID=Europe/Budapest:20260306T170000
DTEND;TZID=Europe/Budapest:20260306T180000
DTSTAMP:20260422T012410
CREATED:20260302T152408Z
LAST-MODIFIED:20260302T152408Z
UID:38416-1772816400-1772820000@mako.hu
SUMMARY:KOFFER - Barangolás Dél-Franciaországban
DESCRIPTION:
URL:http://mako.hu/program/koffer-barangolas-del-franciaorszagban/
ATTACH;FMTTYPE=image/jpeg:http://mako.hu/wp-content/uploads/2026/03/644730906-1378787604282078-7640476707852579356-n.jpg
END:VEVENT
BEGIN:VEVENT
DTSTART;TZID=Europe/Budapest:20260307T183000
DTEND;TZID=Europe/Budapest:20260307T220000
DTSTAMP:20260422T012410
CREATED:20260212T072135Z
LAST-MODIFIED:20260212T072135Z
UID:38163-1772908200-1772920800@mako.hu
SUMMARY:Makói Turisztikai Bál
DESCRIPTION:
URL:http://mako.hu/program/makoi-turisztikai-bal/
ATTACH;FMTTYPE=image/jpeg:http://mako.hu/wp-content/uploads/2026/02/632947790-26455626637375007-4230059253472324325-n.jpg
END:VEVENT
BEGIN:VEVENT
DTSTART;TZID=Europe/Budapest:20260308T150000
DTEND;TZID=Europe/Budapest:20260308T170000
DTSTAMP:20260422T012410
CREATED:20260218T065150Z
LAST-MODIFIED:20260218T065150Z
UID:38213-1772982000-1772989200@mako.hu
SUMMARY:Tavaszköszöntő
DESCRIPTION:
URL:http://mako.hu/program/tavaszkoszonto-7/
ATTACH;FMTTYPE=image/jpeg:http://mako.hu/wp-content/uploads/2026/02/tavaszkoszonto-2026-scaled.jpg
END:VEVENT
BEGIN:VEVENT
DTSTART;TZID=Europe/Budapest:20260308T180000
DTEND;TZID=Europe/Budapest:20260308T200000
DTSTAMP:20260422T012410
CREATED:20260302T121630Z
LAST-MODIFIED:20260302T121630Z
UID:38403-1772992800-1773000000@mako.hu
SUMMARY:Nőnapi vacsora a Nyugi Bárban
DESCRIPTION:
URL:http://mako.hu/program/nonapi-vacsora-a-nyugi-barban/
ATTACH;FMTTYPE=image/png:http://mako.hu/wp-content/uploads/2026/03/nonapi-vacsora-a4.png
END:VEVENT
BEGIN:VEVENT
DTSTART;TZID=Europe/Budapest:20260313T150000
DTEND;TZID=Europe/Budapest:20260313T170000
DTSTAMP:20260422T012410
CREATED:20260226T071858Z
LAST-MODIFIED:20260302T140116Z
UID:38333-1773414000-1773421200@mako.hu
SUMMARY:BEKUKKANTÓ - Makói Óvoda Kassai utcai tagintézmény
DESCRIPTION:
URL:http://mako.hu/program/bekukkanto-makoi-ovoda-kassai-utcai-tagintezmeny-2/
ATTACH;FMTTYPE=image/jpeg:http://mako.hu/wp-content/uploads/2026/02/2026-kassai-bekukkanto-plakat-scaled.jpg
END:VEVENT
BEGIN:VEVENT
DTSTART;TZID=Europe/Budapest:20260313T174500
DTEND;TZID=Europe/Budapest:20260313T210000
DTSTAMP:20260422T012410
CREATED:20260302T141757Z
LAST-MODIFIED:20260302T141823Z
UID:38410-1773423900-1773435600@mako.hu
SUMMARY:„Fáklyával és lángoló szívvel a Hősökért!” - Ünnepi megemlékezés és Mága Zoltán jótékonysági koncert
DESCRIPTION:
URL:http://mako.hu/program/faklyaval-es-langolo-szivvel-a-hosokert-unnepi-megemlekezes-es-maga-zoltan-jotekonysagi-koncert/
ATTACH;FMTTYPE=image/jpeg:http://mako.hu/wp-content/uploads/2026/03/marcius-15-plakat-v06.jpg
END:VEVENT
BEGIN:VEVENT
DTSTART;VALUE=DATE:20260317
DTEND;VALUE=DATE:20260318
DTSTAMP:20260422T012410
CREATED:20260302T121852Z
LAST-MODIFIED:20260302T121852Z
UID:38405-1773705600-1773791999@mako.hu
SUMMARY:Tavaszi Nyugdíjas találkozó és Egészségnap
DESCRIPTION:
URL:http://mako.hu/program/tavaszi-nyugdijas-talalkozo-es-egeszsegnap-2/
ATTACH;FMTTYPE=image/png:http://mako.hu/wp-content/uploads/2026/03/nyugdijas-talalkozo-a4.png
END:VEVENT
BEGIN:VEVENT
DTSTART;TZID=Europe/Budapest:20260318T150000
DTEND;TZID=Europe/Budapest:20260318T163000
DTSTAMP:20260422T012410
CREATED:20260318T075442Z
LAST-MODIFIED:20260318T075442Z
UID:38533-1773846000-1773851400@mako.hu
SUMMARY:Hagymatikum\, törzsvendég nyílt nap
DESCRIPTION:
URL:http://mako.hu/program/hagymatikum-torzsvendeg-nyilt-nap/
ATTACH;FMTTYPE=image/jpeg:http://mako.hu/wp-content/uploads/2026/03/650308782-1324669073028454-4502614291372025404-n.jpg
END:VEVENT
END:VCALENDAR