BEGIN:VCALENDAR
VERSION:2.0
PRODID:-//Makó - ECPv6.8.3//NONSGML v1.0//EN
CALSCALE:GREGORIAN
METHOD:PUBLISH
X-ORIGINAL-URL:http://mako.hu
X-WR-CALDESC:Events for Makó
REFRESH-INTERVAL;VALUE=DURATION:PT1H
X-Robots-Tag:noindex
X-PUBLISHED-TTL:PT1H
BEGIN:VTIMEZONE
TZID:Europe/Budapest
BEGIN:DAYLIGHT
TZOFFSETFROM:+0100
TZOFFSETTO:+0200
TZNAME:CEST
DTSTART:20250330T010000
END:DAYLIGHT
BEGIN:STANDARD
TZOFFSETFROM:+0200
TZOFFSETTO:+0100
TZNAME:CET
DTSTART:20251026T010000
END:STANDARD
END:VTIMEZONE
BEGIN:VEVENT
DTSTART;VALUE=DATE:20250711
DTEND;VALUE=DATE:20250714
DTSTAMP:20260422T044023
CREATED:20250703T062701Z
LAST-MODIFIED:20250703T062701Z
UID:35932-1752192000-1752451199@mako.hu
SUMMARY:BEERlak Sörfesztivál
DESCRIPTION:
URL:http://mako.hu/program/beerlak-sorfesztival/
CATEGORIES:szabadidő,zenei
ATTACH;FMTTYPE=image/jpeg:http://mako.hu/wp-content/uploads/2025/07/beerlak-plakat-scaled.jpg
END:VEVENT
BEGIN:VEVENT
DTSTART;TZID=Europe/Budapest:20250718T200000
DTEND;TZID=Europe/Budapest:20250718T220000
DTSTAMP:20260422T044023
CREATED:20250703T100516Z
LAST-MODIFIED:20250703T100516Z
UID:35958-1752868800-1752876000@mako.hu
SUMMARY:Gördülő Opera - A csengő 2.0
DESCRIPTION:
URL:http://mako.hu/program/gordulo-opera-a-csengo-2-0/
CATEGORIES:előadás,kulturális
ATTACH;FMTTYPE=image/png:http://mako.hu/wp-content/uploads/2025/07/gordulo-opera.png
END:VEVENT
BEGIN:VEVENT
DTSTART;TZID=Europe/Budapest:20250719T190000
DTEND;TZID=Europe/Budapest:20250719T203000
DTSTAMP:20260422T044023
CREATED:20250703T064127Z
LAST-MODIFIED:20250703T064127Z
UID:35943-1752951600-1752957000@mako.hu
SUMMARY:Zenepaviloni koncert - Maros-Parti Deák Big Band
DESCRIPTION:
URL:http://mako.hu/program/zenepaviloni-koncert-maros-parti-deak-big-band/
CATEGORIES:előadás,zenei
ATTACH;FMTTYPE=image/jpeg:http://mako.hu/wp-content/uploads/2025/07/zenepaviloni-koncertek-2025-1-scaled.jpg
END:VEVENT
BEGIN:VEVENT
DTSTART;TZID=Europe/Budapest:20250722T170000
DTEND;TZID=Europe/Budapest:20250722T180000
DTSTAMP:20260422T044023
CREATED:20250704T091345Z
LAST-MODIFIED:20250704T091345Z
UID:35961-1753203600-1753207200@mako.hu
SUMMARY:"Belülről" - Kis Tamás festőművész önálló kiállítása
DESCRIPTION:
URL:http://mako.hu/program/belulrol-kis-tamas-festomuvesz-onallo-kiallitasa/
CATEGORIES:képzőművészeti,kiállítás
ATTACH;FMTTYPE=image/jpeg:http://mako.hu/wp-content/uploads/2025/07/515259523-1289981853136779-6789159606433414103-n.jpg
END:VEVENT
BEGIN:VEVENT
DTSTART;TZID=Europe/Budapest:20250725T190000
DTEND;TZID=Europe/Budapest:20250725T220000
DTSTAMP:20260422T044023
CREATED:20250512T070441Z
LAST-MODIFIED:20250703T063113Z
UID:35137-1753470000-1753480800@mako.hu
SUMMARY:Makói Nyár: Jon Lonoff - Centiről centire
DESCRIPTION:
URL:http://mako.hu/program/makoi-nyar-jon-lonoff-centirol-centire/
ATTACH;FMTTYPE=image/jpeg:http://mako.hu/wp-content/uploads/2025/05/495368689-1244107324390899-138319015156585604-n.jpg
END:VEVENT
BEGIN:VEVENT
DTSTART;VALUE=DATE:20250726
DTEND;VALUE=DATE:20250728
DTSTAMP:20260422T044023
CREATED:20250702T082722Z
LAST-MODIFIED:20250722T105232Z
UID:35925-1753488000-1753660799@mako.hu
SUMMARY:Fürdőfesztivál a Hagymatikumban
DESCRIPTION:
URL:http://mako.hu/program/furdofesztival-a-hagymatikumban/
ATTACH;FMTTYPE=image/jpeg:http://mako.hu/wp-content/uploads/2025/07/plakat-a2-hu-1-scaled.jpg
END:VEVENT
BEGIN:VEVENT
DTSTART;VALUE=DATE:20250726
DTEND;VALUE=DATE:20250727
DTSTAMP:20260422T044023
CREATED:20250722T075721Z
LAST-MODIFIED:20250722T075721Z
UID:36128-1753488000-1753574399@mako.hu
SUMMARY:33. Délkelet-határ menti Nemzetközi Rádiós Találkozó
DESCRIPTION:
URL:http://mako.hu/program/33-delkelet-hatar-menti-nemzetkozi-radios-talalkozo/
CATEGORIES:esemény
ATTACH;FMTTYPE=image/jpeg:http://mako.hu/wp-content/uploads/2025/07/ha8kci-radioamator-talalkozo.jpg
END:VEVENT
BEGIN:VEVENT
DTSTART;VALUE=DATE:20250726
DTEND;VALUE=DATE:20250727
DTSTAMP:20260422T044023
CREATED:20250725T104327Z
LAST-MODIFIED:20250725T104327Z
UID:36156-1753488000-1753574399@mako.hu
SUMMARY:Rádiós találkozó Makón
DESCRIPTION:
URL:http://mako.hu/program/radios-talalkozo-makon/
ATTACH;FMTTYPE=image/jpeg:http://mako.hu/wp-content/uploads/2025/07/ha8kci-radioamator-talalkozo-1.jpg
END:VEVENT
BEGIN:VEVENT
DTSTART;TZID=Europe/Budapest:20250726T190000
DTEND;TZID=Europe/Budapest:20250726T203000
DTSTAMP:20260422T044023
CREATED:20250703T064244Z
LAST-MODIFIED:20250703T064244Z
UID:35945-1753556400-1753561800@mako.hu
SUMMARY:Zenepaviloni koncert - Tóth Jonathan és Szemerédi Bernadett
DESCRIPTION:
URL:http://mako.hu/program/zenepaviloni-koncert-toth-jonathan-es-szemeredi-bernadett/
CATEGORIES:előadás,zenei
ATTACH;FMTTYPE=image/jpeg:http://mako.hu/wp-content/uploads/2025/07/zenepaviloni-koncertek-2025-1-scaled.jpg
END:VEVENT
BEGIN:VEVENT
DTSTART;TZID=Europe/Budapest:20250801T163000
DTEND;TZID=Europe/Budapest:20250801T173000
DTSTAMP:20260422T044023
CREATED:20250725T103756Z
LAST-MODIFIED:20250725T103756Z
UID:36153-1754065800-1754069400@mako.hu
SUMMARY:XVIII. Natura Marosmenti Művésztelep NYITÓKIÁLLÍTÁS
DESCRIPTION:
URL:http://mako.hu/program/xviii-natura-marosmenti-muvesztelep-nyitokiallitas/
ATTACH;FMTTYPE=image/jpeg:http://mako.hu/wp-content/uploads/2025/07/meghivo-1.jpg
END:VEVENT
BEGIN:VEVENT
DTSTART;TZID=Europe/Budapest:20250802T190000
DTEND;TZID=Europe/Budapest:20250802T203000
DTSTAMP:20260422T044023
CREATED:20250703T064342Z
LAST-MODIFIED:20250703T064342Z
UID:35947-1754161200-1754166600@mako.hu
SUMMARY:Zenepaviloni koncert - Ultra Light Acoustic
DESCRIPTION:
URL:http://mako.hu/program/zenepaviloni-koncert-ultra-light-acoustic/
CATEGORIES:előadás,zenei
ATTACH;FMTTYPE=image/jpeg:http://mako.hu/wp-content/uploads/2025/07/zenepaviloni-koncertek-2025-1-scaled.jpg
END:VEVENT
BEGIN:VEVENT
DTSTART;TZID=Europe/Budapest:20250808T200000
DTEND;TZID=Europe/Budapest:20250808T220000
DTSTAMP:20260422T044023
CREATED:20250716T195212Z
LAST-MODIFIED:20250716T195212Z
UID:36083-1754683200-1754690400@mako.hu
SUMMARY:Éjszakai kerékpártúra
DESCRIPTION:
URL:http://mako.hu/program/ejszakai-kerekpartura/
CATEGORIES:sport,szabadidő
ATTACH;FMTTYPE=image/jpeg:http://mako.hu/wp-content/uploads/2025/07/520229441-24092215393764958-3145416514385907442-n.jpg
END:VEVENT
BEGIN:VEVENT
DTSTART;TZID=Europe/Budapest:20250809T190000
DTEND;TZID=Europe/Budapest:20250809T203000
DTSTAMP:20260422T044023
CREATED:20250703T064532Z
LAST-MODIFIED:20250703T064532Z
UID:35949-1754766000-1754771400@mako.hu
SUMMARY:Zenepaviloni koncert - Kisparty Zenekar HZK-FM
DESCRIPTION:
URL:http://mako.hu/program/zenepaviloni-koncert-kisparty-zenekar-hzk-fm/
CATEGORIES:előadás,zenei
ATTACH;FMTTYPE=image/jpeg:http://mako.hu/wp-content/uploads/2025/07/zenepaviloni-koncertek-2025-1-scaled.jpg
END:VEVENT
BEGIN:VEVENT
DTSTART;TZID=Europe/Budapest:20250814T190000
DTEND;TZID=Europe/Budapest:20250814T220000
DTSTAMP:20260422T044023
CREATED:20250512T070530Z
LAST-MODIFIED:20250512T070530Z
UID:35142-1755198000-1755208800@mako.hu
SUMMARY:Makói Nyár: Mindenki engem akar
DESCRIPTION:
URL:http://mako.hu/program/makoi-nyar-mindenki-engem-akar/
ATTACH;FMTTYPE=image/jpeg:http://mako.hu/wp-content/uploads/2025/05/495376721-1244098841058414-6412440617914839747-n.jpg
END:VEVENT
BEGIN:VEVENT
DTSTART;TZID=Europe/Budapest:20250816T180000
DTEND;TZID=Europe/Budapest:20250816T200000
DTSTAMP:20260422T044023
CREATED:20250818T075418Z
LAST-MODIFIED:20250818T075418Z
UID:36269-1755367200-1755374400@mako.hu
SUMMARY:Sorok között irodalmi est + Táncház
DESCRIPTION:
URL:http://mako.hu/program/sorok-kozott-irodalmi-est-tanchaz/
CATEGORIES:kulturális
ATTACH;FMTTYPE=image/jpeg:http://mako.hu/wp-content/uploads/2025/08/534568045-1409032721228453-8197212007373110014-n.jpg
END:VEVENT
BEGIN:VEVENT
DTSTART;TZID=Europe/Budapest:20250816T190000
DTEND;TZID=Europe/Budapest:20250816T203000
DTSTAMP:20260422T044023
CREATED:20250703T064702Z
LAST-MODIFIED:20250703T064702Z
UID:35951-1755370800-1755376200@mako.hu
SUMMARY:Zenepaviloni koncert - C.2.1
DESCRIPTION:
URL:http://mako.hu/program/zenepaviloni-koncert-c-2-1/
CATEGORIES:előadás,zenei
ATTACH;FMTTYPE=image/jpeg:http://mako.hu/wp-content/uploads/2025/07/zenepaviloni-koncertek-2025-1-scaled.jpg
END:VEVENT
BEGIN:VEVENT
DTSTART;VALUE=DATE:20250819
DTEND;VALUE=DATE:20250821
DTSTAMP:20260422T044023
CREATED:20250730T092014Z
LAST-MODIFIED:20250730T092014Z
UID:36168-1755561600-1755734399@mako.hu
SUMMARY:Szent István napi forgatag
DESCRIPTION:
URL:http://mako.hu/program/szent-istvan-napi-forgatag-2/
CATEGORIES:esemény,ünnep
ATTACH;FMTTYPE=image/jpeg:http://mako.hu/wp-content/uploads/2025/07/szinf-plakat-2025-vegleges-1-scaled.jpg
END:VEVENT
BEGIN:VEVENT
DTSTART;TZID=Europe/Budapest:20250823T140000
DTEND;TZID=Europe/Budapest:20250823T140000
DTSTAMP:20260422T044023
CREATED:20250819T135514Z
LAST-MODIFIED:20250819T135514Z
UID:36309-1755957600-1755957600@mako.hu
SUMMARY:Országos vízipisztoly csata rekordkísérlet - Hagymatikum
DESCRIPTION:
URL:http://mako.hu/program/orszagos-vizipisztoly-csata-rekordkiserlet-hagymatikum/
ATTACH;FMTTYPE=image/jpeg:http://mako.hu/wp-content/uploads/2025/08/vizipisztoly-rekord-a3.jpg
END:VEVENT
BEGIN:VEVENT
DTSTART;TZID=Europe/Budapest:20250823T160000
DTEND;TZID=Europe/Budapest:20250823T220000
DTSTAMP:20260422T044023
CREATED:20250702T074353Z
LAST-MODIFIED:20250702T074353Z
UID:35923-1755964800-1755986400@mako.hu
SUMMARY:Szent István téri városrésznap
DESCRIPTION:
URL:http://mako.hu/program/szent-istvan-teri-varosresznap-4/
END:VEVENT
BEGIN:VEVENT
DTSTART;TZID=Europe/Budapest:20250830T100000
DTEND;TZID=Europe/Budapest:20250830T173000
DTSTAMP:20260422T044023
CREATED:20250828T133854Z
LAST-MODIFIED:20250828T133854Z
UID:36381-1756548000-1756575000@mako.hu
SUMMARY:10. Jubileumi Aikido Konferencia
DESCRIPTION:
URL:http://mako.hu/program/10-jubileumi-aikido-konferencia/
ATTACH;FMTTYPE=image/jpeg:http://mako.hu/wp-content/uploads/2025/08/536275083-1357442636383190-6052205162630796228-n.jpg
END:VEVENT
BEGIN:VEVENT
DTSTART;TZID=Europe/Budapest:20250831T190000
DTEND;TZID=Europe/Budapest:20250831T203000
DTSTAMP:20260422T044023
CREATED:20250703T064759Z
LAST-MODIFIED:20250827T102727Z
UID:35953-1756666800-1756672200@mako.hu
SUMMARY:Zenepaviloni koncert - WOX Zenekar
DESCRIPTION:
URL:http://mako.hu/program/zenepaviloni-koncert-wox-zenekar/
CATEGORIES:előadás,zenei
ATTACH;FMTTYPE=image/png:http://mako.hu/wp-content/uploads/2025/07/wox-2025-08-31.png
END:VEVENT
BEGIN:VEVENT
DTSTART;TZID=Europe/Budapest:20250906T100000
DTEND;TZID=Europe/Budapest:20250906T110000
DTSTAMP:20260422T044023
CREATED:20250828T134136Z
LAST-MODIFIED:20250828T134136Z
UID:36385-1757152800-1757156400@mako.hu
SUMMARY:100/Makói táj
DESCRIPTION:
URL:http://mako.hu/program/100-makoi-taj/
ATTACH;FMTTYPE=image/jpeg:http://mako.hu/wp-content/uploads/2025/08/540873869-24068021776233589-6141458586641505971-n.jpg
END:VEVENT
BEGIN:VEVENT
DTSTART;VALUE=DATE:20250907
DTEND;VALUE=DATE:20250908
DTSTAMP:20260422T044023
CREATED:20250812T062424Z
LAST-MODIFIED:20250812T062424Z
UID:36257-1757203200-1757289599@mako.hu
SUMMARY:Bogárzói Templombúcsú- 2025. szeptember 7.
DESCRIPTION:
URL:http://mako.hu/program/bogarzoi-templombucsu-2025-szeptember-7/
CATEGORIES:esemény
END:VEVENT
BEGIN:VEVENT
DTSTART;TZID=Europe/Budapest:20250907T150000
DTEND;TZID=Europe/Budapest:20250907T163000
DTSTAMP:20260422T044023
CREATED:20250514T061732Z
LAST-MODIFIED:20250514T061732Z
UID:35166-1757257200-1757262600@mako.hu
SUMMARY:László Attila - "Változnak az évszakok..." koncert
DESCRIPTION:
URL:http://mako.hu/program/laszlo-attila-valtoznak-az-evszakok-koncert/
CATEGORIES:zenei
ATTACH;FMTTYPE=image/jpeg:http://mako.hu/wp-content/uploads/2025/05/497518865-1247348947400070-3002784993349947646-n.jpg
END:VEVENT
BEGIN:VEVENT
DTSTART;TZID=Europe/Budapest:20250909T180000
DTEND;TZID=Europe/Budapest:20250909T190000
DTSTAMP:20260422T044023
CREATED:20250829T152525Z
LAST-MODIFIED:20250829T152525Z
UID:36388-1757440800-1757444400@mako.hu
SUMMARY:Szekeres Adrienn és László Boldizsár kamarakoncert
DESCRIPTION:
URL:http://mako.hu/program/szekeres-adrienn-es-laszlo-boldizsar-kamarakoncert/
ATTACH;FMTTYPE=image/png:http://mako.hu/wp-content/uploads/2025/08/szekeres-adrien-laszlo-boldizsar.png
END:VEVENT
BEGIN:VEVENT
DTSTART;VALUE=DATE:20250911
DTEND;VALUE=DATE:20250915
DTSTAMP:20260422T044023
CREATED:20241104T134216Z
LAST-MODIFIED:20250902T123924Z
UID:32917-1757548800-1757894399@mako.hu
SUMMARY:Hagymafesztivál 2025
DESCRIPTION:
URL:http://mako.hu/program/hagymafesztival-2025/
CATEGORIES:esemény
ATTACH;FMTTYPE=image/jpeg:http://mako.hu/wp-content/uploads/2024/11/hagymafesztival-reszletes-plakat-2025-vegleges-scaled.jpg
END:VEVENT
BEGIN:VEVENT
DTSTART;TZID=Europe/Budapest:20250911T170000
DTEND;TZID=Europe/Budapest:20250911T200000
DTSTAMP:20260422T044023
CREATED:20250908T080045Z
LAST-MODIFIED:20250908T080045Z
UID:36419-1757610000-1757620800@mako.hu
SUMMARY:"Szóljon csak a Hagymáról" - Hagymafesztivál szakmai nap
DESCRIPTION:
URL:http://mako.hu/program/szoljon-csak-a-hagymarol-hagymafesztival-szakmai-nap/
ATTACH;FMTTYPE=image/jpeg:http://mako.hu/wp-content/uploads/2025/09/szoljon-csak-a-hagymarol-szakmai-programplakat-scaled.jpg
END:VEVENT
BEGIN:VEVENT
DTSTART;TZID=Europe/Budapest:20250913T163000
DTEND;TZID=Europe/Budapest:20250913T163000
DTSTAMP:20260422T044023
CREATED:20250825T082023Z
LAST-MODIFIED:20250825T082023Z
UID:36326-1757781000-1757781000@mako.hu
SUMMARY:Kórushangverseny
DESCRIPTION:
URL:http://mako.hu/program/korushangverseny-2/
ATTACH;FMTTYPE=image/jpeg:http://mako.hu/wp-content/uploads/2025/08/538624477-24935251509415794-3524427905946030915-n.jpg
END:VEVENT
BEGIN:VEVENT
DTSTART;TZID=Europe/Budapest:20250919T090000
DTEND;TZID=Europe/Budapest:20250919T190000
DTSTAMP:20260422T044023
CREATED:20250915T123527Z
LAST-MODIFIED:20250915T123527Z
UID:36480-1758272400-1758308400@mako.hu
SUMMARY:Makói Sportágválasztó Nap
DESCRIPTION:
URL:http://mako.hu/program/makoi-sportagvalaszto-nap/
ATTACH;FMTTYPE=image/jpeg:http://mako.hu/wp-content/uploads/2025/09/548019292-24586313177688508-4704642145663601658-n.jpg
END:VEVENT
BEGIN:VEVENT
DTSTART;VALUE=DATE:20250920
DTEND;VALUE=DATE:20250922
DTSTAMP:20260422T044023
CREATED:20250915T101025Z
LAST-MODIFIED:20250915T101025Z
UID:36477-1758326400-1758499199@mako.hu
SUMMARY:Kulturális Örökség Napjai
DESCRIPTION:
URL:http://mako.hu/program/kulturalis-orokseg-napjai/
ATTACH;FMTTYPE=image/png:http://mako.hu/wp-content/uploads/2025/09/kon1.png
END:VEVENT
END:VCALENDAR