BEGIN:VCALENDAR
VERSION:2.0
PRODID:-//Makó - ECPv6.8.3//NONSGML v1.0//EN
CALSCALE:GREGORIAN
METHOD:PUBLISH
X-ORIGINAL-URL:http://mako.hu
X-WR-CALDESC:Events for Makó
REFRESH-INTERVAL;VALUE=DURATION:PT1H
X-Robots-Tag:noindex
X-PUBLISHED-TTL:PT1H
BEGIN:VTIMEZONE
TZID:Europe/Budapest
BEGIN:DAYLIGHT
TZOFFSETFROM:+0100
TZOFFSETTO:+0200
TZNAME:CEST
DTSTART:20240331T010000
END:DAYLIGHT
BEGIN:STANDARD
TZOFFSETFROM:+0200
TZOFFSETTO:+0100
TZNAME:CET
DTSTART:20241027T010000
END:STANDARD
END:VTIMEZONE
BEGIN:VEVENT
DTSTART;VALUE=DATE:20240913
DTEND;VALUE=DATE:20240916
DTSTAMP:20260423T010718
CREATED:20240904T071846Z
LAST-MODIFIED:20240904T071846Z
UID:32118-1726185600-1726444799@mako.hu
SUMMARY:Hagymafesztivál 2024
DESCRIPTION:
URL:http://mako.hu/program/hagymafesztival-2024/
CATEGORIES:esemény
ATTACH;FMTTYPE=image/jpeg:http://mako.hu/wp-content/uploads/2024/09/hagymafesztival-reszletes-plakat-2024-a1-1-scaled.jpg
END:VEVENT
BEGIN:VEVENT
DTSTART;TZID=Europe/Budapest:20240913T200000
DTEND;TZID=Europe/Budapest:20240913T210000
DTSTAMP:20260423T010718
CREATED:20240904T122015Z
LAST-MODIFIED:20240904T122047Z
UID:32130-1726257600-1726261200@mako.hu
SUMMARY:Curtis
DESCRIPTION:
URL:http://mako.hu/program/curtis/
CATEGORIES:zenei
ATTACH;FMTTYPE=image/jpeg:http://mako.hu/wp-content/uploads/2024/09/curtis.jpg
END:VEVENT
BEGIN:VEVENT
DTSTART;TZID=Europe/Budapest:20240913T230000
DTEND;TZID=Europe/Budapest:20240913T235900
DTSTAMP:20260423T010718
CREATED:20240904T122151Z
LAST-MODIFIED:20240904T122231Z
UID:32131-1726268400-1726271940@mako.hu
SUMMARY:Regán Lili
DESCRIPTION:
URL:http://mako.hu/program/regan-lili/
CATEGORIES:zenei
ATTACH;FMTTYPE=image/jpeg:http://mako.hu/wp-content/uploads/2024/09/regan-lili.jpg
END:VEVENT
BEGIN:VEVENT
DTSTART;TZID=Europe/Budapest:20240914T200000
DTEND;TZID=Europe/Budapest:20240914T213000
DTSTAMP:20260423T010718
CREATED:20240904T130320Z
LAST-MODIFIED:20240904T130336Z
UID:32150-1726344000-1726349400@mako.hu
SUMMARY:Dzsúdló
DESCRIPTION:
URL:http://mako.hu/program/dzsudlo/
CATEGORIES:zenei
ATTACH;FMTTYPE=image/jpeg:http://mako.hu/wp-content/uploads/2024/09/dzsudlo.jpg
END:VEVENT
BEGIN:VEVENT
DTSTART;TZID=Europe/Budapest:20240914T220000
DTEND;TZID=Europe/Budapest:20240914T230000
DTSTAMP:20260423T010718
CREATED:20240904T122449Z
LAST-MODIFIED:20240904T122508Z
UID:32132-1726351200-1726354800@mako.hu
SUMMARY:Animal Cannibals
DESCRIPTION:
URL:http://mako.hu/program/animal-cannibals/
CATEGORIES:zenei
ATTACH;FMTTYPE=image/jpeg:http://mako.hu/wp-content/uploads/2024/09/animal-cannibals-fb-event-post.jpg
END:VEVENT
BEGIN:VEVENT
DTSTART;TZID=Europe/Budapest:20240914T233000
DTEND;TZID=Europe/Budapest:20240915T010000
DTSTAMP:20260423T010718
CREATED:20240904T122627Z
LAST-MODIFIED:20240904T122627Z
UID:32133-1726356600-1726362000@mako.hu
SUMMARY:Aurevoir
DESCRIPTION:
URL:http://mako.hu/program/aurevoir/
CATEGORIES:zenei
ATTACH;FMTTYPE=image/jpeg:http://mako.hu/wp-content/uploads/2024/09/aurevoir-fb-event-post.jpg
END:VEVENT
BEGIN:VEVENT
DTSTART;TZID=Europe/Budapest:20240915T180000
DTEND;TZID=Europe/Budapest:20240915T190000
DTSTAMP:20260423T010718
CREATED:20240904T122728Z
LAST-MODIFIED:20240904T122728Z
UID:32134-1726423200-1726426800@mako.hu
SUMMARY:Bruno x Spacc
DESCRIPTION:
URL:http://mako.hu/program/bruno-x-spacc/
CATEGORIES:zenei
ATTACH;FMTTYPE=image/jpeg:http://mako.hu/wp-content/uploads/2024/09/bruno-x-spacc.jpg
END:VEVENT
BEGIN:VEVENT
DTSTART;TZID=Europe/Budapest:20240915T200000
DTEND;TZID=Europe/Budapest:20240915T210000
DTSTAMP:20260423T010718
CREATED:20240904T122816Z
LAST-MODIFIED:20240904T122816Z
UID:32135-1726430400-1726434000@mako.hu
SUMMARY:Demjén
DESCRIPTION:
URL:http://mako.hu/program/demjen/
CATEGORIES:zenei
ATTACH;FMTTYPE=image/jpeg:http://mako.hu/wp-content/uploads/2024/09/demjen-fb.jpg
END:VEVENT
BEGIN:VEVENT
DTSTART;VALUE=DATE:20240930
DTEND;VALUE=DATE:20241008
DTSTAMP:20260423T010718
CREATED:20241002T080536Z
LAST-MODIFIED:20241002T080536Z
UID:32338-1727654400-1728345599@mako.hu
SUMMARY:Ünnepi könyvhét
DESCRIPTION:
URL:http://mako.hu/program/unnepi-konyvhet/
LOCATION:József Attila Városi Könyvtár és Múzeum\, Deák Ferenc u. 2.\, Makó\, 6900\, Magyarország
CATEGORIES:esemény
END:VEVENT
BEGIN:VEVENT
DTSTART;TZID=Europe/Budapest:20241002T170000
DTEND;TZID=Europe/Budapest:20241002T180000
DTSTAMP:20260423T010718
CREATED:20241002T080715Z
LAST-MODIFIED:20241002T080715Z
UID:32340-1727888400-1727892000@mako.hu
SUMMARY:Múzeumi Évkönyv bemutatója
DESCRIPTION:
URL:http://mako.hu/program/muzeumi-evkonyv-bemutatoja/
LOCATION:József Attila Városi Könyvtár és Múzeum\, Deák Ferenc u. 2.\, Makó\, 6900\, Magyarország
CATEGORIES:esemény
END:VEVENT
BEGIN:VEVENT
DTSTART;TZID=Europe/Budapest:20241003T153000
DTEND;TZID=Europe/Budapest:20241003T170000
DTSTAMP:20260423T010718
CREATED:20241002T080842Z
LAST-MODIFIED:20241002T080842Z
UID:32342-1727969400-1727974800@mako.hu
SUMMARY:MŰZLI
DESCRIPTION:
URL:http://mako.hu/program/muzli/
LOCATION:József Attila Városi Könyvtár és Múzeum\, Deák Ferenc u. 2.\, Makó\, 6900\, Magyarország
CATEGORIES:esemény
END:VEVENT
BEGIN:VEVENT
DTSTART;TZID=Europe/Budapest:20241006T173000
DTEND;TZID=Europe/Budapest:20241006T190000
DTSTAMP:20260423T010718
CREATED:20241002T081121Z
LAST-MODIFIED:20241002T081132Z
UID:32344-1728235800-1728241200@mako.hu
SUMMARY:Tehetségaranyak: Dobsa Lajosra emlékezünk
DESCRIPTION:
URL:http://mako.hu/program/tehetsegaranyak-dobsa-lajosra-emlekezunk/
LOCATION:Csipkesor\, szoborpark\, Makó\, 6900\, Hungary
CATEGORIES:esemény
END:VEVENT
BEGIN:VEVENT
DTSTART;TZID=Europe/Budapest:20241006T180000
DTEND;TZID=Europe/Budapest:20241006T190000
DTSTAMP:20260423T010718
CREATED:20241002T081304Z
LAST-MODIFIED:20241002T081304Z
UID:32347-1728237600-1728241200@mako.hu
SUMMARY:Megemlékezés az Aradi vértanúkról
DESCRIPTION:
URL:http://mako.hu/program/megemlekezes-az-aradi-vertanukrol/
LOCATION:Kossuth-szobor\, Makó\, 6900\, Magyarország
CATEGORIES:esemény
END:VEVENT
BEGIN:VEVENT
DTSTART;TZID=Europe/Budapest:20241007T163000
DTEND;TZID=Europe/Budapest:20241007T180000
DTSTAMP:20260423T010718
CREATED:20241002T081423Z
LAST-MODIFIED:20241002T081423Z
UID:32349-1728318600-1728324000@mako.hu
SUMMARY:JA kör
DESCRIPTION:
URL:http://mako.hu/program/ja-kor/
LOCATION:József Attila Városi Könyvtár és Múzeum\, Deák Ferenc u. 2.\, Makó\, 6900\, Magyarország
CATEGORIES:esemény
END:VEVENT
BEGIN:VEVENT
DTSTART;VALUE=DATE:20241008
DTEND;VALUE=DATE:20241009
DTSTAMP:20260423T010718
CREATED:20241002T081549Z
LAST-MODIFIED:20241002T081549Z
UID:32351-1728345600-1728431999@mako.hu
SUMMARY:Mezei futóverseny
DESCRIPTION:
URL:http://mako.hu/program/mezei-futoverseny/
CATEGORIES:esemény
END:VEVENT
BEGIN:VEVENT
DTSTART;TZID=Europe/Budapest:20241008T190000
DTEND;TZID=Europe/Budapest:20241008T210000
DTSTAMP:20260423T010718
CREATED:20241002T081621Z
LAST-MODIFIED:20241002T081621Z
UID:32353-1728414000-1728421200@mako.hu
SUMMARY:Dumaszínház
DESCRIPTION:
URL:http://mako.hu/program/dumaszinhaz/
LOCATION:Hagymaház\, Posta u. 2.\, Makó\, 6900\, Magyarország
CATEGORIES:esemény
END:VEVENT
BEGIN:VEVENT
DTSTART;TZID=Europe/Budapest:20241009T160000
DTEND;TZID=Europe/Budapest:20241009T180000
DTSTAMP:20260423T010718
CREATED:20241002T081702Z
LAST-MODIFIED:20241002T081702Z
UID:32355-1728489600-1728496800@mako.hu
SUMMARY:Marosmenti Olvasókör
DESCRIPTION:
URL:http://mako.hu/program/marosmenti-olvasokor/
LOCATION:József Attila Városi Könyvtár és Múzeum\, Deák Ferenc u. 2.\, Makó\, 6900\, Magyarország
CATEGORIES:esemény
END:VEVENT
BEGIN:VEVENT
DTSTART;TZID=Europe/Budapest:20241010T093000
DTEND;TZID=Europe/Budapest:20241010T110000
DTSTAMP:20260423T010718
CREATED:20241002T081840Z
LAST-MODIFIED:20241002T081840Z
UID:32357-1728552600-1728558000@mako.hu
SUMMARY:Tehetségaranyak: Hervay Gizellára emlékezünk
DESCRIPTION:
URL:http://mako.hu/program/tehetsegaranyak-hervay-gizellara-emlekezunk/
CATEGORIES:esemény
END:VEVENT
BEGIN:VEVENT
DTSTART;TZID=Europe/Budapest:20241010T110000
DTEND;TZID=Europe/Budapest:20241010T120000
DTSTAMP:20260423T010718
CREATED:20241002T081945Z
LAST-MODIFIED:20241002T081945Z
UID:32359-1728558000-1728561600@mako.hu
SUMMARY:Szirbik Miklósra emlékezünk
DESCRIPTION:
URL:http://mako.hu/program/szirbik-miklosra-emlekezunk/
LOCATION:Csipkesor\, szoborpark\, Makó\, 6900\, Hungary
CATEGORIES:esemény
END:VEVENT
BEGIN:VEVENT
DTSTART;TZID=Europe/Budapest:20241010T170000
DTEND;TZID=Europe/Budapest:20241010T190000
DTSTAMP:20260423T010718
CREATED:20241002T082040Z
LAST-MODIFIED:20241002T082040Z
UID:32361-1728579600-1728586800@mako.hu
SUMMARY:Bíró Gábor "Kezdet és vég" című kiállításának megnyitója
DESCRIPTION:
URL:http://mako.hu/program/biro-gabor-kezdet-es-veg-cimu-kiallitasanak-megnyitoja/
LOCATION:József Attila Városi Könyvtár és Múzeum\, Deák Ferenc u. 2.\, Makó\, 6900\, Magyarország
CATEGORIES:esemény
END:VEVENT
BEGIN:VEVENT
DTSTART;TZID=Europe/Budapest:20241010T190000
DTEND;TZID=Europe/Budapest:20241010T210000
DTSTAMP:20260423T010718
CREATED:20241002T082118Z
LAST-MODIFIED:20241002T082118Z
UID:32363-1728586800-1728594000@mako.hu
SUMMARY:Színházi előadás
DESCRIPTION:
URL:http://mako.hu/program/szinhazi-eloadas/
LOCATION:Hagymaház\, Posta u. 2.\, Makó\, 6900\, Magyarország
CATEGORIES:esemény
END:VEVENT
BEGIN:VEVENT
DTSTART;TZID=Europe/Budapest:20241012T000000
DTEND;TZID=Europe/Budapest:20241012T000000
DTSTAMP:20260423T010718
CREATED:20241002T082202Z
LAST-MODIFIED:20241002T082202Z
UID:32365-1728691200-1728691200@mako.hu
SUMMARY:Kézilabda bajnoki mérkőzés
DESCRIPTION:
URL:http://mako.hu/program/kezilabda-bajnoki-merkozes/
LOCATION:Erdei János Városi Sportcsarnok\, Csanád vezér tér 6-10.\, Makó\, 6900\, Magyarország
CATEGORIES:esemény
END:VEVENT
BEGIN:VEVENT
DTSTART;TZID=Europe/Budapest:20241012T170000
DTEND;TZID=Europe/Budapest:20241012T190000
DTSTAMP:20260423T010718
CREATED:20241002T082306Z
LAST-MODIFIED:20241002T082306Z
UID:32367-1728752400-1728759600@mako.hu
SUMMARY:VI. Kaláka-tánc találkozó
DESCRIPTION:
URL:http://mako.hu/program/vi-kalaka-tanc-talalkozo/
LOCATION:Hagymaház\, Posta u. 2.\, Makó\, 6900\, Magyarország
CATEGORIES:esemény
END:VEVENT
BEGIN:VEVENT
DTSTART;TZID=Europe/Budapest:20241014T130000
DTEND;TZID=Europe/Budapest:20241014T150000
DTSTAMP:20260423T010718
CREATED:20241002T082341Z
LAST-MODIFIED:20241002T082341Z
UID:32369-1728910800-1728918000@mako.hu
SUMMARY:Prevenciós előadás
DESCRIPTION:
URL:http://mako.hu/program/prevencios-eloadas/
LOCATION:Hagymaház\, Posta u. 2.\, Makó\, 6900\, Magyarország
CATEGORIES:esemény
END:VEVENT
BEGIN:VEVENT
DTSTART;VALUE=DATE:20241015
DTEND;VALUE=DATE:20241113
DTSTAMP:20260423T010718
CREATED:20241111T065744Z
LAST-MODIFIED:20241111T065744Z
UID:32972-1728950400-1731455999@mako.hu
SUMMARY:Őszi sport 7-ek.
DESCRIPTION:
URL:http://mako.hu/program/oszi-sport-7-ek/
CATEGORIES:esemény
END:VEVENT
BEGIN:VEVENT
DTSTART;TZID=Europe/Budapest:20241017T000000
DTEND;TZID=Europe/Budapest:20241017T000000
DTSTAMP:20260423T010718
CREATED:20241002T082534Z
LAST-MODIFIED:20241002T082534Z
UID:32373-1729123200-1729123200@mako.hu
SUMMARY:KOFFER - Biró István parókus úti élménybeszámolója
DESCRIPTION:
URL:http://mako.hu/program/koffer-biro-istvan-parokus-uti-elmenybeszamoloja/
LOCATION:József Attila Városi Könyvtár és Múzeum\, Deák Ferenc u. 2.\, Makó\, 6900\, Magyarország
CATEGORIES:esemény
END:VEVENT
BEGIN:VEVENT
DTSTART;TZID=Europe/Budapest:20241017T153000
DTEND;TZID=Europe/Budapest:20241017T170000
DTSTAMP:20260423T010718
CREATED:20241002T082449Z
LAST-MODIFIED:20241002T082449Z
UID:32371-1729179000-1729184400@mako.hu
SUMMARY:MŰZLI
DESCRIPTION:
URL:http://mako.hu/program/muzli-2/
LOCATION:József Attila Városi Könyvtár és Múzeum\, Deák Ferenc u. 2.\, Makó\, 6900\, Magyarország
CATEGORIES:esemény
END:VEVENT
BEGIN:VEVENT
DTSTART;TZID=Europe/Budapest:20241018T000000
DTEND;TZID=Europe/Budapest:20241018T000000
DTSTAMP:20260423T010718
CREATED:20241002T082624Z
LAST-MODIFIED:20241002T082624Z
UID:32375-1729209600-1729209600@mako.hu
SUMMARY:Kézilabda bajnoki mérkőzés
DESCRIPTION:
URL:http://mako.hu/program/kezilabda-bajnoki-merkozes-2/
LOCATION:Erdei János Városi Sportcsarnok\, Csanád vezér tér 6-10.\, Makó\, 6900\, Magyarország
CATEGORIES:esemény
END:VEVENT
BEGIN:VEVENT
DTSTART;TZID=Europe/Budapest:20241018T100000
DTEND;TZID=Europe/Budapest:20241018T140000
DTSTAMP:20260423T010718
CREATED:20241002T082710Z
LAST-MODIFIED:20241002T082710Z
UID:32377-1729245600-1729260000@mako.hu
SUMMARY:Festészet napja
DESCRIPTION:
URL:http://mako.hu/program/festeszet-napja/
LOCATION:József Attila Városi Könyvtár és Múzeum\, Deák Ferenc u. 2.\, Makó\, 6900\, Magyarország
CATEGORIES:esemény
END:VEVENT
BEGIN:VEVENT
DTSTART;TZID=Europe/Budapest:20241018T150000
DTEND;TZID=Europe/Budapest:20241018T180000
DTSTAMP:20260423T010718
CREATED:20241002T082752Z
LAST-MODIFIED:20241002T082752Z
UID:32379-1729263600-1729274400@mako.hu
SUMMARY:Könyvklub - Kalász Aranka
DESCRIPTION:
URL:http://mako.hu/program/konyvklub-kalasz-aranka/
LOCATION:József Attila Városi Könyvtár és Múzeum\, Deák Ferenc u. 2.\, Makó\, 6900\, Magyarország
CATEGORIES:esemény
END:VEVENT
END:VCALENDAR