BEGIN:VCALENDAR
VERSION:2.0
PRODID:-//Makó - ECPv6.8.3//NONSGML v1.0//EN
CALSCALE:GREGORIAN
METHOD:PUBLISH
X-ORIGINAL-URL:http://mako.hu
X-WR-CALDESC:Events for Makó
REFRESH-INTERVAL;VALUE=DURATION:PT1H
X-Robots-Tag:noindex
X-PUBLISHED-TTL:PT1H
BEGIN:VTIMEZONE
TZID:Europe/Budapest
BEGIN:DAYLIGHT
TZOFFSETFROM:+0100
TZOFFSETTO:+0200
TZNAME:CEST
DTSTART:20230326T010000
END:DAYLIGHT
BEGIN:STANDARD
TZOFFSETFROM:+0200
TZOFFSETTO:+0100
TZNAME:CET
DTSTART:20231029T010000
END:STANDARD
BEGIN:DAYLIGHT
TZOFFSETFROM:+0100
TZOFFSETTO:+0200
TZNAME:CEST
DTSTART:20240331T010000
END:DAYLIGHT
BEGIN:STANDARD
TZOFFSETFROM:+0200
TZOFFSETTO:+0100
TZNAME:CET
DTSTART:20241027T010000
END:STANDARD
END:VTIMEZONE
BEGIN:VEVENT
DTSTART;TZID=Europe/Budapest:20230402T090000
DTEND;TZID=Europe/Budapest:20230402T110000
DTSTAMP:20260424T020620
CREATED:20230328T132609Z
LAST-MODIFIED:20230328T132609Z
UID:28354-1680426000-1680433200@mako.hu
SUMMARY:Rügyfakasztó
DESCRIPTION:
URL:http://mako.hu/program/rugyfakaszto/
CATEGORIES:esemény
ATTACH;FMTTYPE=image/jpeg:http://mako.hu/wp-content/uploads/2023/03/rugyfakaszto-scaled.jpg
END:VEVENT
BEGIN:VEVENT
DTSTART;VALUE=DATE:20230403
DTEND;VALUE=DATE:20230429
DTSTAMP:20260424T020620
CREATED:20230322T071754Z
LAST-MODIFIED:20230322T071754Z
UID:28250-1680480000-1682726399@mako.hu
SUMMARY:SZÍN-TÉR képzőművészeti kiállítás
DESCRIPTION:
URL:http://mako.hu/program/szin-ter-kepzomuveszeti-kiallitas/
LOCATION:Hagymaház\, Posta u. 2.\, Makó\, 6900\, Magyarország
CATEGORIES:kiállítás
ATTACH;FMTTYPE=image/jpeg:http://mako.hu/wp-content/uploads/2023/03/jag-szin-ter-meghivo-2023-04-03-scaled.jpg
END:VEVENT
BEGIN:VEVENT
DTSTART;TZID=Europe/Budapest:20230404T160000
DTEND;TZID=Europe/Budapest:20230404T180000
DTSTAMP:20260424T020620
CREATED:20230329T093943Z
LAST-MODIFIED:20230329T093943Z
UID:28374-1680624000-1680631200@mako.hu
SUMMARY:BOROS  ISTVÁN: A MAKÓI ÉVEK 1918 - 1981 kötet bemutató
DESCRIPTION:
URL:http://mako.hu/program/boros-istvan-a-makoi-evek-1918-1981-kotet-bemutato/
LOCATION:József Attila Városi Könyvtár és Múzeum\, Deák Ferenc u. 2.\, Makó\, 6900\, Magyarország
CATEGORIES:esemény
ATTACH;FMTTYPE=image/jpeg:http://mako.hu/wp-content/uploads/2023/03/boros-meghivo-2023-page-001-scaled.jpg
END:VEVENT
BEGIN:VEVENT
DTSTART;VALUE=DATE:20230408
DTEND;VALUE=DATE:20230409
DTSTAMP:20260424T020620
CREATED:20230404T115131Z
LAST-MODIFIED:20230404T115131Z
UID:28456-1680912000-1680998399@mako.hu
SUMMARY:Húsvétváró virágos kavalkád
DESCRIPTION:
URL:http://mako.hu/program/husvetvaro-viragos-kavalkad/
CATEGORIES:esemény
ATTACH;FMTTYPE=image/jpeg:http://mako.hu/wp-content/uploads/2023/04/husvetvaro-viragos-kavalkad-scaled.jpg
END:VEVENT
BEGIN:VEVENT
DTSTART;TZID=Europe/Budapest:20230411T190000
DTEND;TZID=Europe/Budapest:20230411T210000
DTSTAMP:20260424T020620
CREATED:20230307T133238Z
LAST-MODIFIED:20230307T133238Z
UID:28183-1681239600-1681246800@mako.hu
SUMMARY:A tanítónő
DESCRIPTION:
URL:http://mako.hu/program/a-tanitono/
LOCATION:Hagymaház\, Posta u. 2.\, Makó\, 6900\, Magyarország
CATEGORIES:előadás
END:VEVENT
BEGIN:VEVENT
DTSTART;VALUE=DATE:20230414
DTEND;VALUE=DATE:20230415
DTSTAMP:20260424T020620
CREATED:20230413T130227Z
LAST-MODIFIED:20230413T130238Z
UID:28474-1681430400-1681516799@mako.hu
SUMMARY:Holokauszt emléknap
DESCRIPTION:
URL:http://mako.hu/program/holokauszt-emleknap-4/
CATEGORIES:esemény
ATTACH;FMTTYPE=image/jpeg:http://mako.hu/wp-content/uploads/2023/04/holokauszt-emleknap.jpg
END:VEVENT
BEGIN:VEVENT
DTSTART;TZID=Europe/Budapest:20230418T190000
DTEND;TZID=Europe/Budapest:20230418T210000
DTSTAMP:20260424T020620
CREATED:20230413T130359Z
LAST-MODIFIED:20230413T130414Z
UID:28476-1681844400-1681851600@mako.hu
SUMMARY:Szemet szemért
DESCRIPTION:
URL:http://mako.hu/program/szemet-szemert/
CATEGORIES:előadás
ATTACH;FMTTYPE=image/jpeg:http://mako.hu/wp-content/uploads/2023/04/szemet-szemert-plakat-page-0001-scaled.jpg
END:VEVENT
BEGIN:VEVENT
DTSTART;VALUE=DATE:20230422
DTEND;VALUE=DATE:20230423
DTSTAMP:20260424T020620
CREATED:20230328T132432Z
LAST-MODIFIED:20230328T132457Z
UID:28355-1682121600-1682207999@mako.hu
SUMMARY:Bartók Béla Kerékpáros Emléktúra Nagyszentmiklósra
DESCRIPTION:
URL:http://mako.hu/program/bartok-bela-kerekparos-emlektura-nagyszentmiklosra/
CATEGORIES:esemény
ATTACH;FMTTYPE=image/jpeg:http://mako.hu/wp-content/uploads/2023/03/bartok-scaled.jpg
END:VEVENT
BEGIN:VEVENT
DTSTART;VALUE=DATE:20230511
DTEND;VALUE=DATE:20230515
DTSTAMP:20260424T020620
CREATED:20230502T111657Z
LAST-MODIFIED:20230503T142947Z
UID:28619-1683763200-1684108799@mako.hu
SUMMARY:VÁROSNAP 2023
DESCRIPTION:
URL:http://mako.hu/program/varosnap-2023/
CATEGORIES:esemény
ATTACH;FMTTYPE=image/jpeg:http://mako.hu/wp-content/uploads/2023/05/varonapi-plakat-scaled.jpg
END:VEVENT
BEGIN:VEVENT
DTSTART;TZID=Europe/Budapest:20230520T160000
DTEND;TZID=Europe/Budapest:20230520T190000
DTSTAMP:20260424T020620
CREATED:20230517T060400Z
LAST-MODIFIED:20230517T060400Z
UID:28710-1684598400-1684609200@mako.hu
SUMMARY:Tánc világnapi gála
DESCRIPTION:
URL:http://mako.hu/program/tanc-vilagnapi-gala-2/
CATEGORIES:zenei
ATTACH;FMTTYPE=image/jpeg:http://mako.hu/wp-content/uploads/2023/05/tanc-vilagnapi-gala.jpg
END:VEVENT
BEGIN:VEVENT
DTSTART;VALUE=DATE:20230527
DTEND;VALUE=DATE:20230529
DTSTAMP:20260424T020620
CREATED:20230518T111439Z
LAST-MODIFIED:20230518T111439Z
UID:28786-1685145600-1685318399@mako.hu
SUMMARY:Gyermeknap 2023
DESCRIPTION:
URL:http://mako.hu/program/gyermeknap-2023/
CATEGORIES:esemény
ATTACH;FMTTYPE=image/jpeg:http://mako.hu/wp-content/uploads/2023/05/gyermeknap-plakat-scaled.jpg
END:VEVENT
BEGIN:VEVENT
DTSTART;VALUE=DATE:20230602
DTEND;VALUE=DATE:20230603
DTSTAMP:20260424T020620
CREATED:20230530T063802Z
LAST-MODIFIED:20230530T063802Z
UID:28832-1685664000-1685750399@mako.hu
SUMMARY:NEMZETI ÖSSZETARTOZÁS NAPJA
DESCRIPTION:
URL:http://mako.hu/program/nemzeti-osszetartozas-napja-2/
CATEGORIES:esemény
ATTACH;FMTTYPE=image/jpeg:http://mako.hu/wp-content/uploads/2023/05/nemzeti-osszetartozas-plakat1-scaled.jpg
END:VEVENT
BEGIN:VEVENT
DTSTART;VALUE=DATE:20230612
DTEND;VALUE=DATE:20230613
DTSTAMP:20260424T020620
CREATED:20230605T111639Z
LAST-MODIFIED:20230605T111732Z
UID:28850-1686528000-1686614399@mako.hu
SUMMARY:Haydneum - A Nemzeti Filharmonikus zenekar koncertje
DESCRIPTION:
URL:http://mako.hu/program/haydneum/
CATEGORIES:zenei
ATTACH;FMTTYPE=image/jpeg:http://mako.hu/wp-content/uploads/2023/06/haydneum-scaled.jpg
END:VEVENT
BEGIN:VEVENT
DTSTART;TZID=Europe/Budapest:20230708T190000
DTEND;TZID=Europe/Budapest:20230708T210000
DTSTAMP:20260424T020620
CREATED:20230615T103428Z
LAST-MODIFIED:20230615T103428Z
UID:28902-1688842800-1688850000@mako.hu
SUMMARY:MAROS-PARTI DEÁK BIG BAND 10 ÉVES JUBILEUMI KONCERTJE
DESCRIPTION:
URL:http://mako.hu/program/maros-parti-deak-big-band-10-eves-jubileumi-koncertje/
CATEGORIES:zenei
ATTACH;FMTTYPE=image/jpeg:http://mako.hu/wp-content/uploads/2023/06/maros-parti-deak-big-band-scaled.jpg
END:VEVENT
BEGIN:VEVENT
DTSTART;VALUE=DATE:20230714
DTEND;VALUE=DATE:20230716
DTSTAMP:20260424T020620
CREATED:20230710T134550Z
LAST-MODIFIED:20230710T134624Z
UID:29085-1689292800-1689465599@mako.hu
SUMMARY:KERTMOZI HÉTVÉGE
DESCRIPTION:
URL:http://mako.hu/program/kertmozi-hetvege/
CATEGORIES:esemény
ATTACH;FMTTYPE=image/jpeg:http://mako.hu/wp-content/uploads/2023/07/kertmozi-hetvege-fb.jpg
END:VEVENT
BEGIN:VEVENT
DTSTART;VALUE=DATE:20230826
DTEND;VALUE=DATE:20230827
DTSTAMP:20260424T020620
CREATED:20230823T085546Z
LAST-MODIFIED:20230823T085605Z
UID:29231-1693008000-1693094399@mako.hu
SUMMARY:Szent István téri városrésznap
DESCRIPTION:
URL:http://mako.hu/program/szent-istvan-teri-varosresznap-3/
CATEGORIES:esemény
ATTACH;FMTTYPE=image/jpeg:http://mako.hu/wp-content/uploads/2023/08/img-4159.jpg
END:VEVENT
BEGIN:VEVENT
DTSTART;VALUE=DATE:20230902
DTEND;VALUE=DATE:20230903
DTSTAMP:20260424T020620
CREATED:20230823T085711Z
LAST-MODIFIED:20230823T085711Z
UID:29233-1693612800-1693699199@mako.hu
SUMMARY:Patai téri városrésznap
DESCRIPTION:
URL:http://mako.hu/program/patai-teri-varosresznap-3/
CATEGORIES:esemény
ATTACH;FMTTYPE=image/jpeg:http://mako.hu/wp-content/uploads/2023/08/img-4253-scaled.jpg
END:VEVENT
BEGIN:VEVENT
DTSTART;VALUE=DATE:20230903
DTEND;VALUE=DATE:20230904
DTSTAMP:20260424T020620
CREATED:20230823T085819Z
LAST-MODIFIED:20230823T085819Z
UID:29235-1693699200-1693785599@mako.hu
SUMMARY:Bogárzói templombúcsú
DESCRIPTION:
URL:http://mako.hu/program/bogarzoi-templombucsu-2/
CATEGORIES:esemény
ATTACH;FMTTYPE=image/jpeg:http://mako.hu/wp-content/uploads/2023/08/img-4251.jpg
END:VEVENT
BEGIN:VEVENT
DTSTART;VALUE=DATE:20230909
DTEND;VALUE=DATE:20230910
DTSTAMP:20260424T020620
CREATED:20230822T130920Z
LAST-MODIFIED:20230822T130920Z
UID:29226-1694217600-1694303999@mako.hu
SUMMARY:Kórushangverseny
DESCRIPTION:
URL:http://mako.hu/program/korushangverseny/
CATEGORIES:zenei
ATTACH;FMTTYPE=image/jpeg:http://mako.hu/wp-content/uploads/2023/08/missio-cantorum-plakat-330x480-2x4a-scaled.jpg
END:VEVENT
BEGIN:VEVENT
DTSTART;TZID=Europe/Budapest:20231006T180000
DTEND;TZID=Europe/Budapest:20231006T200000
DTSTAMP:20260424T020620
CREATED:20230928T084038Z
LAST-MODIFIED:20230928T084038Z
UID:29570-1696615200-1696622400@mako.hu
SUMMARY:ARADI VÉRTNÚK EMLÉKNAPJA
DESCRIPTION:
URL:http://mako.hu/program/aradi-vertnuk-emleknapja/
CATEGORIES:esemény
ATTACH;FMTTYPE=image/jpeg:http://mako.hu/wp-content/uploads/2023/09/okt6.jpg
END:VEVENT
BEGIN:VEVENT
DTSTART;TZID=Europe/Budapest:20231207T140000
DTEND;TZID=Europe/Budapest:20231207T180000
DTSTAMP:20260424T020620
CREATED:20231108T140555Z
LAST-MODIFIED:20231108T140555Z
UID:29844-1701957600-1701972000@mako.hu
SUMMARY:Idősek Karácsonya december 7.
DESCRIPTION:
URL:http://mako.hu/program/idosek-karacsonya-december-7/
ATTACH;FMTTYPE=image/jpeg:http://mako.hu/wp-content/uploads/2023/11/idosek-karacsonya-scaled.jpg
END:VEVENT
BEGIN:VEVENT
DTSTART;TZID=Europe/Budapest:20240119T160000
DTEND;TZID=Europe/Budapest:20240123T170000
DTSTAMP:20260424T020620
CREATED:20240115T064456Z
LAST-MODIFIED:20240115T064456Z
UID:30319-1705680000-1706029200@mako.hu
SUMMARY:Évszakok
DESCRIPTION:
URL:http://mako.hu/program/evszakok/
CATEGORIES:kiállítás
ATTACH;FMTTYPE=image/jpeg:http://mako.hu/wp-content/uploads/2024/01/evszakok-pinter-anna.jpg
END:VEVENT
BEGIN:VEVENT
DTSTART;VALUE=DATE:20240509
DTEND;VALUE=DATE:20240513
DTSTAMP:20260424T020620
CREATED:20240429T122725Z
LAST-MODIFIED:20240429T122725Z
UID:31335-1715212800-1715558399@mako.hu
SUMMARY:Makó városnapok
DESCRIPTION:
URL:http://mako.hu/program/mako-varosnapok/
CATEGORIES:zenei
ATTACH;FMTTYPE=image/jpeg:http://mako.hu/wp-content/uploads/2024/04/mako-varosnapok-oldalas-eloreszletes-scaled.jpg
END:VEVENT
BEGIN:VEVENT
DTSTART;VALUE=DATE:20240521
DTEND;VALUE=DATE:20240617
DTSTAMP:20260424T020620
CREATED:20240517T094700Z
LAST-MODIFIED:20240517T094700Z
UID:31583-1716249600-1718582399@mako.hu
SUMMARY:Holokauszt 80
DESCRIPTION:
URL:http://mako.hu/program/holokauszt-80/
CATEGORIES:esemény
ATTACH;FMTTYPE=image/png:http://mako.hu/wp-content/uploads/2024/05/holokauszt-80-mako.png
END:VEVENT
BEGIN:VEVENT
DTSTART;VALUE=DATE:20240614
DTEND;VALUE=DATE:20240617
DTSTAMP:20260424T020620
CREATED:20240603T122929Z
LAST-MODIFIED:20240603T122929Z
UID:31670-1718323200-1718582399@mako.hu
SUMMARY:Vinom dánom bornapok
DESCRIPTION:
URL:http://mako.hu/program/vinom-danom-bornapok/
CATEGORIES:esemény
END:VEVENT
BEGIN:VEVENT
DTSTART;VALUE=DATE:20240616
DTEND;VALUE=DATE:20240617
DTSTAMP:20260424T020620
CREATED:20240611T090944Z
LAST-MODIFIED:20240611T090944Z
UID:31736-1718496000-1718582399@mako.hu
SUMMARY:EMLÉKGÁLA
DESCRIPTION:
URL:http://mako.hu/program/emlekgala/
CATEGORIES:esemény
ATTACH;FMTTYPE=image/png:http://mako.hu/wp-content/uploads/2024/06/emlekgala.png
END:VEVENT
BEGIN:VEVENT
DTSTART;VALUE=DATE:20240623
DTEND;VALUE=DATE:20240624
DTSTAMP:20260424T020620
CREATED:20240611T090847Z
LAST-MODIFIED:20240611T090847Z
UID:31734-1719100800-1719187199@mako.hu
SUMMARY:Funny money
DESCRIPTION:
URL:http://mako.hu/program/funny-money/
CATEGORIES:előadás
ATTACH;FMTTYPE=image/jpeg:http://mako.hu/wp-content/uploads/2024/06/funny-money-banfalvy-studio.jpg
END:VEVENT
BEGIN:VEVENT
DTSTART;VALUE=DATE:20240705
DTEND;VALUE=DATE:20240706
DTSTAMP:20260424T020620
CREATED:20240611T090737Z
LAST-MODIFIED:20240611T090749Z
UID:31732-1720137600-1720223999@mako.hu
SUMMARY:Made in Hungária
DESCRIPTION:
URL:http://mako.hu/program/made-in-hungaria/
CATEGORIES:előadás
END:VEVENT
BEGIN:VEVENT
DTSTART;VALUE=DATE:20240709
DTEND;VALUE=DATE:20240710
DTSTAMP:20260424T020620
CREATED:20240611T090647Z
LAST-MODIFIED:20240611T090647Z
UID:31730-1720483200-1720569599@mako.hu
SUMMARY:Kártyajáték
DESCRIPTION:
URL:http://mako.hu/program/kartyajatek/
CATEGORIES:előadás
ATTACH;FMTTYPE=image/jpeg:http://mako.hu/wp-content/uploads/2024/06/kartyajatek-scaled.jpg
END:VEVENT
BEGIN:VEVENT
DTSTART;VALUE=DATE:20240719
DTEND;VALUE=DATE:20240720
DTSTAMP:20260424T020620
CREATED:20240611T090611Z
LAST-MODIFIED:20240611T091010Z
UID:31727-1721347200-1721433599@mako.hu
SUMMARY:Szív-billentyűk
DESCRIPTION:
URL:http://mako.hu/program/sziv-billentyuk/
CATEGORIES:előadás
ATTACH;FMTTYPE=image/jpeg:http://mako.hu/wp-content/uploads/2024/06/sziv-billentyuk-scaled.jpg
END:VEVENT
END:VCALENDAR