BEGIN:VCALENDAR
VERSION:2.0
PRODID:-//Makó - ECPv6.8.3//NONSGML v1.0//EN
CALSCALE:GREGORIAN
METHOD:PUBLISH
X-WR-CALNAME:Makó
X-ORIGINAL-URL:http://mako.hu
X-WR-CALDESC:Events for Makó
REFRESH-INTERVAL;VALUE=DURATION:PT1H
X-Robots-Tag:noindex
X-PUBLISHED-TTL:PT1H
BEGIN:VTIMEZONE
TZID:Europe/Budapest
BEGIN:DAYLIGHT
TZOFFSETFROM:+0100
TZOFFSETTO:+0200
TZNAME:CEST
DTSTART:20250330T010000
END:DAYLIGHT
BEGIN:STANDARD
TZOFFSETFROM:+0200
TZOFFSETTO:+0100
TZNAME:CET
DTSTART:20251026T010000
END:STANDARD
END:VTIMEZONE
BEGIN:VEVENT
DTSTART;TZID=Europe/Budapest:20251105T170000
DTEND;TZID=Europe/Budapest:20251105T183000
DTSTAMP:20260421T221415
CREATED:20251104T092828Z
LAST-MODIFIED:20251104T092828Z
UID:37056-1762362000-1762367400@mako.hu
SUMMARY:KÉSZ - Sterczer Hilda - Bátor nő
DESCRIPTION:
URL:http://mako.hu/program/kesz-sterczer-hilda-bator-no/
ATTACH;FMTTYPE=image/jpeg:http://mako.hu/wp-content/uploads/2025/11/574084597-1887783862116250-8893881136818027185-n.jpg
END:VEVENT
BEGIN:VEVENT
DTSTART;TZID=Europe/Budapest:20251107T090000
DTEND;TZID=Europe/Budapest:20251107T100000
DTSTAMP:20260421T221415
CREATED:20251030T094820Z
LAST-MODIFIED:20251030T094820Z
UID:37035-1762506000-1762509600@mako.hu
SUMMARY:Rendőrségi toborzás
DESCRIPTION:
URL:http://mako.hu/program/rendorsegi-toborzas-2/
ATTACH;FMTTYPE=image/jpeg:http://mako.hu/wp-content/uploads/2025/10/1107-mako.jpg
END:VEVENT
BEGIN:VEVENT
DTSTART;TZID=Europe/Budapest:20251107T180000
DTEND;TZID=Europe/Budapest:20251107T193000
DTSTAMP:20260421T221415
CREATED:20250924T161840Z
LAST-MODIFIED:20250924T161840Z
UID:36667-1762538400-1762543800@mako.hu
SUMMARY:Deszki Musical Csoport - Valahol Európában előadás
DESCRIPTION:
URL:http://mako.hu/program/deszki-musical-csoport-valahol-europaban-eloadas/
ATTACH;FMTTYPE=image/jpeg:http://mako.hu/wp-content/uploads/2025/09/545663097-1357119763089654-947723172518756709-n.jpg
END:VEVENT
BEGIN:VEVENT
DTSTART;TZID=Europe/Budapest:20251108T100000
DTEND;TZID=Europe/Budapest:20251108T120000
DTSTAMP:20260421T221415
CREATED:20251022T100108Z
LAST-MODIFIED:20251022T100108Z
UID:36921-1762596000-1762603200@mako.hu
SUMMARY:Márton napi családi délelőtt a József Attila Múzeumban
DESCRIPTION:
URL:http://mako.hu/program/marton-napi-csaladi-delelott-a-jozsef-attila-muzeumban/
ATTACH;FMTTYPE=image/jpeg:http://mako.hu/wp-content/uploads/2025/10/566201298-1391944406268571-795445081791278926-n.jpg
END:VEVENT
BEGIN:VEVENT
DTSTART;TZID=Europe/Budapest:20251108T180000
DTEND;TZID=Europe/Budapest:20251108T193000
DTSTAMP:20260421T221415
CREATED:20250924T161919Z
LAST-MODIFIED:20250924T161919Z
UID:36669-1762624800-1762630200@mako.hu
SUMMARY:Deszki Musical Csoport - Valahol Európában előadás
DESCRIPTION:
URL:http://mako.hu/program/deszki-musical-csoport-valahol-europaban-eloadas-2/
ATTACH;FMTTYPE=image/jpeg:http://mako.hu/wp-content/uploads/2025/09/545663097-1357119763089654-947723172518756709-n.jpg
END:VEVENT
BEGIN:VEVENT
DTSTART;TZID=Europe/Budapest:20251111T154500
DTEND;TZID=Europe/Budapest:20251111T170000
DTSTAMP:20260421T221415
CREATED:20251106T074351Z
LAST-MODIFIED:20251106T074351Z
UID:37077-1762875900-1762880400@mako.hu
SUMMARY:Makói Óvoda - lámpás felvonulás Márton-nap alkalmából
DESCRIPTION:
URL:http://mako.hu/program/makoi-ovoda-lampas-felvonulas-marton-nap-alkalmabol/
ATTACH;FMTTYPE=image/jpeg:http://mako.hu/wp-content/uploads/2025/11/571447978-1361465915774855-1516694942900217413-n.jpg
END:VEVENT
BEGIN:VEVENT
DTSTART;TZID=Europe/Budapest:20251113T173000
DTEND;TZID=Europe/Budapest:20251113T183000
DTSTAMP:20260421T221415
CREATED:20251112T093412Z
LAST-MODIFIED:20251112T093412Z
UID:37130-1763055000-1763058600@mako.hu
SUMMARY:KOFFER - Anikó Indiája - Sarnyai Anikó Emese élménybeszámolója
DESCRIPTION:
URL:http://mako.hu/program/koffer-aniko-indiaja-sarnyai-aniko-emese-elmenybeszamoloja/
ATTACH;FMTTYPE=image/jpeg:http://mako.hu/wp-content/uploads/2025/11/plakatsarnyaianiko.jpg
END:VEVENT
BEGIN:VEVENT
DTSTART;TZID=Europe/Budapest:20251114T140000
DTEND;TZID=Europe/Budapest:20251114T150000
DTSTAMP:20260421T221415
CREATED:20251112T094700Z
LAST-MODIFIED:20251112T094700Z
UID:37139-1763128800-1763132400@mako.hu
SUMMARY:Seres Mónika - Életmaraton könyvbemutató
DESCRIPTION:
URL:http://mako.hu/program/seres-monika-eletmaraton-konyvbemutato/
ATTACH;FMTTYPE=image/jpeg:http://mako.hu/wp-content/uploads/2025/11/576187521-1285115240315982-169220474617219055-n.jpg
END:VEVENT
BEGIN:VEVENT
DTSTART;TZID=Europe/Budapest:20251114T160000
DTEND;TZID=Europe/Budapest:20251114T170000
DTSTAMP:20260421T221415
CREATED:20251112T091336Z
LAST-MODIFIED:20251112T091336Z
UID:37127-1763136000-1763139600@mako.hu
SUMMARY:Petrovics Rozália - festő kiállítása
DESCRIPTION:
URL:http://mako.hu/program/petrovics-rozalia-festo-kiallitasa/
ATTACH;FMTTYPE=image/png:http://mako.hu/wp-content/uploads/2025/11/petrovics-rozalia-3.png
END:VEVENT
BEGIN:VEVENT
DTSTART;TZID=Europe/Budapest:20251115T190000
DTEND;TZID=Europe/Budapest:20251115T233000
DTSTAMP:20260421T221415
CREATED:20251105T082418Z
LAST-MODIFIED:20251105T082418Z
UID:37059-1763233200-1763249400@mako.hu
SUMMARY:Makói Óvoda - Jótékonysági Est
DESCRIPTION:
URL:http://mako.hu/program/makoi-ovoda-jotekonysagi-est-2/
ATTACH;FMTTYPE=image/jpeg:http://mako.hu/wp-content/uploads/2025/11/makoi-ovoda-bal.jpg
END:VEVENT
BEGIN:VEVENT
DTSTART;TZID=Europe/Budapest:20251118T100000
DTEND;TZID=Europe/Budapest:20251118T110000
DTSTAMP:20260421T221415
CREATED:20251112T133555Z
LAST-MODIFIED:20251112T133555Z
UID:37149-1763460000-1763463600@mako.hu
SUMMARY:Rendhagyó Énekkar - Magyar Nemzeti Férfikar
DESCRIPTION:
URL:http://mako.hu/program/rendhagyo-enekkar-magyar-nemzeti-ferfikar/
ATTACH;FMTTYPE=image/png:http://mako.hu/wp-content/uploads/2025/11/mnferfikar-2025-11-18.png
END:VEVENT
BEGIN:VEVENT
DTSTART;TZID=Europe/Budapest:20251118T163000
DTEND;TZID=Europe/Budapest:20251118T173000
DTSTAMP:20260421T221415
CREATED:20251105T084123Z
LAST-MODIFIED:20251105T084123Z
UID:37067-1763483400-1763487000@mako.hu
SUMMARY:Tudtad\, hogy a talaj él? - Dr. Sipos József (Siposgazda)
DESCRIPTION:
URL:http://mako.hu/program/tudtad-hogy-a-talaj-el-dr-sipos-jozsef-siposgazda/
ATTACH;FMTTYPE=image/jpeg:http://mako.hu/wp-content/uploads/2025/11/kertbarat-sipos-gazda.jpg
END:VEVENT
BEGIN:VEVENT
DTSTART;TZID=Europe/Budapest:20251118T170000
DTEND;TZID=Europe/Budapest:20251118T180000
DTSTAMP:20260421T221415
CREATED:20251112T094514Z
LAST-MODIFIED:20251112T094514Z
UID:37136-1763485200-1763488800@mako.hu
SUMMARY:Baranyiné Mariann - 22 kulcs az elégedett élethez könyvbemutató
DESCRIPTION:
URL:http://mako.hu/program/baranyine-mariann-22-kulcs-az-elegedett-elethez-konyvbemutato/
ATTACH;FMTTYPE=image/jpeg:http://mako.hu/wp-content/uploads/2025/11/580304207-1287972003363639-5598195876519908579-n.jpg
END:VEVENT
BEGIN:VEVENT
DTSTART;TZID=Europe/Budapest:20251119T170000
DTEND;TZID=Europe/Budapest:20251119T190000
DTSTAMP:20260421T221415
CREATED:20251112T090951Z
LAST-MODIFIED:20251112T090951Z
UID:37124-1763571600-1763578800@mako.hu
SUMMARY:Ifjú Zenebarátok Világnapja
DESCRIPTION:
URL:http://mako.hu/program/ifju-zenebaratok-vilagnapja-2/
ATTACH;FMTTYPE=image/jpeg:http://mako.hu/wp-content/uploads/2025/11/580580105-1424669449667879-7766545508688261097-n.jpg
END:VEVENT
BEGIN:VEVENT
DTSTART;TZID=Europe/Budapest:20251119T190000
DTEND;TZID=Europe/Budapest:20251119T210000
DTSTAMP:20260421T221415
CREATED:20251010T084457Z
LAST-MODIFIED:20251010T084457Z
UID:36831-1763578800-1763586000@mako.hu
SUMMARY:Claude Magnier: OSCAR című előadás
DESCRIPTION:
URL:http://mako.hu/program/claude-magnier-oscar-cimu-eloadas/
ATTACH;FMTTYPE=image/jpeg:http://mako.hu/wp-content/uploads/2025/10/561184162-1379381937530103-5615577625796153579-n.jpg
END:VEVENT
BEGIN:VEVENT
DTSTART;TZID=Europe/Budapest:20251120T170000
DTEND;TZID=Europe/Budapest:20251120T180000
DTSTAMP:20260421T221415
CREATED:20251112T093728Z
LAST-MODIFIED:20251112T093728Z
UID:37133-1763658000-1763661600@mako.hu
SUMMARY:Orcsik Roland - Hordozható óceán című kötetének bemutatója
DESCRIPTION:
URL:http://mako.hu/program/orcsik-roland-hordozhato-ocean-cimu-kotetenek-bemutatoja/
ATTACH;FMTTYPE=image/jpeg:http://mako.hu/wp-content/uploads/2025/11/580539939-1288686959958810-5702739279826759406-n.jpg
END:VEVENT
BEGIN:VEVENT
DTSTART;TZID=Europe/Budapest:20251122T150000
DTEND;TZID=Europe/Budapest:20251122T160000
DTSTAMP:20260421T221415
CREATED:20251112T132721Z
LAST-MODIFIED:20251112T132721Z
UID:37146-1763823600-1763827200@mako.hu
SUMMARY:Angyalok\, Őrzők\, Segítők - kiállítás megnyitó
DESCRIPTION:
URL:http://mako.hu/program/angyalok-orzok-segitok-kiallitas-megnyito/
ATTACH;FMTTYPE=image/jpeg:http://mako.hu/wp-content/uploads/2025/11/581268453-1289649779862528-749248180390386283-n.jpg
END:VEVENT
BEGIN:VEVENT
DTSTART;TZID=Europe/Budapest:20251124T170000
DTEND;TZID=Europe/Budapest:20251124T180000
DTSTAMP:20260421T221415
CREATED:20251118T105144Z
LAST-MODIFIED:20251118T105144Z
UID:37251-1764003600-1764007200@mako.hu
SUMMARY:"Hit\, Művészet\, Tudomány - a 100 éves Dávid Katalin élete" kiállítás megnyitó
DESCRIPTION:
URL:http://mako.hu/program/hit-muveszet-tudomany-a-100-eves-david-katalin-elete-kiallitas-megnyito/
ATTACH;FMTTYPE=image/jpeg:http://mako.hu/wp-content/uploads/2025/11/plakatdavidkatalin.jpg
END:VEVENT
BEGIN:VEVENT
DTSTART;TZID=Europe/Budapest:20251129T160000
DTEND;TZID=Europe/Budapest:20251129T180000
DTSTAMP:20260421T221415
CREATED:20251113T102908Z
LAST-MODIFIED:20251113T102908Z
UID:37212-1764432000-1764439200@mako.hu
SUMMARY:Adventi Traktoros Felvonulás
DESCRIPTION:
URL:http://mako.hu/program/adventi-traktoros-felvonulas/
ATTACH;FMTTYPE=image/jpeg:http://mako.hu/wp-content/uploads/2025/11/traktoros-felvonulas-scaled.jpg
END:VEVENT
BEGIN:VEVENT
DTSTART;TZID=Europe/Budapest:20251129T190000
DTEND;TZID=Europe/Budapest:20251129T220000
DTSTAMP:20260421T221415
CREATED:20251112T100620Z
LAST-MODIFIED:20251112T100620Z
UID:37142-1764442800-1764453600@mako.hu
SUMMARY:Borvacsora a Nyugi Bárban
DESCRIPTION:
URL:http://mako.hu/program/borvacsora-a-nyugi-barban/
ATTACH;FMTTYPE=image/png:http://mako.hu/wp-content/uploads/2025/11/borkostolo-1x1-1.png
END:VEVENT
BEGIN:VEVENT
DTSTART;TZID=Europe/Budapest:20251130T170000
DTEND;TZID=Europe/Budapest:20251130T210000
DTSTAMP:20260421T221415
CREATED:20251009T112236Z
LAST-MODIFIED:20251118T104808Z
UID:36811-1764522000-1764536400@mako.hu
SUMMARY:Makói Advent I.
DESCRIPTION:
URL:http://mako.hu/program/makoi-advent-i/
ATTACH;FMTTYPE=image/jpeg:http://mako.hu/wp-content/uploads/2025/10/makoi-advent-2025-fb-1.jpg
END:VEVENT
BEGIN:VEVENT
DTSTART;TZID=Europe/Budapest:20251201T150000
DTEND;TZID=Europe/Budapest:20251201T170000
DTSTAMP:20260421T221415
CREATED:20251128T093436Z
LAST-MODIFIED:20251128T093436Z
UID:37355-1764601200-1764608400@mako.hu
SUMMARY:Adventi támogató vásár
DESCRIPTION:
URL:http://mako.hu/program/adventi-tamogato-vasar/
ATTACH;FMTTYPE=image/jpeg:http://mako.hu/wp-content/uploads/2025/11/590862933-1439580438176780-523798805161462958-n.jpg
END:VEVENT
BEGIN:VEVENT
DTSTART;TZID=Europe/Budapest:20251202T150000
DTEND;TZID=Europe/Budapest:20251202T180000
DTSTAMP:20260421T221415
CREATED:20251113T103013Z
LAST-MODIFIED:20251202T130136Z
UID:37215-1764687600-1764698400@mako.hu
SUMMARY:Idősek Karácsonya
DESCRIPTION:
URL:http://mako.hu/program/idosek-karacsonya-5/
ATTACH;FMTTYPE=image/jpeg:http://mako.hu/wp-content/uploads/2025/11/idosek-karacsonya-2025.jpg
END:VEVENT
BEGIN:VEVENT
DTSTART;TZID=Europe/Budapest:20251202T170000
DTEND;TZID=Europe/Budapest:20251202T180000
DTSTAMP:20260421T221415
CREATED:20251125T074947Z
LAST-MODIFIED:20251125T074947Z
UID:37301-1764694800-1764698400@mako.hu
SUMMARY:Vízre írt emlékek - Kiss Adél festőművész kiállítása
DESCRIPTION:
URL:http://mako.hu/program/vizre-irt-emlekek-kiss-adel-festomuvesz-kiallitasa/
ATTACH;FMTTYPE=image/jpeg:http://mako.hu/wp-content/uploads/2025/11/589837211-1423511916450438-6481704729793418248-n.jpg
END:VEVENT
BEGIN:VEVENT
DTSTART;TZID=Europe/Budapest:20251204T170000
DTEND;TZID=Europe/Budapest:20251204T180000
DTSTAMP:20260421T221415
CREATED:20251128T093300Z
LAST-MODIFIED:20251128T093300Z
UID:37352-1764867600-1764871200@mako.hu
SUMMARY:Koffer előadássorozat – NEW YORK VIBE 2.
DESCRIPTION:
URL:http://mako.hu/program/koffer-eloadassorozat-new-york-vibe-2/
ATTACH;FMTTYPE=image/jpeg:http://mako.hu/wp-content/uploads/2025/11/586665661-1301856365308536-1160625757288257421-n.jpg
END:VEVENT
BEGIN:VEVENT
DTSTART;TZID=Europe/Budapest:20251205T140000
DTEND;TZID=Europe/Budapest:20251205T180000
DTSTAMP:20260421T221415
CREATED:20251105T082644Z
LAST-MODIFIED:20251105T082644Z
UID:37062-1764943200-1764957600@mako.hu
SUMMARY:"Az elhivatottság példája" - Galamb József halálának 70. évfordulója
DESCRIPTION:
URL:http://mako.hu/program/az-elhivatottsag-peldaja-galamb-jozsef-halalanak-70-evforduloja/
ATTACH;FMTTYPE=image/jpeg:http://mako.hu/wp-content/uploads/2025/11/575090572-1260112986150998-2352204615903037619-n.jpg
END:VEVENT
BEGIN:VEVENT
DTSTART;TZID=Europe/Budapest:20251206T140000
DTEND;TZID=Europe/Budapest:20251206T160000
DTSTAMP:20260421T221415
CREATED:20251126T150757Z
LAST-MODIFIED:20251126T150757Z
UID:37323-1765029600-1765036800@mako.hu
SUMMARY:Mikulás napi ünnepség a Dr. Sánta Sándor Közösségi Házban
DESCRIPTION:
URL:http://mako.hu/program/mikulas-napi-unnepseg-a-dr-santa-sandor-kozossegi-hazban/
ATTACH;FMTTYPE=image/jpeg:http://mako.hu/wp-content/uploads/2025/11/mikulas-delutan.jpg
END:VEVENT
BEGIN:VEVENT
DTSTART;TZID=Europe/Budapest:20251206T140000
DTEND;TZID=Europe/Budapest:20251206T180000
DTSTAMP:20260421T221415
CREATED:20251125T093506Z
LAST-MODIFIED:20251125T093506Z
UID:37307-1765029600-1765044000@mako.hu
SUMMARY:VargaBalett Táncműhely - Diótörő
DESCRIPTION:
URL:http://mako.hu/program/vargabalett-tancmuhely-diotoro/
ATTACH;FMTTYPE=image/jpeg:http://mako.hu/wp-content/uploads/2025/11/586684112-1414424057358670-8075420851009506681-n.jpg
END:VEVENT
BEGIN:VEVENT
DTSTART;TZID=Europe/Budapest:20251207T100000
DTEND;TZID=Europe/Budapest:20251207T160000
DTSTAMP:20260421T221415
CREATED:20251125T145016Z
LAST-MODIFIED:20251125T145016Z
UID:37310-1765101600-1765123200@mako.hu
SUMMARY:VargaBalett Táncműhely - Diótörő
DESCRIPTION:
URL:http://mako.hu/program/vargabalett-tancmuhely-diotoro-2/
ATTACH;FMTTYPE=image/jpeg:http://mako.hu/wp-content/uploads/2025/11/586684112-1414424057358670-8075420851009506681-n-1.jpg
END:VEVENT
BEGIN:VEVENT
DTSTART;TZID=Europe/Budapest:20251207T170000
DTEND;TZID=Europe/Budapest:20251207T210000
DTSTAMP:20260421T221415
CREATED:20251009T112309Z
LAST-MODIFIED:20251110T080945Z
UID:36813-1765126800-1765141200@mako.hu
SUMMARY:Makói Advent II.
DESCRIPTION:
URL:http://mako.hu/program/makoi-advent-ii/
ATTACH;FMTTYPE=image/jpeg:http://mako.hu/wp-content/uploads/2025/10/makoi-advent-2025-nagypalkat-scaled.jpg
END:VEVENT
END:VCALENDAR