BEGIN:VCALENDAR
VERSION:2.0
PRODID:-//Makó - ECPv6.8.3//NONSGML v1.0//EN
CALSCALE:GREGORIAN
METHOD:PUBLISH
X-WR-CALNAME:Makó
X-ORIGINAL-URL:http://mako.hu
X-WR-CALDESC:Events for Makó
REFRESH-INTERVAL;VALUE=DURATION:PT1H
X-Robots-Tag:noindex
X-PUBLISHED-TTL:PT1H
BEGIN:VTIMEZONE
TZID:Europe/Budapest
BEGIN:DAYLIGHT
TZOFFSETFROM:+0100
TZOFFSETTO:+0200
TZNAME:CEST
DTSTART:20250330T010000
END:DAYLIGHT
BEGIN:STANDARD
TZOFFSETFROM:+0200
TZOFFSETTO:+0100
TZNAME:CET
DTSTART:20251026T010000
END:STANDARD
END:VTIMEZONE
BEGIN:VEVENT
DTSTART;TZID=Europe/Budapest:20250306T080000
DTEND;TZID=Europe/Budapest:20250306T160000
DTSTAMP:20260422T103607
CREATED:20250306T142310Z
LAST-MODIFIED:20250306T142310Z
UID:34335-1741248000-1741276800@mako.hu
SUMMARY:Nyílt nap a Makói Katolikus Általános Iskolában
DESCRIPTION:
URL:http://mako.hu/program/nyilt-nap-a-makoi-katolikus-altalanos-iskolaban/
ATTACH;FMTTYPE=image/jpeg:http://mako.hu/wp-content/uploads/2025/03/477724672-9149591721803488-8704249229298442674-n.jpg
END:VEVENT
BEGIN:VEVENT
DTSTART;TZID=Europe/Budapest:20250306T163000
DTEND;TZID=Europe/Budapest:20250306T163000
DTSTAMP:20260422T103607
CREATED:20250228T123558Z
LAST-MODIFIED:20250228T123558Z
UID:34251-1741278600-1741278600@mako.hu
SUMMARY:Ötórai tea - Mygan Art rendhagyó "videó discója" II. rész
DESCRIPTION:
URL:http://mako.hu/program/otorai-tea-mygan-art-rendhagyo-video-discoja-ii-resz/
LOCATION:József Attila Városi Könyvtár és Múzeum\, Deák Ferenc u. 2.\, Makó\, 6900\, Magyarország
CATEGORIES:előadás,kulturális
ATTACH;FMTTYPE=image/jpeg:http://mako.hu/wp-content/uploads/2025/02/plakat2025marc06-scaled.jpg
END:VEVENT
BEGIN:VEVENT
DTSTART;TZID=Europe/Budapest:20250306T190000
DTEND;TZID=Europe/Budapest:20250306T190000
DTSTAMP:20260422T103607
CREATED:20250206T123520Z
LAST-MODIFIED:20250206T123520Z
UID:33913-1741287600-1741287600@mako.hu
SUMMARY:Forgách András: Tercett – Móricz Zsigmond szerelmei
DESCRIPTION:
URL:http://mako.hu/program/forgach-andras-tercett-moricz-zsigmond-szerelmei/
CATEGORIES:előadás
ATTACH;FMTTYPE=image/jpeg:http://mako.hu/wp-content/uploads/2025/02/476132945-1160738632727769-3269514523225186455-n-1.jpg
ORGANIZER;CN="Hagymah%C3%A1z":MAILTO:makoihagymahaz@gmail.com
END:VEVENT
BEGIN:VEVENT
DTSTART;TZID=Europe/Budapest:20250307T090000
DTEND;TZID=Europe/Budapest:20250307T120000
DTSTAMP:20260422T103607
CREATED:20250306T141629Z
LAST-MODIFIED:20250306T141629Z
UID:34326-1741338000-1741348800@mako.hu
SUMMARY:Beporzók napja
DESCRIPTION:
URL:http://mako.hu/program/beporzok-napja/
LOCATION:József Attila Városi Könyvtár és Múzeum\, Deák Ferenc u. 2.\, Makó\, 6900\, Magyarország
CATEGORIES:esemény,kiállítás
ATTACH;FMTTYPE=image/png:http://mako.hu/wp-content/uploads/2025/03/beporzok-napja.png
END:VEVENT
BEGIN:VEVENT
DTSTART;TZID=Europe/Budapest:20250307T150000
DTEND;TZID=Europe/Budapest:20250307T170000
DTSTAMP:20260422T103607
CREATED:20250210T090542Z
LAST-MODIFIED:20250210T090758Z
UID:33941-1741359600-1741366800@mako.hu
SUMMARY:Bekukkantó – Makói Óvoda (Erdélyi püspök utcai székhelyintézmény)
DESCRIPTION:
URL:http://mako.hu/program/bekukkanto-makoi-ovoda-erdelyi-puspok-utcai-szekhelyintezmeny/
ATTACH;FMTTYPE=image/jpeg:http://mako.hu/wp-content/uploads/2025/02/bekukkantoplakatkozos2025.jpg
END:VEVENT
BEGIN:VEVENT
DTSTART;TZID=Europe/Budapest:20250307T170000
DTEND;TZID=Europe/Budapest:20250307T180000
DTSTAMP:20260422T103607
CREATED:20250306T142023Z
LAST-MODIFIED:20250306T142023Z
UID:34332-1741366800-1741370400@mako.hu
SUMMARY:"Aranyfonal" kiállítás megnyitó
DESCRIPTION:
URL:http://mako.hu/program/aranyfonal-kiallitas-megnyito/
LOCATION:Hagymaház Galéria\, Posta u. 2.\, Makó\, 6900\, Magyarország
CATEGORIES:esemény,kiállítás
ATTACH;FMTTYPE=image/jpeg:http://mako.hu/wp-content/uploads/2025/03/plakatlorinczmm.jpg
END:VEVENT
BEGIN:VEVENT
DTSTART;TZID=Europe/Budapest:20250308T150000
DTEND;TZID=Europe/Budapest:20250308T163000
DTSTAMP:20260422T103607
CREATED:20250123T140639Z
LAST-MODIFIED:20250307T143034Z
UID:33712-1741446000-1741451400@mako.hu
SUMMARY:Tavaszköszöntő
DESCRIPTION:
URL:http://mako.hu/program/tavaszkoszonto-6/
LOCATION:Hagymaház\, Posta u. 2.\, Makó\, 6900\, Magyarország
CATEGORIES:esemény
ATTACH;FMTTYPE=image/jpeg:http://mako.hu/wp-content/uploads/2025/01/tavaszkoszonto-plakat-idopontvaltozas-scaled.jpg
END:VEVENT
BEGIN:VEVENT
DTSTART;TZID=Europe/Budapest:20250308T160000
DTEND;TZID=Europe/Budapest:20250308T170000
DTSTAMP:20260422T103607
CREATED:20250306T141836Z
LAST-MODIFIED:20250306T141836Z
UID:34329-1741449600-1741453200@mako.hu
SUMMARY:Hagyományörző Roma Muzsikus Műhely
DESCRIPTION:
URL:http://mako.hu/program/hagyomanyorzo-roma-muzsikus-muhely/
CATEGORIES:esemény,zenei
ATTACH;FMTTYPE=image/jpeg:http://mako.hu/wp-content/uploads/2025/03/480970921-599033809782764-275283162231569307-n.jpg
END:VEVENT
BEGIN:VEVENT
DTSTART;TZID=Europe/Budapest:20250310T160000
DTEND;TZID=Europe/Budapest:20250310T180000
DTSTAMP:20260422T103607
CREATED:20250307T100342Z
LAST-MODIFIED:20250307T100342Z
UID:34360-1741622400-1741629600@mako.hu
SUMMARY:Stílus- és Bútortörténet- a művészettörténet előadássorozat: Art Deco
DESCRIPTION:
URL:http://mako.hu/program/stilus-es-butortortenet-a-muveszettortenet-eloadassorozat-art-deco/
LOCATION:József Attila Városi Könyvtár és Múzeum\, Deák Ferenc u. 2.\, Makó\, 6900\, Magyarország
CATEGORIES:előadás
ATTACH;FMTTYPE=image/jpeg:http://mako.hu/wp-content/uploads/2025/03/2025marciusplakat.jpg
END:VEVENT
BEGIN:VEVENT
DTSTART;TZID=Europe/Budapest:20250312T150000
DTEND;TZID=Europe/Budapest:20250312T160000
DTSTAMP:20260422T103607
CREATED:20250304T094058Z
LAST-MODIFIED:20250304T094058Z
UID:34272-1741791600-1741795200@mako.hu
SUMMARY:"Kutasd a múltad!" 2025 - Klubfoglalkozás felnőtteknek
DESCRIPTION:
URL:http://mako.hu/program/kutasd-a-multad-2025-klubfoglalkozas-felnotteknek/
CATEGORIES:előadás,kulturális
ATTACH;FMTTYPE=image/jpeg:http://mako.hu/wp-content/uploads/2025/03/image002.jpg
END:VEVENT
BEGIN:VEVENT
DTSTART;TZID=Europe/Budapest:20250314T100000
DTEND;TZID=Europe/Budapest:20250314T173000
DTSTAMP:20260422T103607
CREATED:20250304T125141Z
LAST-MODIFIED:20250304T125141Z
UID:34280-1741946400-1741973400@mako.hu
SUMMARY:Szezonnyitás a Lombkorona sétányon
DESCRIPTION:
URL:http://mako.hu/program/szezonnyitas-a-lombkorona-setanyon/
LOCATION:Lombkorona sétány\, Makó\, 6900\, Hungary
CATEGORIES:sport,szabadidő
ATTACH;FMTTYPE=image/jpeg:http://mako.hu/wp-content/uploads/2025/03/lombkorona-nyitas-2025.jpg
END:VEVENT
BEGIN:VEVENT
DTSTART;TZID=Europe/Budapest:20250314T150000
DTEND;TZID=Europe/Budapest:20250314T170000
DTSTAMP:20260422T103607
CREATED:20250210T090659Z
LAST-MODIFIED:20250313T081831Z
UID:33944-1741964400-1741971600@mako.hu
SUMMARY:Bekukkantó – Makói Óvoda (Kassai utcai tagintézmény)
DESCRIPTION:
URL:http://mako.hu/program/bekukkanto-makoi-ovoda-kassai-utcai-tagintezmeny/
ATTACH;FMTTYPE=image/jpeg:http://mako.hu/wp-content/uploads/2025/02/480964071-1168323648422417-2928103688666605997-n.jpg
END:VEVENT
BEGIN:VEVENT
DTSTART;TZID=Europe/Budapest:20250314T180000
DTEND;TZID=Europe/Budapest:20250314T200000
DTSTAMP:20260422T103607
CREATED:20250227T203526Z
LAST-MODIFIED:20250227T203526Z
UID:34203-1741975200-1741982400@mako.hu
SUMMARY:"Fáklyával és lángoló szívvel a hősökért!"
DESCRIPTION:
URL:http://mako.hu/program/faklyaval-es-langolo-szivvel-a-hosokert-2/
CATEGORIES:esemény,kulturális
ATTACH;FMTTYPE=image/jpeg:http://mako.hu/wp-content/uploads/2025/02/fb-2025-03-14.jpg
ORGANIZER;CN="Mak%C3%B3 V%C3%A1ros %C3%96nkorm%C3%A1nyzata":MAILTO:info@mako.hu
END:VEVENT
BEGIN:VEVENT
DTSTART;TZID=Europe/Budapest:20250315T183000
DTEND;TZID=Europe/Budapest:20250315T233000
DTSTAMP:20260422T103607
CREATED:20250310T164249Z
LAST-MODIFIED:20250310T164249Z
UID:34379-1742063400-1742081400@mako.hu
SUMMARY:Makói Turisztika Bál
DESCRIPTION:
URL:http://mako.hu/program/makoi-turisztika-bal/
CATEGORIES:kulturális
ATTACH;FMTTYPE=image/jpeg:http://mako.hu/wp-content/uploads/2025/03/480864160-1165803895552874-8680629165246735878-n.jpg
END:VEVENT
BEGIN:VEVENT
DTSTART;VALUE=DATE:20250318
DTEND;VALUE=DATE:20250319
DTSTAMP:20260422T103607
CREATED:20250313T082236Z
LAST-MODIFIED:20250313T084330Z
UID:34419-1742256000-1742342399@mako.hu
SUMMARY:Tavaszi nyugdíjas találkozó és egészségnap
DESCRIPTION:
URL:http://mako.hu/program/tavaszi-nyugdijas-talalkozo-es-egeszsegnap/
LOCATION:Hagymatikum\, Makovecz tér 6.\, Makó\, 6900\, Magyarország
CATEGORIES:szabadidő
ATTACH;FMTTYPE=image/jpeg:http://mako.hu/wp-content/uploads/2025/03/483568605-1030148652480499-5277936578881311088-n.jpg
END:VEVENT
BEGIN:VEVENT
DTSTART;TZID=Europe/Budapest:20250318T150000
DTEND;TZID=Europe/Budapest:20250318T170000
DTSTAMP:20260422T103607
CREATED:20250310T131835Z
LAST-MODIFIED:20250310T131835Z
UID:34370-1742310000-1742317200@mako.hu
SUMMARY:Kamionok Szárnyán
DESCRIPTION:
URL:http://mako.hu/program/kamionok-szarnyan/
LOCATION:József Attila Városi Könyvtár és Múzeum\, Deák Ferenc u. 2.\, Makó\, 6900\, Magyarország
CATEGORIES:kiállítás
ATTACH;FMTTYPE=image/jpeg:http://mako.hu/wp-content/uploads/2025/03/bonifacplakat.jpg
END:VEVENT
BEGIN:VEVENT
DTSTART;TZID=Europe/Budapest:20250320T150000
DTEND;TZID=Europe/Budapest:20250320T160000
DTSTAMP:20260422T103607
CREATED:20250306T142525Z
LAST-MODIFIED:20250306T142525Z
UID:34338-1742482800-1742486400@mako.hu
SUMMARY:kARTon-KÖRforgás kiállítása
DESCRIPTION:
URL:http://mako.hu/program/karton-korforgas-kiallitasa/
CATEGORIES:képzőművészeti,kiállítás
ATTACH;FMTTYPE=image/jpeg:http://mako.hu/wp-content/uploads/2025/03/481811877-1183444997123799-7852837476794694426-n.jpg
END:VEVENT
BEGIN:VEVENT
DTSTART;TZID=Europe/Budapest:20250320T163000
DTEND;TZID=Europe/Budapest:20250320T180000
DTSTAMP:20260422T103607
CREATED:20250318T100240Z
LAST-MODIFIED:20250318T100240Z
UID:34470-1742488200-1742493600@mako.hu
SUMMARY:Ötórai tea - Mygan Art
DESCRIPTION:
URL:http://mako.hu/program/otorai-tea-mygan-art-2/
LOCATION:József Attila Városi Könyvtár és Múzeum\, Deák Ferenc u. 2.\, Makó\, 6900\, Magyarország
CATEGORIES:esemény
ATTACH;FMTTYPE=image/jpeg:http://mako.hu/wp-content/uploads/2025/03/plakat-mygan-otorai-tea-marc20-scaled.jpg
END:VEVENT
BEGIN:VEVENT
DTSTART;VALUE=DATE:20250322
DTEND;VALUE=DATE:20250323
DTSTAMP:20260422T103607
CREATED:20250313T074634Z
LAST-MODIFIED:20250313T074634Z
UID:34414-1742601600-1742687999@mako.hu
SUMMARY:Erdő ébresztő tavaszi séta - EFI
DESCRIPTION:
URL:http://mako.hu/program/erdo-ebreszto-tavaszi-seta-efi/
CATEGORIES:szabadidő
ATTACH;FMTTYPE=image/jpeg:http://mako.hu/wp-content/uploads/2025/03/483487049-1069807125189444-5142915095872987602-n.jpg
END:VEVENT
BEGIN:VEVENT
DTSTART;TZID=Europe/Budapest:20250322T083000
DTEND;TZID=Europe/Budapest:20250322T120000
DTSTAMP:20260422T103607
CREATED:20250310T164819Z
LAST-MODIFIED:20250310T164819Z
UID:34383-1742632200-1742644800@mako.hu
SUMMARY:Makói Óvoda - Művészeti Gála
DESCRIPTION:
URL:http://mako.hu/program/makoi-ovoda-muveszeti-gala/
CATEGORIES:kulturális
ATTACH;FMTTYPE=image/jpeg:http://mako.hu/wp-content/uploads/2025/03/481470727-1172568087997973-7093793824969142294-n.jpg
END:VEVENT
BEGIN:VEVENT
DTSTART;TZID=Europe/Budapest:20250322T160000
DTEND;TZID=Europe/Budapest:20250322T170000
DTSTAMP:20260422T103607
CREATED:20250318T163728Z
LAST-MODIFIED:20250318T163728Z
UID:34475-1742659200-1742662800@mako.hu
SUMMARY:Hagyományörző Roma Muzsikus Műhely
DESCRIPTION:
URL:http://mako.hu/program/hagyomanyorzo-roma-muzsikus-muhely-2/
CATEGORIES:esemény,zenei
ATTACH;FMTTYPE=image/jpeg:http://mako.hu/wp-content/uploads/2025/03/484841484-122116749044783679-911351374809432259-n.jpg
END:VEVENT
BEGIN:VEVENT
DTSTART;TZID=Europe/Budapest:20250322T190000
DTEND;TZID=Europe/Budapest:20250322T235900
DTSTAMP:20260422T103607
CREATED:20250203T082336Z
LAST-MODIFIED:20250203T082336Z
UID:33893-1742670000-1742687940@mako.hu
SUMMARY:16. Pápay bál
DESCRIPTION:
URL:http://mako.hu/program/16-papay-bal/
CATEGORIES:ünnep
ATTACH;FMTTYPE=image/jpeg:http://mako.hu/wp-content/uploads/2025/02/475521276-10081504458532311-4130897352062313592-n.jpg
END:VEVENT
BEGIN:VEVENT
DTSTART;TZID=Europe/Budapest:20250324T160000
DTEND;TZID=Europe/Budapest:20250324T180000
DTSTAMP:20260422T103607
CREATED:20250307T100400Z
LAST-MODIFIED:20250307T100400Z
UID:34361-1742832000-1742839200@mako.hu
SUMMARY:Stílus- és Bútortörténet- a művészettörténet előadássorozat: Modernizumus
DESCRIPTION:
URL:http://mako.hu/program/stilus-es-butortortenet-a-muveszettortenet-eloadassorozat-modernizumus/
LOCATION:József Attila Városi Könyvtár és Múzeum\, Deák Ferenc u. 2.\, Makó\, 6900\, Magyarország
CATEGORIES:előadás
ATTACH;FMTTYPE=image/jpeg:http://mako.hu/wp-content/uploads/2025/03/2025marciusplakat.jpg
END:VEVENT
BEGIN:VEVENT
DTSTART;TZID=Europe/Budapest:20250325T110000
DTEND;TZID=Europe/Budapest:20250325T110000
DTSTAMP:20260422T103607
CREATED:20250228T123716Z
LAST-MODIFIED:20250320T130716Z
UID:34253-1742900400-1742900400@mako.hu
SUMMARY:Istók Margit emlékezetére szervezett séta
DESCRIPTION:
URL:http://mako.hu/program/istok-margit-emlektabla-avatas/
ATTACH;FMTTYPE=image/png:http://mako.hu/wp-content/uploads/2025/02/istok-m-seta-plakat.png
END:VEVENT
BEGIN:VEVENT
DTSTART;TZID=Europe/Budapest:20250325T170000
DTEND;TZID=Europe/Budapest:20250325T190000
DTSTAMP:20260422T103607
CREATED:20250324T142501Z
LAST-MODIFIED:20250324T142501Z
UID:34584-1742922000-1742929200@mako.hu
SUMMARY:Csongrád-Csanád Vármegyei Civil Szakmai Roadshow
DESCRIPTION:
URL:http://mako.hu/program/csongrad-csanad-varmegyei-civil-szakmai-roadshow/
CATEGORIES:előadás,esemény
ATTACH;FMTTYPE=image/jpeg:http://mako.hu/wp-content/uploads/2025/03/485302497-1075640427939447-5495206656733600132-n.jpg
END:VEVENT
BEGIN:VEVENT
DTSTART;TZID=Europe/Budapest:20250326T170000
DTEND;TZID=Europe/Budapest:20250326T183000
DTSTAMP:20260422T103607
CREATED:20250320T125708Z
LAST-MODIFIED:20250320T125708Z
UID:34528-1743008400-1743013800@mako.hu
SUMMARY:Tanári hangverseny
DESCRIPTION:
URL:http://mako.hu/program/tanari-hangverseny/
CATEGORIES:előadás,zenei
ATTACH;FMTTYPE=image/jpeg:http://mako.hu/wp-content/uploads/2025/03/484652271-1205837958217697-2222239585638894319-n.jpg
END:VEVENT
BEGIN:VEVENT
DTSTART;TZID=Europe/Budapest:20250326T190000
DTEND;TZID=Europe/Budapest:20250326T210000
DTSTAMP:20260422T103607
CREATED:20250306T143154Z
LAST-MODIFIED:20250306T143154Z
UID:34343-1743015600-1743022800@mako.hu
SUMMARY:Örömszülők - vígjáték
DESCRIPTION:
URL:http://mako.hu/program/oromszulok-vigjatek/
CATEGORIES:előadás,kulturális
ATTACH;FMTTYPE=image/jpeg:http://mako.hu/wp-content/uploads/2025/03/481048630-1174863847981914-7133381563602045007-n.jpg
END:VEVENT
BEGIN:VEVENT
DTSTART;TZID=Europe/Budapest:20250327T163000
DTEND;TZID=Europe/Budapest:20250327T173000
DTSTAMP:20260422T103607
CREATED:20250324T150339Z
LAST-MODIFIED:20250324T150339Z
UID:34589-1743093000-1743096600@mako.hu
SUMMARY:"Koffer" - Iraki anzix
DESCRIPTION:
URL:http://mako.hu/program/koffer-iraki-anzix/
CATEGORIES:előadás,esemény
ATTACH;FMTTYPE=image/jpeg:http://mako.hu/wp-content/uploads/2025/03/485407524-1094155752745266-1672352341242001589-n-1.jpg
END:VEVENT
BEGIN:VEVENT
DTSTART;TZID=Europe/Budapest:20250403T163000
DTEND;TZID=Europe/Budapest:20250403T173000
DTSTAMP:20260422T103607
CREATED:20250328T102101Z
LAST-MODIFIED:20250328T102101Z
UID:34643-1743697800-1743701400@mako.hu
SUMMARY:Az út kezdetén - Léleképítő diaporáma mozi
DESCRIPTION:
URL:http://mako.hu/program/az-ut-kezdeten-lelekepito-diaporama-mozi/
CATEGORIES:kulturális
ATTACH;FMTTYPE=image/jpeg:http://mako.hu/wp-content/uploads/2025/03/487206286-1100254052135436-4509204473148768668-n.jpg
END:VEVENT
BEGIN:VEVENT
DTSTART;TZID=Europe/Budapest:20250404T170000
DTEND;TZID=Europe/Budapest:20250404T180000
DTSTAMP:20260422T103607
CREATED:20250328T101939Z
LAST-MODIFIED:20250328T101939Z
UID:34640-1743786000-1743789600@mako.hu
SUMMARY:Ivo Andric - Történetek városokról című könyv bemutatója
DESCRIPTION:
URL:http://mako.hu/program/ivo-andric-tortenetek-varosokrol-cimu-konyv-bemutatoja/
CATEGORIES:kulturális
ATTACH;FMTTYPE=image/jpeg:http://mako.hu/wp-content/uploads/2025/03/ivo-andricplakat.jpg
END:VEVENT
END:VCALENDAR