BEGIN:VCALENDAR
VERSION:2.0
PRODID:-//Makó - ECPv6.8.3//NONSGML v1.0//EN
CALSCALE:GREGORIAN
METHOD:PUBLISH
X-WR-CALNAME:Makó
X-ORIGINAL-URL:http://mako.hu
X-WR-CALDESC:Events for Makó
REFRESH-INTERVAL;VALUE=DURATION:PT1H
X-Robots-Tag:noindex
X-PUBLISHED-TTL:PT1H
BEGIN:VTIMEZONE
TZID:Europe/Budapest
BEGIN:DAYLIGHT
TZOFFSETFROM:+0100
TZOFFSETTO:+0200
TZNAME:CEST
DTSTART:20260329T010000
END:DAYLIGHT
BEGIN:STANDARD
TZOFFSETFROM:+0200
TZOFFSETTO:+0100
TZNAME:CET
DTSTART:20261025T010000
END:STANDARD
END:VTIMEZONE
BEGIN:VEVENT
DTSTART;TZID=Europe/Budapest:20260903T100000
DTEND;TZID=Europe/Budapest:20260903T170000
DTSTAMP:20260421T204418
CREATED:20260318T094905Z
LAST-MODIFIED:20260318T094905Z
UID:38629-1788429600-1788454800@mako.hu
SUMMARY:NÉPRAJZKUTATÓK 11. MAKÓI TALÁLKOZÓJA
DESCRIPTION:
URL:http://mako.hu/program/neprajzkutatok-11-makoi-talalkozoja/
END:VEVENT
BEGIN:VEVENT
DTSTART;VALUE=DATE:20260911
DTEND;VALUE=DATE:20260914
DTSTAMP:20260421T204418
CREATED:20260218T071351Z
LAST-MODIFIED:20260218T071351Z
UID:38225-1789084800-1789343999@mako.hu
SUMMARY:Hagymafesztivál
DESCRIPTION:
URL:http://mako.hu/program/hagymafesztival-2/
END:VEVENT
BEGIN:VEVENT
DTSTART;VALUE=DATE:20260919
DTEND;VALUE=DATE:20260921
DTSTAMP:20260421T204418
CREATED:20260318T094929Z
LAST-MODIFIED:20260318T094929Z
UID:38631-1789776000-1789948799@mako.hu
SUMMARY:KÉZMŰVES TALÁLKOZÓ
DESCRIPTION:
URL:http://mako.hu/program/kezmuves-talalkozo/
END:VEVENT
BEGIN:VEVENT
DTSTART;VALUE=DATE:20260919
DTEND;VALUE=DATE:20260920
DTSTAMP:20260421T204418
CREATED:20260318T101032Z
LAST-MODIFIED:20260318T101032Z
UID:38683-1789776000-1789862399@mako.hu
SUMMARY:Országos Nagycsaládosok Napja
DESCRIPTION:
URL:http://mako.hu/program/orszagos-nagycsaladosok-napja/
END:VEVENT
BEGIN:VEVENT
DTSTART;TZID=Europe/Budapest:20260920T140000
DTEND;TZID=Europe/Budapest:20260920T160000
DTSTAMP:20260421T204418
CREATED:20260318T095001Z
LAST-MODIFIED:20260318T095001Z
UID:38633-1789912800-1789920000@mako.hu
SUMMARY:MAGYAR ÖRÖKSÉG NAPJA  VÁROSI SÉTA
DESCRIPTION:
URL:http://mako.hu/program/magyar-orokseg-napja-varosi-seta/
END:VEVENT
END:VCALENDAR