BEGIN:VCALENDAR
VERSION:2.0
PRODID:-//Makó - ECPv6.8.3//NONSGML v1.0//EN
CALSCALE:GREGORIAN
METHOD:PUBLISH
X-ORIGINAL-URL:http://mako.hu
X-WR-CALDESC:Events for Makó
REFRESH-INTERVAL;VALUE=DURATION:PT1H
X-Robots-Tag:noindex
X-PUBLISHED-TTL:PT1H
BEGIN:VTIMEZONE
TZID:Europe/Budapest
BEGIN:DAYLIGHT
TZOFFSETFROM:+0100
TZOFFSETTO:+0200
TZNAME:CEST
DTSTART:20260329T010000
END:DAYLIGHT
BEGIN:STANDARD
TZOFFSETFROM:+0200
TZOFFSETTO:+0100
TZNAME:CET
DTSTART:20261025T010000
END:STANDARD
END:VTIMEZONE
BEGIN:VEVENT
DTSTART;TZID=Europe/Budapest:20260704T180000
DTEND;TZID=Europe/Budapest:20260704T200000
DTSTAMP:20260421T181234
CREATED:20260318T095408Z
LAST-MODIFIED:20260318T095408Z
UID:38641-1783188000-1783195200@mako.hu
SUMMARY:Makói nyár - Wox együttes koncertje
DESCRIPTION:
URL:http://mako.hu/program/makoi-nyar-wox-egyuttes-koncertje/
END:VEVENT
BEGIN:VEVENT
DTSTART;TZID=Europe/Budapest:20260705T190000
DTEND;TZID=Europe/Budapest:20260705T200000
DTSTAMP:20260421T181234
CREATED:20260318T095715Z
LAST-MODIFIED:20260318T095715Z
UID:38649-1783278000-1783281600@mako.hu
SUMMARY:"Zenélő szökőkút" - Széchenyi tér
DESCRIPTION:
URL:http://mako.hu/program/zenelo-szokokut-szechenyi-ter/
END:VEVENT
BEGIN:VEVENT
DTSTART;VALUE=DATE:20260710
DTEND;VALUE=DATE:20260713
DTSTAMP:20260421T181234
CREATED:20260218T071321Z
LAST-MODIFIED:20260218T071429Z
UID:38222-1783641600-1783900799@mako.hu
SUMMARY:BEERlak Sörfesztivál
DESCRIPTION:
URL:http://mako.hu/program/beerlak-sorfesztival-2/
END:VEVENT
BEGIN:VEVENT
DTSTART;VALUE=DATE:20260717
DTEND;VALUE=DATE:20260718
DTSTAMP:20260421T181234
CREATED:20260318T095326Z
LAST-MODIFIED:20260318T095326Z
UID:38639-1784246400-1784332799@mako.hu
SUMMARY:Maros Kalandpart - Sportnap
DESCRIPTION:
URL:http://mako.hu/program/maros-kalandpart-sportnap/
END:VEVENT
BEGIN:VEVENT
DTSTART;TZID=Europe/Budapest:20260718T190000
DTEND;TZID=Europe/Budapest:20260718T210000
DTSTAMP:20260421T181234
CREATED:20260318T095503Z
LAST-MODIFIED:20260318T095503Z
UID:38643-1784401200-1784408400@mako.hu
SUMMARY:Zenepaviloni koncert
DESCRIPTION:
URL:http://mako.hu/program/zenepaviloni-koncert-2/
END:VEVENT
BEGIN:VEVENT
DTSTART;TZID=Europe/Budapest:20260719T190000
DTEND;TZID=Europe/Budapest:20260719T200000
DTSTAMP:20260421T181234
CREATED:20260318T095739Z
LAST-MODIFIED:20260318T095739Z
UID:38651-1784487600-1784491200@mako.hu
SUMMARY:"Zenélő szökőkút" - Széchenyi tér
DESCRIPTION:
URL:http://mako.hu/program/zenelo-szokokut-szechenyi-ter-2/
END:VEVENT
BEGIN:VEVENT
DTSTART;TZID=Europe/Budapest:20260724T190000
DTEND;TZID=Europe/Budapest:20260724T210000
DTSTAMP:20260421T181234
CREATED:20260318T094823Z
LAST-MODIFIED:20260318T094823Z
UID:38627-1784919600-1784926800@mako.hu
SUMMARY:SZENTPÉTERI CSILLA - koncert a József Attila Múzeum skanzenjében
DESCRIPTION:
URL:http://mako.hu/program/szentpeteri-csilla-koncert-a-jozsef-attila-muzeum-skanzenjeben/
END:VEVENT
BEGIN:VEVENT
DTSTART;VALUE=DATE:20260725
DTEND;VALUE=DATE:20260727
DTSTAMP:20260421T181234
CREATED:20260318T095636Z
LAST-MODIFIED:20260318T095636Z
UID:38647-1784937600-1785110399@mako.hu
SUMMARY:Fürdőfesztivál -  Fürdők éjszakája és strandparty
DESCRIPTION:
URL:http://mako.hu/program/furdofesztival-furdok-ejszakaja-es-strandparty/
END:VEVENT
BEGIN:VEVENT
DTSTART;TZID=Europe/Budapest:20260725T190000
DTEND;TZID=Europe/Budapest:20260725T210000
DTSTAMP:20260421T181234
CREATED:20260318T095542Z
LAST-MODIFIED:20260318T095542Z
UID:38645-1785006000-1785013200@mako.hu
SUMMARY:Zenepaviloni koncert
DESCRIPTION:
URL:http://mako.hu/program/zenepaviloni-koncert-3/
END:VEVENT
BEGIN:VEVENT
DTSTART;TZID=Europe/Budapest:20260726T190000
DTEND;TZID=Europe/Budapest:20260726T200000
DTSTAMP:20260421T181234
CREATED:20260318T095800Z
LAST-MODIFIED:20260318T095800Z
UID:38653-1785092400-1785096000@mako.hu
SUMMARY:"Zenélő szökőkút" - Széchenyi tér
DESCRIPTION:
URL:http://mako.hu/program/zenelo-szokokut-szechenyi-ter-3/
END:VEVENT
END:VCALENDAR