BEGIN:VCALENDAR
VERSION:2.0
PRODID:-//Makó - ECPv6.8.3//NONSGML v1.0//EN
CALSCALE:GREGORIAN
METHOD:PUBLISH
X-ORIGINAL-URL:http://mako.hu
X-WR-CALDESC:Events for Makó
REFRESH-INTERVAL;VALUE=DURATION:PT1H
X-Robots-Tag:noindex
X-PUBLISHED-TTL:PT1H
BEGIN:VTIMEZONE
TZID:Europe/Budapest
BEGIN:DAYLIGHT
TZOFFSETFROM:+0100
TZOFFSETTO:+0200
TZNAME:CEST
DTSTART:20250330T010000
END:DAYLIGHT
BEGIN:STANDARD
TZOFFSETFROM:+0200
TZOFFSETTO:+0100
TZNAME:CET
DTSTART:20251026T010000
END:STANDARD
END:VTIMEZONE
BEGIN:VEVENT
DTSTART;TZID=Europe/Budapest:20250705T190000
DTEND;TZID=Europe/Budapest:20250705T200000
DTSTAMP:20260422T012001
CREATED:20250619T201918Z
LAST-MODIFIED:20250619T201918Z
UID:35796-1751742000-1751745600@mako.hu
SUMMARY:Lampionos zenés est vonósokkal
DESCRIPTION:
URL:http://mako.hu/program/lampionos-zenes-est-vonosokkal/
ATTACH;FMTTYPE=image/jpeg:http://mako.hu/wp-content/uploads/2025/06/508504150-9835474386563440-443533138279937554-n.jpg
END:VEVENT
BEGIN:VEVENT
DTSTART;TZID=Europe/Budapest:20250708T190000
DTEND;TZID=Europe/Budapest:20250708T220000
DTSTAMP:20260422T012001
CREATED:20250514T060654Z
LAST-MODIFIED:20250514T060742Z
UID:35160-1752001200-1752012000@mako.hu
SUMMARY:Makói Nyár: Menni kéne - Zenés játék Presser Gábor könyve alapján
DESCRIPTION:
URL:http://mako.hu/program/makoi-nyar-menni-kene-zenes-jatek-presser-gabor-konyve-alapjan/
CATEGORIES:előadás,kulturális
ATTACH;FMTTYPE=image/jpeg:http://mako.hu/wp-content/uploads/2025/05/495379291-1247306710737627-8711011285020219054-n.jpg
END:VEVENT
BEGIN:VEVENT
DTSTART;VALUE=DATE:20250711
DTEND;VALUE=DATE:20250714
DTSTAMP:20260422T012001
CREATED:20250703T062701Z
LAST-MODIFIED:20250703T062701Z
UID:35932-1752192000-1752451199@mako.hu
SUMMARY:BEERlak Sörfesztivál
DESCRIPTION:
URL:http://mako.hu/program/beerlak-sorfesztival/
CATEGORIES:szabadidő,zenei
ATTACH;FMTTYPE=image/jpeg:http://mako.hu/wp-content/uploads/2025/07/beerlak-plakat-scaled.jpg
END:VEVENT
BEGIN:VEVENT
DTSTART;TZID=Europe/Budapest:20250718T200000
DTEND;TZID=Europe/Budapest:20250718T220000
DTSTAMP:20260422T012001
CREATED:20250703T100516Z
LAST-MODIFIED:20250703T100516Z
UID:35958-1752868800-1752876000@mako.hu
SUMMARY:Gördülő Opera - A csengő 2.0
DESCRIPTION:
URL:http://mako.hu/program/gordulo-opera-a-csengo-2-0/
CATEGORIES:előadás,kulturális
ATTACH;FMTTYPE=image/png:http://mako.hu/wp-content/uploads/2025/07/gordulo-opera.png
END:VEVENT
BEGIN:VEVENT
DTSTART;TZID=Europe/Budapest:20250719T190000
DTEND;TZID=Europe/Budapest:20250719T203000
DTSTAMP:20260422T012001
CREATED:20250703T064127Z
LAST-MODIFIED:20250703T064127Z
UID:35943-1752951600-1752957000@mako.hu
SUMMARY:Zenepaviloni koncert - Maros-Parti Deák Big Band
DESCRIPTION:
URL:http://mako.hu/program/zenepaviloni-koncert-maros-parti-deak-big-band/
CATEGORIES:előadás,zenei
ATTACH;FMTTYPE=image/jpeg:http://mako.hu/wp-content/uploads/2025/07/zenepaviloni-koncertek-2025-1-scaled.jpg
END:VEVENT
BEGIN:VEVENT
DTSTART;TZID=Europe/Budapest:20250722T170000
DTEND;TZID=Europe/Budapest:20250722T180000
DTSTAMP:20260422T012001
CREATED:20250704T091345Z
LAST-MODIFIED:20250704T091345Z
UID:35961-1753203600-1753207200@mako.hu
SUMMARY:"Belülről" - Kis Tamás festőművész önálló kiállítása
DESCRIPTION:
URL:http://mako.hu/program/belulrol-kis-tamas-festomuvesz-onallo-kiallitasa/
CATEGORIES:képzőművészeti,kiállítás
ATTACH;FMTTYPE=image/jpeg:http://mako.hu/wp-content/uploads/2025/07/515259523-1289981853136779-6789159606433414103-n.jpg
END:VEVENT
BEGIN:VEVENT
DTSTART;TZID=Europe/Budapest:20250725T190000
DTEND;TZID=Europe/Budapest:20250725T220000
DTSTAMP:20260422T012001
CREATED:20250512T070441Z
LAST-MODIFIED:20250703T063113Z
UID:35137-1753470000-1753480800@mako.hu
SUMMARY:Makói Nyár: Jon Lonoff - Centiről centire
DESCRIPTION:
URL:http://mako.hu/program/makoi-nyar-jon-lonoff-centirol-centire/
ATTACH;FMTTYPE=image/jpeg:http://mako.hu/wp-content/uploads/2025/05/495368689-1244107324390899-138319015156585604-n.jpg
END:VEVENT
BEGIN:VEVENT
DTSTART;VALUE=DATE:20250726
DTEND;VALUE=DATE:20250728
DTSTAMP:20260422T012001
CREATED:20250702T082722Z
LAST-MODIFIED:20250722T105232Z
UID:35925-1753488000-1753660799@mako.hu
SUMMARY:Fürdőfesztivál a Hagymatikumban
DESCRIPTION:
URL:http://mako.hu/program/furdofesztival-a-hagymatikumban/
ATTACH;FMTTYPE=image/jpeg:http://mako.hu/wp-content/uploads/2025/07/plakat-a2-hu-1-scaled.jpg
END:VEVENT
BEGIN:VEVENT
DTSTART;VALUE=DATE:20250726
DTEND;VALUE=DATE:20250727
DTSTAMP:20260422T012001
CREATED:20250722T075721Z
LAST-MODIFIED:20250722T075721Z
UID:36128-1753488000-1753574399@mako.hu
SUMMARY:33. Délkelet-határ menti Nemzetközi Rádiós Találkozó
DESCRIPTION:
URL:http://mako.hu/program/33-delkelet-hatar-menti-nemzetkozi-radios-talalkozo/
CATEGORIES:esemény
ATTACH;FMTTYPE=image/jpeg:http://mako.hu/wp-content/uploads/2025/07/ha8kci-radioamator-talalkozo.jpg
END:VEVENT
BEGIN:VEVENT
DTSTART;VALUE=DATE:20250726
DTEND;VALUE=DATE:20250727
DTSTAMP:20260422T012001
CREATED:20250725T104327Z
LAST-MODIFIED:20250725T104327Z
UID:36156-1753488000-1753574399@mako.hu
SUMMARY:Rádiós találkozó Makón
DESCRIPTION:
URL:http://mako.hu/program/radios-talalkozo-makon/
ATTACH;FMTTYPE=image/jpeg:http://mako.hu/wp-content/uploads/2025/07/ha8kci-radioamator-talalkozo-1.jpg
END:VEVENT
BEGIN:VEVENT
DTSTART;TZID=Europe/Budapest:20250726T190000
DTEND;TZID=Europe/Budapest:20250726T203000
DTSTAMP:20260422T012001
CREATED:20250703T064244Z
LAST-MODIFIED:20250703T064244Z
UID:35945-1753556400-1753561800@mako.hu
SUMMARY:Zenepaviloni koncert - Tóth Jonathan és Szemerédi Bernadett
DESCRIPTION:
URL:http://mako.hu/program/zenepaviloni-koncert-toth-jonathan-es-szemeredi-bernadett/
CATEGORIES:előadás,zenei
ATTACH;FMTTYPE=image/jpeg:http://mako.hu/wp-content/uploads/2025/07/zenepaviloni-koncertek-2025-1-scaled.jpg
END:VEVENT
END:VCALENDAR