BEGIN:VCALENDAR
VERSION:2.0
PRODID:-//Makó - ECPv6.8.3//NONSGML v1.0//EN
CALSCALE:GREGORIAN
METHOD:PUBLISH
X-ORIGINAL-URL:http://mako.hu
X-WR-CALDESC:Events for Makó
REFRESH-INTERVAL;VALUE=DURATION:PT1H
X-Robots-Tag:noindex
X-PUBLISHED-TTL:PT1H
BEGIN:VTIMEZONE
TZID:Europe/Budapest
BEGIN:DAYLIGHT
TZOFFSETFROM:+0100
TZOFFSETTO:+0200
TZNAME:CEST
DTSTART:20230326T010000
END:DAYLIGHT
BEGIN:STANDARD
TZOFFSETFROM:+0200
TZOFFSETTO:+0100
TZNAME:CET
DTSTART:20231029T010000
END:STANDARD
END:VTIMEZONE
BEGIN:VEVENT
DTSTART;VALUE=DATE:20230312
DTEND;VALUE=DATE:20230316
DTSTAMP:20260424T020301
CREATED:20230307T133649Z
LAST-MODIFIED:20230307T133649Z
UID:28187-1678579200-1678924799@mako.hu
SUMMARY:FÁKLYÁVAL ÉS LÁNGOLÓ SZÍVVEL A HŐSÖKÉRT
DESCRIPTION:
URL:http://mako.hu/program/faklyaval-es-langolo-szivvel-a-hosokert/
CATEGORIES:esemény
END:VEVENT
BEGIN:VEVENT
DTSTART;TZID=Europe/Budapest:20230315T140000
DTEND;TZID=Europe/Budapest:20230315T180000
DTSTAMP:20260424T020301
CREATED:20230307T133825Z
LAST-MODIFIED:20230307T133825Z
UID:28189-1678888800-1678903200@mako.hu
SUMMARY:Tavaszköszöntő
DESCRIPTION:
URL:http://mako.hu/program/tavaszkoszonto-5/
LOCATION:Hagymaház\, Posta u. 2.\, Makó\, 6900\, Magyarország
CATEGORIES:zenei
END:VEVENT
BEGIN:VEVENT
DTSTART;TZID=Europe/Budapest:20230315T140000
DTEND;TZID=Europe/Budapest:20230315T200000
DTSTAMP:20260424T020301
CREATED:20230307T133452Z
LAST-MODIFIED:20230307T133452Z
UID:28185-1678888800-1678910400@mako.hu
SUMMARY:Kiskaska
DESCRIPTION:
URL:http://mako.hu/program/kiskaska/
CATEGORIES:esemény
END:VEVENT
BEGIN:VEVENT
DTSTART;TZID=Europe/Budapest:20230326T090000
DTEND;TZID=Europe/Budapest:20230326T120000
DTSTAMP:20260424T020301
CREATED:20230301T103301Z
LAST-MODIFIED:20230301T103327Z
UID:28160-1679821200-1679832000@mako.hu
SUMMARY:Kreatív Húsvéti Kézműves Délelőtt
DESCRIPTION:
URL:http://mako.hu/program/kreativ-husveti-kezmuves-delelott-4/
LOCATION:Hagymaház\, Posta u. 2.\, Makó\, 6900\, Magyarország
CATEGORIES:képzőművészeti
END:VEVENT
END:VCALENDAR