BEGIN:VCALENDAR
VERSION:2.0
PRODID:-//Makó - ECPv6.8.3//NONSGML v1.0//EN
CALSCALE:GREGORIAN
METHOD:PUBLISH
X-ORIGINAL-URL:http://mako.hu
X-WR-CALDESC:Events for Makó
REFRESH-INTERVAL;VALUE=DURATION:PT1H
X-Robots-Tag:noindex
X-PUBLISHED-TTL:PT1H
BEGIN:VTIMEZONE
TZID:Europe/Budapest
BEGIN:DAYLIGHT
TZOFFSETFROM:+0100
TZOFFSETTO:+0200
TZNAME:CEST
DTSTART:20260329T010000
END:DAYLIGHT
BEGIN:STANDARD
TZOFFSETFROM:+0200
TZOFFSETTO:+0100
TZNAME:CET
DTSTART:20261025T010000
END:STANDARD
END:VTIMEZONE
BEGIN:VEVENT
DTSTART;VALUE=DATE:20260627
DTEND;VALUE=DATE:20260628
DTSTAMP:20260422T041724
CREATED:20260318T083813Z
LAST-MODIFIED:20260318T083813Z
UID:38611-1782518400-1782604799@mako.hu
SUMMARY:VAKÁCIÓ - nyitóbuli a Maros Kalandparton
DESCRIPTION:
URL:http://mako.hu/program/vakacio-nyitobuli-a-maros-kalandparton/
END:VEVENT
BEGIN:VEVENT
DTSTART;TZID=Europe/Budapest:20260627T170000
DTEND;TZID=Europe/Budapest:20260627T200000
DTSTAMP:20260422T041724
CREATED:20260318T083839Z
LAST-MODIFIED:20260318T083839Z
UID:38613-1782579600-1782590400@mako.hu
SUMMARY:Kocsis György Színjátszó tábor záró előadása
DESCRIPTION:
URL:http://mako.hu/program/kocsis-gyorgy-szinjatszo-tabor-zaro-eloadasa/
END:VEVENT
END:VCALENDAR