BEGIN:VCALENDAR
VERSION:2.0
PRODID:-//Makó - ECPv6.8.3//NONSGML v1.0//EN
CALSCALE:GREGORIAN
METHOD:PUBLISH
X-WR-CALNAME:Makó
X-ORIGINAL-URL:http://mako.hu
X-WR-CALDESC:Events for Makó
REFRESH-INTERVAL;VALUE=DURATION:PT1H
X-Robots-Tag:noindex
X-PUBLISHED-TTL:PT1H
BEGIN:VTIMEZONE
TZID:Europe/Budapest
BEGIN:DAYLIGHT
TZOFFSETFROM:+0100
TZOFFSETTO:+0200
TZNAME:CEST
DTSTART:20260329T010000
END:DAYLIGHT
BEGIN:STANDARD
TZOFFSETFROM:+0200
TZOFFSETTO:+0100
TZNAME:CET
DTSTART:20261025T010000
END:STANDARD
END:VTIMEZONE
BEGIN:VEVENT
DTSTART;TZID=Europe/Budapest:20260521T190000
DTEND;TZID=Europe/Budapest:20260521T210000
DTSTAMP:20260421T170455
CREATED:20260225T120142Z
LAST-MODIFIED:20260225T120142Z
UID:38306-1779390000-1779397200@mako.hu
SUMMARY:Férjek a slamasztikában - francia vígjáték 2 felvonásban
DESCRIPTION:
URL:http://mako.hu/program/ferjek-a-slamasztikaban-francia-vigjatek-2-felvonasban/
LOCATION:Hagymaház\, Posta u. 2.\, Makó\, 6900\, Magyarország
ATTACH;FMTTYPE=image/jpeg:http://mako.hu/wp-content/uploads/2026/02/640923870-122157505898711296-8059607139304359022-n.jpg
END:VEVENT
END:VCALENDAR