BEGIN:VCALENDAR
VERSION:2.0
PRODID:-//Makó - ECPv6.8.3//NONSGML v1.0//EN
CALSCALE:GREGORIAN
METHOD:PUBLISH
X-WR-CALNAME:Makó
X-ORIGINAL-URL:http://mako.hu
X-WR-CALDESC:Events for Makó
REFRESH-INTERVAL;VALUE=DURATION:PT1H
X-Robots-Tag:noindex
X-PUBLISHED-TTL:PT1H
BEGIN:VTIMEZONE
TZID:Europe/Budapest
BEGIN:DAYLIGHT
TZOFFSETFROM:+0100
TZOFFSETTO:+0200
TZNAME:CEST
DTSTART:20260329T010000
END:DAYLIGHT
BEGIN:STANDARD
TZOFFSETFROM:+0200
TZOFFSETTO:+0100
TZNAME:CET
DTSTART:20261025T010000
END:STANDARD
END:VTIMEZONE
BEGIN:VEVENT
DTSTART;TZID=Europe/Budapest:20260519T163000
DTEND;TZID=Europe/Budapest:20260519T180000
DTSTAMP:20260421T165658
CREATED:20260421T112527Z
LAST-MODIFIED:20260421T112527Z
UID:39008-1779208200-1779213600@mako.hu
SUMMARY:Bartók nyomában Békés vármegyében - a BÉKÉS BANDA koncertje
DESCRIPTION:
URL:http://mako.hu/program/bartok-nyomaban-bekes-varmegyeben-a-bekes-banda-koncertje/
CATEGORIES:esemény
ATTACH;FMTTYPE=image/jpeg:http://mako.hu/wp-content/uploads/2026/04/bartok-nyomaban.jpg
END:VEVENT
BEGIN:VEVENT
DTSTART;TZID=Europe/Budapest:20260519T170000
DTEND;TZID=Europe/Budapest:20260519T180000
DTSTAMP:20260421T165658
CREATED:20260318T094700Z
LAST-MODIFIED:20260318T094700Z
UID:38625-1779210000-1779213600@mako.hu
SUMMARY:SÁNTA SÁNDOR - EMLÉKKIÁLLÍTÁS
DESCRIPTION:
URL:http://mako.hu/program/santa-sandor-emlekkiallitas/
END:VEVENT
END:VCALENDAR