BEGIN:VCALENDAR
VERSION:2.0
PRODID:-//Makó - ECPv6.8.3//NONSGML v1.0//EN
CALSCALE:GREGORIAN
METHOD:PUBLISH
X-WR-CALNAME:Makó
X-ORIGINAL-URL:http://mako.hu
X-WR-CALDESC:Events for Makó
REFRESH-INTERVAL;VALUE=DURATION:PT1H
X-Robots-Tag:noindex
X-PUBLISHED-TTL:PT1H
BEGIN:VTIMEZONE
TZID:Europe/Budapest
BEGIN:DAYLIGHT
TZOFFSETFROM:+0100
TZOFFSETTO:+0200
TZNAME:CEST
DTSTART:20260329T010000
END:DAYLIGHT
BEGIN:STANDARD
TZOFFSETFROM:+0200
TZOFFSETTO:+0100
TZNAME:CET
DTSTART:20261025T010000
END:STANDARD
END:VTIMEZONE
BEGIN:VEVENT
DTSTART;VALUE=DATE:20260508
DTEND;VALUE=DATE:20260511
DTSTAMP:20260421T165700
CREATED:20260218T071246Z
LAST-MODIFIED:20260218T071246Z
UID:38220-1778198400-1778457599@mako.hu
SUMMARY:Makói Városnapok
DESCRIPTION:
URL:http://mako.hu/program/makoi-varosnapok/
END:VEVENT
BEGIN:VEVENT
DTSTART;TZID=Europe/Budapest:20260508T170000
DTEND;TZID=Europe/Budapest:20260508T183000
DTSTAMP:20260421T165700
CREATED:20260318T082715Z
LAST-MODIFIED:20260318T082715Z
UID:38586-1778259600-1778265000@mako.hu
SUMMARY:Örökítsd meg a jelent a jövőnek!
DESCRIPTION:
URL:http://mako.hu/program/orokitsd-meg-a-jelent-a-jovonek-2/
ATTACH;FMTTYPE=image/jpeg:http://mako.hu/wp-content/uploads/2026/03/649614783-1515851447216484-4758905667684016881-n.jpg
END:VEVENT
END:VCALENDAR