BEGIN:VCALENDAR
VERSION:2.0
PRODID:-//Makó - ECPv6.8.3//NONSGML v1.0//EN
CALSCALE:GREGORIAN
METHOD:PUBLISH
X-WR-CALNAME:Makó
X-ORIGINAL-URL:http://mako.hu
X-WR-CALDESC:Events for Makó
REFRESH-INTERVAL;VALUE=DURATION:PT1H
X-Robots-Tag:noindex
X-PUBLISHED-TTL:PT1H
BEGIN:VTIMEZONE
TZID:Europe/Budapest
BEGIN:DAYLIGHT
TZOFFSETFROM:+0100
TZOFFSETTO:+0200
TZNAME:CEST
DTSTART:20260329T010000
END:DAYLIGHT
BEGIN:STANDARD
TZOFFSETFROM:+0200
TZOFFSETTO:+0100
TZNAME:CET
DTSTART:20261025T010000
END:STANDARD
END:VTIMEZONE
BEGIN:VEVENT
DTSTART;VALUE=DATE:20260424
DTEND;VALUE=DATE:20260427
DTSTAMP:20260424T012155
CREATED:20260318T082210Z
LAST-MODIFIED:20260318T082403Z
UID:38574-1776988800-1777247999@mako.hu
SUMMARY:"Énekel az ország" programsorozat
DESCRIPTION:
URL:http://mako.hu/program/enekel-az-orszag-programsorozat/
END:VEVENT
BEGIN:VEVENT
DTSTART;VALUE=DATE:20260424
DTEND;VALUE=DATE:20260425
DTSTAMP:20260424T012155
CREATED:20260318T082248Z
LAST-MODIFIED:20260318T082248Z
UID:38576-1776988800-1777075199@mako.hu
SUMMARY:Tavaszi Gála - Angyalsóhaj Alapítvány
DESCRIPTION:
URL:http://mako.hu/program/tavaszi-gala-angyalsohaj-alapitvany/
END:VEVENT
BEGIN:VEVENT
DTSTART;TZID=Europe/Budapest:20260424T100000
DTEND;TZID=Europe/Budapest:20260424T110000
DTSTAMP:20260424T012155
CREATED:20260422T104709Z
LAST-MODIFIED:20260422T104709Z
UID:39017-1777024800-1777028400@mako.hu
SUMMARY:Tájházak napja - Ünnepélyes Skanzen-nyitó
DESCRIPTION:
URL:http://mako.hu/program/tajhazak-napja-unnepelyes-skanzen-nyito/
ATTACH;FMTTYPE=image/png:http://mako.hu/wp-content/uploads/2026/04/tajhazak-napja-2026.png
END:VEVENT
BEGIN:VEVENT
DTSTART;TZID=Europe/Budapest:20260424T110000
DTEND;TZID=Europe/Budapest:20260424T120000
DTSTAMP:20260424T012155
CREATED:20260422T104459Z
LAST-MODIFIED:20260422T104459Z
UID:39014-1777028400-1777032000@mako.hu
SUMMARY:Monspart Sarolta Emlékgyaloglás
DESCRIPTION:
URL:http://mako.hu/program/monspart-sarolta-emlekgyaloglas/
ATTACH;FMTTYPE=image/jpeg:http://mako.hu/wp-content/uploads/2026/04/monspart-plakat.jpg
END:VEVENT
END:VCALENDAR