BEGIN:VCALENDAR
VERSION:2.0
PRODID:-//Makó - ECPv6.8.3//NONSGML v1.0//EN
CALSCALE:GREGORIAN
METHOD:PUBLISH
X-WR-CALNAME:Makó
X-ORIGINAL-URL:http://mako.hu
X-WR-CALDESC:Events for Makó
REFRESH-INTERVAL;VALUE=DURATION:PT1H
X-Robots-Tag:noindex
X-PUBLISHED-TTL:PT1H
BEGIN:VTIMEZONE
TZID:Europe/Budapest
BEGIN:DAYLIGHT
TZOFFSETFROM:+0100
TZOFFSETTO:+0200
TZNAME:CEST
DTSTART:20260329T010000
END:DAYLIGHT
BEGIN:STANDARD
TZOFFSETFROM:+0200
TZOFFSETTO:+0100
TZNAME:CET
DTSTART:20261025T010000
END:STANDARD
END:VTIMEZONE
BEGIN:VEVENT
DTSTART;TZID=Europe/Budapest:20260422T080000
DTEND;TZID=Europe/Budapest:20260422T170000
DTSTAMP:20260422T014155
CREATED:20260407T095522Z
LAST-MODIFIED:20260407T095522Z
UID:38926-1776844800-1776877200@mako.hu
SUMMARY:Makói Óvoda - Beiratkozás (Kassai utcai Tagintézmény)
DESCRIPTION:
URL:http://mako.hu/program/makoi-ovoda-beiratkozas-kassai-utcai-tagintezmeny/
ATTACH;FMTTYPE=image/jpeg:http://mako.hu/wp-content/uploads/2026/04/beiratkozas-2026-plakat-scaled.jpg
END:VEVENT
BEGIN:VEVENT
DTSTART;TZID=Europe/Budapest:20260422T100000
DTEND;TZID=Europe/Budapest:20260422T113000
DTSTAMP:20260422T014155
CREATED:20260318T082026Z
LAST-MODIFIED:20260318T082026Z
UID:38569-1776852000-1776857400@mako.hu
SUMMARY:Keresem az őseimet! - klubfoglalkozás
DESCRIPTION:
URL:http://mako.hu/program/keresem-az-oseimet-klubfoglalkozas/
ATTACH;FMTTYPE=image/jpeg:http://mako.hu/wp-content/uploads/2026/03/641709850-1505389351596027-1274746589261476551-n.jpg
END:VEVENT
BEGIN:VEVENT
DTSTART;TZID=Europe/Budapest:20260422T170000
DTEND;TZID=Europe/Budapest:20260422T180000
DTSTAMP:20260422T014155
CREATED:20260409T111416Z
LAST-MODIFIED:20260409T111416Z
UID:38947-1776877200-1776880800@mako.hu
SUMMARY:K. Bajusz István festő- és keramikusművész kiállítás megnyitója
DESCRIPTION:
URL:http://mako.hu/program/k-bajusz-istvan-festo-es-keramikusmuvesz-kiallitas-megnyitoja/
ATTACH;FMTTYPE=image/jpeg:http://mako.hu/wp-content/uploads/2026/04/668573222-1409972811163557-1145419827094001241-n.jpg
END:VEVENT
BEGIN:VEVENT
DTSTART;TZID=Europe/Budapest:20260422T190000
DTEND;TZID=Europe/Budapest:20260422T203000
DTSTAMP:20260422T014155
CREATED:20260318T082111Z
LAST-MODIFIED:20260318T083344Z
UID:38572-1776884400-1776889800@mako.hu
SUMMARY:Dumaszínház- Musimbe Dávid Dennis előadása
DESCRIPTION:
URL:http://mako.hu/program/dumaszinhaz-musimbe-david-dennis-eloadasa/
ATTACH;FMTTYPE=image/jpeg:http://mako.hu/wp-content/uploads/2026/03/648122704-1516494190476348-9031111681539028809-n.jpg
END:VEVENT
END:VCALENDAR