BEGIN:VCALENDAR
VERSION:2.0
PRODID:-//Makó - ECPv6.8.3//NONSGML v1.0//EN
CALSCALE:GREGORIAN
METHOD:PUBLISH
X-WR-CALNAME:Makó
X-ORIGINAL-URL:http://mako.hu
X-WR-CALDESC:Events for Makó
REFRESH-INTERVAL;VALUE=DURATION:PT1H
X-Robots-Tag:noindex
X-PUBLISHED-TTL:PT1H
BEGIN:VTIMEZONE
TZID:Europe/Budapest
BEGIN:DAYLIGHT
TZOFFSETFROM:+0100
TZOFFSETTO:+0200
TZNAME:CEST
DTSTART:20260329T010000
END:DAYLIGHT
BEGIN:STANDARD
TZOFFSETFROM:+0200
TZOFFSETTO:+0100
TZNAME:CET
DTSTART:20261025T010000
END:STANDARD
END:VTIMEZONE
BEGIN:VEVENT
DTSTART;TZID=Europe/Budapest:20260420T080000
DTEND;TZID=Europe/Budapest:20260420T170000
DTSTAMP:20260420T014837
CREATED:20260407T095349Z
LAST-MODIFIED:20260407T095349Z
UID:38921-1776672000-1776704400@mako.hu
SUMMARY:Makói Óvoda - Beiratkozás (Erdélyi püspök utcai Székhelyintézmény)
DESCRIPTION:
URL:http://mako.hu/program/makoi-ovoda-beiratkozas-erdelyi-puspok-utcai-szekhelyintezmeny/
ATTACH;FMTTYPE=image/jpeg:http://mako.hu/wp-content/uploads/2026/04/beiratkozas-2026-plakat-scaled.jpg
END:VEVENT
BEGIN:VEVENT
DTSTART;TZID=Europe/Budapest:20260420T170000
DTEND;TZID=Europe/Budapest:20260420T180000
DTSTAMP:20260420T014837
CREATED:20260409T112034Z
LAST-MODIFIED:20260409T112034Z
UID:38950-1776704400-1776708000@mako.hu
SUMMARY:Gonda Júlia "Liebele lánya" c. verseskötetének bemutatója
DESCRIPTION:
URL:http://mako.hu/program/gonda-julia-liebele-lanya-c-verseskotetenek-bemutatoja/
ATTACH;FMTTYPE=image/jpeg:http://mako.hu/wp-content/uploads/2026/04/669893238-1409976714496500-3460302603676256216-n.jpg
END:VEVENT
END:VCALENDAR