BEGIN:VCALENDAR
VERSION:2.0
PRODID:-//Makó - ECPv6.8.3//NONSGML v1.0//EN
CALSCALE:GREGORIAN
METHOD:PUBLISH
X-ORIGINAL-URL:http://mako.hu
X-WR-CALDESC:Events for Makó
REFRESH-INTERVAL;VALUE=DURATION:PT1H
X-Robots-Tag:noindex
X-PUBLISHED-TTL:PT1H
BEGIN:VTIMEZONE
TZID:Europe/Budapest
BEGIN:DAYLIGHT
TZOFFSETFROM:+0100
TZOFFSETTO:+0200
TZNAME:CEST
DTSTART:20260329T010000
END:DAYLIGHT
BEGIN:STANDARD
TZOFFSETFROM:+0200
TZOFFSETTO:+0100
TZNAME:CET
DTSTART:20261025T010000
END:STANDARD
END:VTIMEZONE
BEGIN:VEVENT
DTSTART;TZID=Europe/Budapest:20260330T170000
DTEND;TZID=Europe/Budapest:20260330T183000
DTSTAMP:20260421T153623
CREATED:20260318T080658Z
LAST-MODIFIED:20260318T080658Z
UID:38546-1774890000-1774895400@mako.hu
SUMMARY:"Kutasd a Múltat!" - klubfoglalkozás
DESCRIPTION:
URL:http://mako.hu/program/kutasd-a-multat-klubfoglalkozas/
ATTACH;FMTTYPE=image/jpeg:http://mako.hu/wp-content/uploads/2026/03/650837512-1517509273717368-3310594011644296238-n.jpg
END:VEVENT
END:VCALENDAR