BEGIN:VCALENDAR
VERSION:2.0
PRODID:-//Makó - ECPv6.8.3//NONSGML v1.0//EN
CALSCALE:GREGORIAN
METHOD:PUBLISH
X-ORIGINAL-URL:http://mako.hu
X-WR-CALDESC:Events for Makó
REFRESH-INTERVAL;VALUE=DURATION:PT1H
X-Robots-Tag:noindex
X-PUBLISHED-TTL:PT1H
BEGIN:VTIMEZONE
TZID:Europe/Budapest
BEGIN:DAYLIGHT
TZOFFSETFROM:+0100
TZOFFSETTO:+0200
TZNAME:CEST
DTSTART:20260329T010000
END:DAYLIGHT
BEGIN:STANDARD
TZOFFSETFROM:+0200
TZOFFSETTO:+0100
TZNAME:CET
DTSTART:20261025T010000
END:STANDARD
END:VTIMEZONE
BEGIN:VEVENT
DTSTART;VALUE=DATE:20260328
DTEND;VALUE=DATE:20260329
DTSTAMP:20260421T153015
CREATED:20260319T111305Z
LAST-MODIFIED:20260319T111305Z
UID:38773-1774656000-1774742399@mako.hu
SUMMARY:Csongrád-Csanád vármegyei Vonós Kamara és Zenekari Találkozó
DESCRIPTION:
URL:http://mako.hu/program/csongrad-csanad-varmegyei-vonos-kamara-es-zenekari-talalkozo/
ATTACH;FMTTYPE=image/jpeg:http://mako.hu/wp-content/uploads/2026/03/653709210-1524051753063120-5071443796712837741-n.jpg
END:VEVENT
BEGIN:VEVENT
DTSTART;TZID=Europe/Budapest:20260328T170000
DTEND;TZID=Europe/Budapest:20260328T180000
DTSTAMP:20260421T153015
CREATED:20260318T094341Z
LAST-MODIFIED:20260324T152010Z
UID:38617-1774717200-1774720800@mako.hu
SUMMARY:London Katalin - kiállítás megnyitó
DESCRIPTION:
URL:http://mako.hu/program/london-katalin-kiallitas-megnyito/
ATTACH;FMTTYPE=image/jpeg:http://mako.hu/wp-content/uploads/2026/03/img-4073.jpg
END:VEVENT
END:VCALENDAR