BEGIN:VCALENDAR
VERSION:2.0
PRODID:-//Makó - ECPv6.8.3//NONSGML v1.0//EN
CALSCALE:GREGORIAN
METHOD:PUBLISH
X-ORIGINAL-URL:http://mako.hu
X-WR-CALDESC:Events for Makó
REFRESH-INTERVAL;VALUE=DURATION:PT1H
X-Robots-Tag:noindex
X-PUBLISHED-TTL:PT1H
BEGIN:VTIMEZONE
TZID:Europe/Budapest
BEGIN:DAYLIGHT
TZOFFSETFROM:+0100
TZOFFSETTO:+0200
TZNAME:CEST
DTSTART:20260329T010000
END:DAYLIGHT
BEGIN:STANDARD
TZOFFSETFROM:+0200
TZOFFSETTO:+0100
TZNAME:CET
DTSTART:20261025T010000
END:STANDARD
END:VTIMEZONE
BEGIN:VEVENT
DTSTART;TZID=Europe/Budapest:20260319T150000
DTEND;TZID=Europe/Budapest:20260319T160000
DTSTAMP:20260421T153015
CREATED:20260318T080147Z
LAST-MODIFIED:20260318T080147Z
UID:38536-1773932400-1773936000@mako.hu
SUMMARY:JAG - kARTon-(tü)KÖR kiállítás
DESCRIPTION:
URL:http://mako.hu/program/jag-karton-tukor-kiallitas/
ATTACH;FMTTYPE=image/jpeg:http://mako.hu/wp-content/uploads/2026/03/647704255-1511739354294360-5945193170133852148-n.jpg
END:VEVENT
BEGIN:VEVENT
DTSTART;TZID=Europe/Budapest:20260319T153000
DTEND;TZID=Europe/Budapest:20260319T163000
DTSTAMP:20260421T153015
CREATED:20260318T080214Z
LAST-MODIFIED:20260319T134530Z
UID:38539-1773934200-1773937800@mako.hu
SUMMARY:“Nők a békéért” kerekasztalbeszelgetes Koncz Zsófia Allamtitkar asszonnyal
DESCRIPTION:
URL:http://mako.hu/program/nok-a-bekeert-kerekasztalbeszelgetes-koncz-zsofia-allamtitkar-asszonnyal/
END:VEVENT
END:VCALENDAR