BEGIN:VCALENDAR
VERSION:2.0
PRODID:-//Makó - ECPv6.8.3//NONSGML v1.0//EN
CALSCALE:GREGORIAN
METHOD:PUBLISH
X-ORIGINAL-URL:http://mako.hu
X-WR-CALDESC:Events for Makó
REFRESH-INTERVAL;VALUE=DURATION:PT1H
X-Robots-Tag:noindex
X-PUBLISHED-TTL:PT1H
BEGIN:VTIMEZONE
TZID:Europe/Budapest
BEGIN:DAYLIGHT
TZOFFSETFROM:+0100
TZOFFSETTO:+0200
TZNAME:CEST
DTSTART:20260329T010000
END:DAYLIGHT
BEGIN:STANDARD
TZOFFSETFROM:+0200
TZOFFSETTO:+0100
TZNAME:CET
DTSTART:20261025T010000
END:STANDARD
END:VTIMEZONE
BEGIN:VEVENT
DTSTART;TZID=Europe/Budapest:20260206T190000
DTEND;TZID=Europe/Budapest:20260206T210000
DTSTAMP:20260421T164323
CREATED:20251217T144122Z
LAST-MODIFIED:20251217T144122Z
UID:37680-1770404400-1770411600@mako.hu
SUMMARY:Bernard Slade: Jövőre Veled ugyanitt
DESCRIPTION:
URL:http://mako.hu/program/bernard-slade-jovore-veled-ugyanitt/
ATTACH;FMTTYPE=image/jpeg:http://mako.hu/wp-content/uploads/2025/12/jovore-veled-ugyanitt-original-269824.jpg
END:VEVENT
END:VCALENDAR