BEGIN:VCALENDAR
VERSION:2.0
PRODID:-//Makó - ECPv6.8.3//NONSGML v1.0//EN
CALSCALE:GREGORIAN
METHOD:PUBLISH
X-ORIGINAL-URL:http://mako.hu
X-WR-CALDESC:Events for Makó
REFRESH-INTERVAL;VALUE=DURATION:PT1H
X-Robots-Tag:noindex
X-PUBLISHED-TTL:PT1H
BEGIN:VTIMEZONE
TZID:Europe/Budapest
BEGIN:DAYLIGHT
TZOFFSETFROM:+0100
TZOFFSETTO:+0200
TZNAME:CEST
DTSTART:20250330T010000
END:DAYLIGHT
BEGIN:STANDARD
TZOFFSETFROM:+0200
TZOFFSETTO:+0100
TZNAME:CET
DTSTART:20251026T010000
END:STANDARD
END:VTIMEZONE
BEGIN:VEVENT
DTSTART;TZID=Europe/Budapest:20251118T100000
DTEND;TZID=Europe/Budapest:20251118T110000
DTSTAMP:20260421T204942
CREATED:20251112T133555Z
LAST-MODIFIED:20251112T133555Z
UID:37149-1763460000-1763463600@mako.hu
SUMMARY:Rendhagyó Énekkar - Magyar Nemzeti Férfikar
DESCRIPTION:
URL:http://mako.hu/program/rendhagyo-enekkar-magyar-nemzeti-ferfikar/
ATTACH;FMTTYPE=image/png:http://mako.hu/wp-content/uploads/2025/11/mnferfikar-2025-11-18.png
END:VEVENT
BEGIN:VEVENT
DTSTART;TZID=Europe/Budapest:20251118T163000
DTEND;TZID=Europe/Budapest:20251118T173000
DTSTAMP:20260421T204942
CREATED:20251105T084123Z
LAST-MODIFIED:20251105T084123Z
UID:37067-1763483400-1763487000@mako.hu
SUMMARY:Tudtad\, hogy a talaj él? - Dr. Sipos József (Siposgazda)
DESCRIPTION:
URL:http://mako.hu/program/tudtad-hogy-a-talaj-el-dr-sipos-jozsef-siposgazda/
ATTACH;FMTTYPE=image/jpeg:http://mako.hu/wp-content/uploads/2025/11/kertbarat-sipos-gazda.jpg
END:VEVENT
BEGIN:VEVENT
DTSTART;TZID=Europe/Budapest:20251118T170000
DTEND;TZID=Europe/Budapest:20251118T180000
DTSTAMP:20260421T204942
CREATED:20251112T094514Z
LAST-MODIFIED:20251112T094514Z
UID:37136-1763485200-1763488800@mako.hu
SUMMARY:Baranyiné Mariann - 22 kulcs az elégedett élethez könyvbemutató
DESCRIPTION:
URL:http://mako.hu/program/baranyine-mariann-22-kulcs-az-elegedett-elethez-konyvbemutato/
ATTACH;FMTTYPE=image/jpeg:http://mako.hu/wp-content/uploads/2025/11/580304207-1287972003363639-5598195876519908579-n.jpg
END:VEVENT
END:VCALENDAR