BEGIN:VCALENDAR
VERSION:2.0
PRODID:-//Makó - ECPv6.8.3//NONSGML v1.0//EN
CALSCALE:GREGORIAN
METHOD:PUBLISH
X-ORIGINAL-URL:http://mako.hu
X-WR-CALDESC:Events for Makó
REFRESH-INTERVAL;VALUE=DURATION:PT1H
X-Robots-Tag:noindex
X-PUBLISHED-TTL:PT1H
BEGIN:VTIMEZONE
TZID:Europe/Budapest
BEGIN:DAYLIGHT
TZOFFSETFROM:+0100
TZOFFSETTO:+0200
TZNAME:CEST
DTSTART:20250330T010000
END:DAYLIGHT
BEGIN:STANDARD
TZOFFSETFROM:+0200
TZOFFSETTO:+0100
TZNAME:CET
DTSTART:20251026T010000
END:STANDARD
END:VTIMEZONE
BEGIN:VEVENT
DTSTART;VALUE=DATE:20251023
DTEND;VALUE=DATE:20251103
DTSTAMP:20260421T221242
CREATED:20251021T090802Z
LAST-MODIFIED:20251021T090802Z
UID:36899-1761177600-1762127999@mako.hu
SUMMARY:Őszi szüneti kalandok a Maros Kalandparton
DESCRIPTION:
URL:http://mako.hu/program/oszi-szuneti-kalandok-a-maros-kalandparton/
ATTACH;FMTTYPE=image/jpeg:http://mako.hu/wp-content/uploads/2025/10/kalandpart-oszi-szunet-nyitvatartas.jpg
END:VEVENT
BEGIN:VEVENT
DTSTART;VALUE=DATE:20251023
DTEND;VALUE=DATE:20251103
DTSTAMP:20260421T221242
CREATED:20251021T090859Z
LAST-MODIFIED:20251021T090859Z
UID:36903-1761177600-1762127999@mako.hu
SUMMARY:Őszi szüneti túrák a Lombkorona Sétányon
DESCRIPTION:
URL:http://mako.hu/program/oszi-szuneti-turak-a-lombkorona-setanyon/
ATTACH;FMTTYPE=image/jpeg:http://mako.hu/wp-content/uploads/2025/10/lombkorona-oszi-szunet-nyitvatartas.jpg
END:VEVENT
BEGIN:VEVENT
DTSTART;TZID=Europe/Budapest:20251023T180000
DTEND;TZID=Europe/Budapest:20251023T200000
DTSTAMP:20260421T221242
CREATED:20251009T111631Z
LAST-MODIFIED:20251017T133608Z
UID:36805-1761242400-1761249600@mako.hu
SUMMARY:A Szabadság Napja - "Fáklyával és lángoló szívvel a Hősökért!"
DESCRIPTION:
URL:http://mako.hu/program/a-szabadsag-napja-faklyaval-es-langolo-szivvel-a-hosokert/
ATTACH;FMTTYPE=image/jpeg:http://mako.hu/wp-content/uploads/2025/10/onkormanyzat-oktober-23-program-plakat-2025-1-scaled.jpg
END:VEVENT
END:VCALENDAR