BEGIN:VCALENDAR
VERSION:2.0
PRODID:-//Makó - ECPv6.8.3//NONSGML v1.0//EN
CALSCALE:GREGORIAN
METHOD:PUBLISH
X-WR-CALNAME:Makó
X-ORIGINAL-URL:http://mako.hu
X-WR-CALDESC:Events for Makó
REFRESH-INTERVAL;VALUE=DURATION:PT1H
X-Robots-Tag:noindex
X-PUBLISHED-TTL:PT1H
BEGIN:VTIMEZONE
TZID:Europe/Budapest
BEGIN:DAYLIGHT
TZOFFSETFROM:+0100
TZOFFSETTO:+0200
TZNAME:CEST
DTSTART:20250330T010000
END:DAYLIGHT
BEGIN:STANDARD
TZOFFSETFROM:+0200
TZOFFSETTO:+0100
TZNAME:CET
DTSTART:20251026T010000
END:STANDARD
END:VTIMEZONE
BEGIN:VEVENT
DTSTART;VALUE=DATE:20251007
DTEND;VALUE=DATE:20251014
DTSTAMP:20260421T221146
CREATED:20251001T064357Z
LAST-MODIFIED:20251001T064357Z
UID:36745-1759795200-1760399999@mako.hu
SUMMARY:Országos Könyvtári Napok 2025
DESCRIPTION:
URL:http://mako.hu/program/orszagos-konyvtari-napok-2025/
ATTACH;FMTTYPE=image/jpeg:http://mako.hu/wp-content/uploads/2025/10/555785206-1234229515413870-784666256361498161-n.jpg
END:VEVENT
BEGIN:VEVENT
DTSTART;TZID=Europe/Budapest:20251012T084500
DTEND;TZID=Europe/Budapest:20251012T120000
DTSTAMP:20260421T221146
CREATED:20251003T091738Z
LAST-MODIFIED:20251003T091738Z
UID:36770-1760258700-1760270400@mako.hu
SUMMARY:Világ Gyalogló (Hó)nap - Mendei Árpád Emléktúrára
DESCRIPTION:
URL:http://mako.hu/program/vilag-gyaloglo-honap-mendei-arpad-emlekturara-2/
ATTACH;FMTTYPE=image/jpeg:http://mako.hu/wp-content/uploads/2025/09/556495682-24743819278604563-8477399640292212291-n.jpg
END:VEVENT
END:VCALENDAR