BEGIN:VCALENDAR
VERSION:2.0
PRODID:-//Makó - ECPv6.8.3//NONSGML v1.0//EN
CALSCALE:GREGORIAN
METHOD:PUBLISH
X-ORIGINAL-URL:http://mako.hu
X-WR-CALDESC:Events for Makó
REFRESH-INTERVAL;VALUE=DURATION:PT1H
X-Robots-Tag:noindex
X-PUBLISHED-TTL:PT1H
BEGIN:VTIMEZONE
TZID:Europe/Budapest
BEGIN:DAYLIGHT
TZOFFSETFROM:+0100
TZOFFSETTO:+0200
TZNAME:CEST
DTSTART:20250330T010000
END:DAYLIGHT
BEGIN:STANDARD
TZOFFSETFROM:+0200
TZOFFSETTO:+0100
TZNAME:CET
DTSTART:20251026T010000
END:STANDARD
END:VTIMEZONE
BEGIN:VEVENT
DTSTART;TZID=Europe/Budapest:20251006T170000
DTEND;TZID=Europe/Budapest:20251006T180000
DTSTAMP:20260421T221245
CREATED:20250926T092623Z
LAST-MODIFIED:20250926T092623Z
UID:36712-1759770000-1759773600@mako.hu
SUMMARY:Aradi Vértanúk Emléknapja
DESCRIPTION:
URL:http://mako.hu/program/aradi-vertanuk-emleknapja-3/
ATTACH;FMTTYPE=image/jpeg:http://mako.hu/wp-content/uploads/2025/09/hagymahaz-oktober6-aradi-vertanuk.jpg
END:VEVENT
END:VCALENDAR