BEGIN:VCALENDAR
VERSION:2.0
PRODID:-//Makó - ECPv6.8.3//NONSGML v1.0//EN
CALSCALE:GREGORIAN
METHOD:PUBLISH
X-ORIGINAL-URL:http://mako.hu
X-WR-CALDESC:Events for Makó
REFRESH-INTERVAL;VALUE=DURATION:PT1H
X-Robots-Tag:noindex
X-PUBLISHED-TTL:PT1H
BEGIN:VTIMEZONE
TZID:Europe/Budapest
BEGIN:DAYLIGHT
TZOFFSETFROM:+0100
TZOFFSETTO:+0200
TZNAME:CEST
DTSTART:20250330T010000
END:DAYLIGHT
BEGIN:STANDARD
TZOFFSETFROM:+0200
TZOFFSETTO:+0100
TZNAME:CET
DTSTART:20251026T010000
END:STANDARD
END:VTIMEZONE
BEGIN:VEVENT
DTSTART;TZID=Europe/Budapest:20251005T084500
DTEND;TZID=Europe/Budapest:20251005T120000
DTSTAMP:20260421T221241
CREATED:20250924T103333Z
LAST-MODIFIED:20251003T091652Z
UID:36633-1759653900-1759665600@mako.hu
SUMMARY:!IDŐPONTVÁLTOZÁS! Világ Gyalogló (Hó)nap - Mendei Árpád Emléktúrára
DESCRIPTION:
URL:http://mako.hu/program/vilag-gyaloglo-honap-mendei-arpad-emlekturara/
ATTACH;FMTTYPE=image/jpeg:http://mako.hu/wp-content/uploads/2025/09/556495682-24743819278604563-8477399640292212291-n.jpg
END:VEVENT
END:VCALENDAR