BEGIN:VCALENDAR
VERSION:2.0
PRODID:-//Makó - ECPv6.8.3//NONSGML v1.0//EN
CALSCALE:GREGORIAN
METHOD:PUBLISH
X-ORIGINAL-URL:http://mako.hu
X-WR-CALDESC:Events for Makó
REFRESH-INTERVAL;VALUE=DURATION:PT1H
X-Robots-Tag:noindex
X-PUBLISHED-TTL:PT1H
BEGIN:VTIMEZONE
TZID:Europe/Budapest
BEGIN:DAYLIGHT
TZOFFSETFROM:+0100
TZOFFSETTO:+0200
TZNAME:CEST
DTSTART:20250330T010000
END:DAYLIGHT
BEGIN:STANDARD
TZOFFSETFROM:+0200
TZOFFSETTO:+0100
TZNAME:CET
DTSTART:20251026T010000
END:STANDARD
END:VTIMEZONE
BEGIN:VEVENT
DTSTART;TZID=Europe/Budapest:20250926T100000
DTEND;TZID=Europe/Budapest:20250926T120000
DTSTAMP:20260421T234624
CREATED:20250917T180646Z
LAST-MODIFIED:20250917T180646Z
UID:36559-1758880800-1758888000@mako.hu
SUMMARY:„Értékeink – Makó város értéktárának kincsei II. - könybemutató
DESCRIPTION:
URL:http://mako.hu/program/ertekeink-mako-varos-ertektaranak-kincsei-ii-konybemutato/
ATTACH;FMTTYPE=image/jpeg:http://mako.hu/wp-content/uploads/2025/09/20250926ertektar-plakat.jpg
END:VEVENT
BEGIN:VEVENT
DTSTART;TZID=Europe/Budapest:20250926T150000
DTEND;TZID=Europe/Budapest:20250926T200000
DTSTAMP:20260421T234624
CREATED:20250915T083024Z
LAST-MODIFIED:20250915T083024Z
UID:36468-1758898800-1758916800@mako.hu
SUMMARY:Idősek világnapja
DESCRIPTION:
URL:http://mako.hu/program/idosek-vilagnapja-2/
ATTACH;FMTTYPE=image/jpeg:http://mako.hu/wp-content/uploads/2025/09/idosek-vilagnapja-2025-mm.jpg
END:VEVENT
END:VCALENDAR