BEGIN:VCALENDAR
VERSION:2.0
PRODID:-//Makó - ECPv6.8.3//NONSGML v1.0//EN
CALSCALE:GREGORIAN
METHOD:PUBLISH
X-WR-CALNAME:Makó
X-ORIGINAL-URL:http://mako.hu
X-WR-CALDESC:Events for Makó
REFRESH-INTERVAL;VALUE=DURATION:PT1H
X-Robots-Tag:noindex
X-PUBLISHED-TTL:PT1H
BEGIN:VTIMEZONE
TZID:Europe/Budapest
BEGIN:DAYLIGHT
TZOFFSETFROM:+0100
TZOFFSETTO:+0200
TZNAME:CEST
DTSTART:20250330T010000
END:DAYLIGHT
BEGIN:STANDARD
TZOFFSETFROM:+0200
TZOFFSETTO:+0100
TZNAME:CET
DTSTART:20251026T010000
END:STANDARD
END:VTIMEZONE
BEGIN:VEVENT
DTSTART;TZID=Europe/Budapest:20250823T140000
DTEND;TZID=Europe/Budapest:20250823T140000
DTSTAMP:20260422T213929
CREATED:20250819T135514Z
LAST-MODIFIED:20250819T135514Z
UID:36309-1755957600-1755957600@mako.hu
SUMMARY:Országos vízipisztoly csata rekordkísérlet - Hagymatikum
DESCRIPTION:
URL:http://mako.hu/program/orszagos-vizipisztoly-csata-rekordkiserlet-hagymatikum/
ATTACH;FMTTYPE=image/jpeg:http://mako.hu/wp-content/uploads/2025/08/vizipisztoly-rekord-a3.jpg
END:VEVENT
BEGIN:VEVENT
DTSTART;TZID=Europe/Budapest:20250823T160000
DTEND;TZID=Europe/Budapest:20250823T220000
DTSTAMP:20260422T213929
CREATED:20250702T074353Z
LAST-MODIFIED:20250702T074353Z
UID:35923-1755964800-1755986400@mako.hu
SUMMARY:Szent István téri városrésznap
DESCRIPTION:
URL:http://mako.hu/program/szent-istvan-teri-varosresznap-4/
END:VEVENT
END:VCALENDAR