BEGIN:VCALENDAR
VERSION:2.0
PRODID:-//Makó - ECPv6.8.3//NONSGML v1.0//EN
CALSCALE:GREGORIAN
METHOD:PUBLISH
X-ORIGINAL-URL:http://mako.hu
X-WR-CALDESC:Events for Makó
REFRESH-INTERVAL;VALUE=DURATION:PT1H
X-Robots-Tag:noindex
X-PUBLISHED-TTL:PT1H
BEGIN:VTIMEZONE
TZID:Europe/Budapest
BEGIN:DAYLIGHT
TZOFFSETFROM:+0100
TZOFFSETTO:+0200
TZNAME:CEST
DTSTART:20250330T010000
END:DAYLIGHT
BEGIN:STANDARD
TZOFFSETFROM:+0200
TZOFFSETTO:+0100
TZNAME:CET
DTSTART:20251026T010000
END:STANDARD
END:VTIMEZONE
BEGIN:VEVENT
DTSTART;TZID=Europe/Budapest:20250801T163000
DTEND;TZID=Europe/Budapest:20250801T173000
DTSTAMP:20260422T025520
CREATED:20250725T103756Z
LAST-MODIFIED:20250725T103756Z
UID:36153-1754065800-1754069400@mako.hu
SUMMARY:XVIII. Natura Marosmenti Művésztelep NYITÓKIÁLLÍTÁS
DESCRIPTION:
URL:http://mako.hu/program/xviii-natura-marosmenti-muvesztelep-nyitokiallitas/
ATTACH;FMTTYPE=image/jpeg:http://mako.hu/wp-content/uploads/2025/07/meghivo-1.jpg
END:VEVENT
END:VCALENDAR