BEGIN:VCALENDAR
VERSION:2.0
PRODID:-//Makó - ECPv6.8.3//NONSGML v1.0//EN
CALSCALE:GREGORIAN
METHOD:PUBLISH
X-WR-CALNAME:Makó
X-ORIGINAL-URL:http://mako.hu
X-WR-CALDESC:Events for Makó
REFRESH-INTERVAL;VALUE=DURATION:PT1H
X-Robots-Tag:noindex
X-PUBLISHED-TTL:PT1H
BEGIN:VTIMEZONE
TZID:Europe/Budapest
BEGIN:DAYLIGHT
TZOFFSETFROM:+0100
TZOFFSETTO:+0200
TZNAME:CEST
DTSTART:20250330T010000
END:DAYLIGHT
BEGIN:STANDARD
TZOFFSETFROM:+0200
TZOFFSETTO:+0100
TZNAME:CET
DTSTART:20251026T010000
END:STANDARD
END:VTIMEZONE
BEGIN:VEVENT
DTSTART;TZID=Europe/Budapest:20250628T120000
DTEND;TZID=Europe/Budapest:20250628T160000
DTSTAMP:20260422T060047
CREATED:20250624T062807Z
LAST-MODIFIED:20250624T063820Z
UID:35828-1751112000-1751126400@mako.hu
SUMMARY:Rádió 88 strandparty a Hagymatikumban
DESCRIPTION:
URL:http://mako.hu/program/radio-88-strandparty-a-hagymatikumban/
ATTACH;FMTTYPE=image/jpeg:http://mako.hu/wp-content/uploads/2025/06/502575583-1110708054424558-4525176191397799438-n.jpg
END:VEVENT
BEGIN:VEVENT
DTSTART;TZID=Europe/Budapest:20250628T170000
DTEND;TZID=Europe/Budapest:20250628T230000
DTSTAMP:20260422T060047
CREATED:20250623T092912Z
LAST-MODIFIED:20250623T092912Z
UID:35812-1751130000-1751151600@mako.hu
SUMMARY:Múzeumok Éjszakája
DESCRIPTION:
URL:http://mako.hu/program/muzeumok-ejszakaja-2/
ATTACH;FMTTYPE=image/jpeg:http://mako.hu/wp-content/uploads/2025/06/1000021584.jpg
END:VEVENT
END:VCALENDAR