BEGIN:VCALENDAR
VERSION:2.0
PRODID:-//Makó - ECPv6.8.3//NONSGML v1.0//EN
CALSCALE:GREGORIAN
METHOD:PUBLISH
X-WR-CALNAME:Makó
X-ORIGINAL-URL:http://mako.hu
X-WR-CALDESC:Events for Makó
REFRESH-INTERVAL;VALUE=DURATION:PT1H
X-Robots-Tag:noindex
X-PUBLISHED-TTL:PT1H
BEGIN:VTIMEZONE
TZID:Europe/Budapest
BEGIN:DAYLIGHT
TZOFFSETFROM:+0100
TZOFFSETTO:+0200
TZNAME:CEST
DTSTART:20250330T010000
END:DAYLIGHT
BEGIN:STANDARD
TZOFFSETFROM:+0200
TZOFFSETTO:+0100
TZNAME:CET
DTSTART:20251026T010000
END:STANDARD
END:VTIMEZONE
BEGIN:VEVENT
DTSTART;TZID=Europe/Budapest:20250623T170000
DTEND;TZID=Europe/Budapest:20250623T170000
DTSTAMP:20260422T085757
CREATED:20250617T094039Z
LAST-MODIFIED:20250617T094039Z
UID:35651-1750698000-1750698000@mako.hu
SUMMARY:Kövér László „A gyergyószentmiklósi és a rétháti Kövér családok története I–II.” című monográfiájának bemutatója
DESCRIPTION:
URL:http://mako.hu/program/kover-laszlo-a-gyergyoszentmiklosi-es-a-rethati-kover-csaladok-tortenete-i-ii-cimu-monografiajanak-bemutatoja/
CATEGORIES:kulturális
ATTACH;FMTTYPE=image/jpeg:http://mako.hu/wp-content/uploads/2025/06/plakatmonografia-bemutato.jpg
END:VEVENT
END:VCALENDAR