BEGIN:VCALENDAR
VERSION:2.0
PRODID:-//Makó - ECPv6.8.3//NONSGML v1.0//EN
CALSCALE:GREGORIAN
METHOD:PUBLISH
X-WR-CALNAME:Makó
X-ORIGINAL-URL:http://mako.hu
X-WR-CALDESC:Events for Makó
REFRESH-INTERVAL;VALUE=DURATION:PT1H
X-Robots-Tag:noindex
X-PUBLISHED-TTL:PT1H
BEGIN:VTIMEZONE
TZID:Europe/Budapest
BEGIN:DAYLIGHT
TZOFFSETFROM:+0100
TZOFFSETTO:+0200
TZNAME:CEST
DTSTART:20250330T010000
END:DAYLIGHT
BEGIN:STANDARD
TZOFFSETFROM:+0200
TZOFFSETTO:+0100
TZNAME:CET
DTSTART:20251026T010000
END:STANDARD
END:VTIMEZONE
BEGIN:VEVENT
DTSTART;VALUE=DATE:20250620
DTEND;VALUE=DATE:20250622
DTSTAMP:20260422T083407
CREATED:20250611T154513Z
LAST-MODIFIED:20250611T154513Z
UID:35617-1750377600-1750550399@mako.hu
SUMMARY:Szentivánéji borzsongás
DESCRIPTION:
URL:http://mako.hu/program/szentivaneji-borzsongas/
ATTACH;FMTTYPE=image/jpeg:http://mako.hu/wp-content/uploads/2025/06/szentivaneji-borzsongas-1-scaled.jpg
END:VEVENT
BEGIN:VEVENT
DTSTART;TZID=Europe/Budapest:20250621T160000
DTEND;TZID=Europe/Budapest:20250621T230000
DTSTAMP:20260422T083407
CREATED:20250611T134216Z
LAST-MODIFIED:20250611T134216Z
UID:35614-1750521600-1750546800@mako.hu
SUMMARY:Nyílt nap a Maros Malomban - Múzeumok éjszakája
DESCRIPTION:
URL:http://mako.hu/program/nyilt-nap-a-maros-malomban-muzeumok-ejszakaja/
ATTACH;FMTTYPE=image/jpeg:http://mako.hu/wp-content/uploads/2025/06/505352837-1497381064933346-4839453969303032351-n.jpg
END:VEVENT
BEGIN:VEVENT
DTSTART;TZID=Europe/Budapest:20250621T170000
DTEND;TZID=Europe/Budapest:20250621T180000
DTSTAMP:20260422T083407
CREATED:20250619T083944Z
LAST-MODIFIED:20250619T083944Z
UID:35781-1750525200-1750528800@mako.hu
SUMMARY:Emlékkiállítás Igaz Lajos makói festő alkotásaiból
DESCRIPTION:
URL:http://mako.hu/program/emlekkiallitas-igaz-lajos-makoi-festo-alkotasaibol/
ATTACH;FMTTYPE=image/jpeg:http://mako.hu/wp-content/uploads/2025/06/504353717-1267227962078835-482989937362927172-n.jpg
END:VEVENT
END:VCALENDAR