BEGIN:VCALENDAR
VERSION:2.0
PRODID:-//Makó - ECPv6.8.3//NONSGML v1.0//EN
CALSCALE:GREGORIAN
METHOD:PUBLISH
X-WR-CALNAME:Makó
X-ORIGINAL-URL:http://mako.hu
X-WR-CALDESC:Events for Makó
REFRESH-INTERVAL;VALUE=DURATION:PT1H
X-Robots-Tag:noindex
X-PUBLISHED-TTL:PT1H
BEGIN:VTIMEZONE
TZID:Europe/Budapest
BEGIN:DAYLIGHT
TZOFFSETFROM:+0100
TZOFFSETTO:+0200
TZNAME:CEST
DTSTART:20250330T010000
END:DAYLIGHT
BEGIN:STANDARD
TZOFFSETFROM:+0200
TZOFFSETTO:+0100
TZNAME:CET
DTSTART:20251026T010000
END:STANDARD
END:VTIMEZONE
BEGIN:VEVENT
DTSTART;TZID=Europe/Budapest:20250614T080000
DTEND;TZID=Europe/Budapest:20250614T170000
DTSTAMP:20260422T083424
CREATED:20250529T081429Z
LAST-MODIFIED:20250529T081429Z
UID:35443-1749888000-1749920400@mako.hu
SUMMARY:Water Skyball - amatőr bajnokság mindenkinek
DESCRIPTION:
URL:http://mako.hu/program/water-skyball-amator-bajnoksag-mindenkinek/
CATEGORIES:sport
ATTACH;FMTTYPE=image/jpeg:http://mako.hu/wp-content/uploads/2025/05/502419111-1090570059771691-2120385354247440824-n.jpg
END:VEVENT
BEGIN:VEVENT
DTSTART;TZID=Europe/Budapest:20250614T160000
DTEND;TZID=Europe/Budapest:20250614T170000
DTSTAMP:20260422T083424
CREATED:20250610T134505Z
LAST-MODIFIED:20250610T134505Z
UID:35591-1749916800-1749920400@mako.hu
SUMMARY:VII. Hagyományörző Roma Muzsikus Műhely
DESCRIPTION:
URL:http://mako.hu/program/vii-hagyomanyorzo-roma-muzsikus-muhely/
ATTACH;FMTTYPE=image/jpeg:http://mako.hu/wp-content/uploads/2025/06/505424253-122137170920783679-6212740842851348157-n.jpg
END:VEVENT
BEGIN:VEVENT
DTSTART;TZID=Europe/Budapest:20250614T170000
DTEND;TZID=Europe/Budapest:20250614T180000
DTSTAMP:20260422T083424
CREATED:20250526T114131Z
LAST-MODIFIED:20250526T114131Z
UID:35393-1749920400-1749924000@mako.hu
SUMMARY:Szikszai Zsuzsanna - Istók Margit könyvbemutató
DESCRIPTION:
URL:http://mako.hu/program/szikszai-zsuzsanna-istok-margit-konyvbemutato/
CATEGORIES:esemény,kulturális
ATTACH;FMTTYPE=image/png:http://mako.hu/wp-content/uploads/2025/05/konyvbemutato.png
END:VEVENT
END:VCALENDAR