BEGIN:VCALENDAR
VERSION:2.0
PRODID:-//Makó - ECPv6.8.3//NONSGML v1.0//EN
CALSCALE:GREGORIAN
METHOD:PUBLISH
X-WR-CALNAME:Makó
X-ORIGINAL-URL:http://mako.hu
X-WR-CALDESC:Events for Makó
REFRESH-INTERVAL;VALUE=DURATION:PT1H
X-Robots-Tag:noindex
X-PUBLISHED-TTL:PT1H
BEGIN:VTIMEZONE
TZID:Europe/Budapest
BEGIN:DAYLIGHT
TZOFFSETFROM:+0100
TZOFFSETTO:+0200
TZNAME:CEST
DTSTART:20250330T010000
END:DAYLIGHT
BEGIN:STANDARD
TZOFFSETFROM:+0200
TZOFFSETTO:+0100
TZNAME:CET
DTSTART:20251026T010000
END:STANDARD
END:VTIMEZONE
BEGIN:VEVENT
DTSTART;VALUE=DATE:20250613
DTEND;VALUE=DATE:20250614
DTSTAMP:20260422T101537
CREATED:20250529T081356Z
LAST-MODIFIED:20250529T081457Z
UID:35439-1749772800-1749859199@mako.hu
SUMMARY:Water Skyball - amatőr bajnokság középiskolásoknak
DESCRIPTION:
URL:http://mako.hu/program/water-skyball-amator-bajnoksag-kozepiskolasoknak/
CATEGORIES:sport,szabadidő
ATTACH;FMTTYPE=image/jpeg:http://mako.hu/wp-content/uploads/2025/05/501811105-1090570039771693-3234193480508829412-n.jpg
END:VEVENT
BEGIN:VEVENT
DTSTART;TZID=Europe/Budapest:20250613T160000
DTEND;TZID=Europe/Budapest:20250613T190000
DTSTAMP:20260422T101537
CREATED:20250529T111600Z
LAST-MODIFIED:20250529T111600Z
UID:35448-1749830400-1749841200@mako.hu
SUMMARY:Antal József atya születésének 85 évfordulója alkalmából ünnepi megemlékezés
DESCRIPTION:
URL:http://mako.hu/program/antal-jozsef-atya-szuletesenek-85-evforduloja-alkalmabol-unnepi-megemlekezes/
CATEGORIES:esemény
ATTACH;FMTTYPE=image/jpeg:http://mako.hu/wp-content/uploads/2025/05/495306050-1149870783840429-1766464777436550074-n.jpg
END:VEVENT
END:VCALENDAR