BEGIN:VCALENDAR
VERSION:2.0
PRODID:-//Makó - ECPv6.8.3//NONSGML v1.0//EN
CALSCALE:GREGORIAN
METHOD:PUBLISH
X-ORIGINAL-URL:http://mako.hu
X-WR-CALDESC:Events for Makó
REFRESH-INTERVAL;VALUE=DURATION:PT1H
X-Robots-Tag:noindex
X-PUBLISHED-TTL:PT1H
BEGIN:VTIMEZONE
TZID:Europe/Budapest
BEGIN:DAYLIGHT
TZOFFSETFROM:+0100
TZOFFSETTO:+0200
TZNAME:CEST
DTSTART:20250330T010000
END:DAYLIGHT
BEGIN:STANDARD
TZOFFSETFROM:+0200
TZOFFSETTO:+0100
TZNAME:CET
DTSTART:20251026T010000
END:STANDARD
END:VTIMEZONE
BEGIN:VEVENT
DTSTART;TZID=Europe/Budapest:20250527T143000
DTEND;TZID=Europe/Budapest:20250527T160000
DTSTAMP:20260422T054730
CREATED:20250522T103719Z
LAST-MODIFIED:20250522T103719Z
UID:35334-1748356200-1748361600@mako.hu
SUMMARY:SZTE Bartók Béla Művészeti Kar zongora szakos hallgatóinak hangversenye
DESCRIPTION:
URL:http://mako.hu/program/szte-bartok-bela-muveszeti-kar-zongora-szakos-hallgatoinak-hangversenye/
CATEGORIES:kulturális,zenei
ATTACH;FMTTYPE=image/jpeg:http://mako.hu/wp-content/uploads/2025/05/499580223-1144577171036457-248441026896235507-n.jpg
END:VEVENT
END:VCALENDAR