BEGIN:VCALENDAR
VERSION:2.0
PRODID:-//Makó - ECPv6.8.3//NONSGML v1.0//EN
CALSCALE:GREGORIAN
METHOD:PUBLISH
X-ORIGINAL-URL:http://mako.hu
X-WR-CALDESC:Events for Makó
REFRESH-INTERVAL;VALUE=DURATION:PT1H
X-Robots-Tag:noindex
X-PUBLISHED-TTL:PT1H
BEGIN:VTIMEZONE
TZID:Europe/Budapest
BEGIN:DAYLIGHT
TZOFFSETFROM:+0100
TZOFFSETTO:+0200
TZNAME:CEST
DTSTART:20250330T010000
END:DAYLIGHT
BEGIN:STANDARD
TZOFFSETFROM:+0200
TZOFFSETTO:+0100
TZNAME:CET
DTSTART:20251026T010000
END:STANDARD
END:VTIMEZONE
BEGIN:VEVENT
DTSTART;TZID=Europe/Budapest:20250525T100000
DTEND;TZID=Europe/Budapest:20250525T120000
DTSTAMP:20260422T054731
CREATED:20250520T075559Z
LAST-MODIFIED:20250520T075559Z
UID:35293-1748167200-1748174400@mako.hu
SUMMARY:Újszülött támogatás átadó ünnepség
DESCRIPTION:
URL:http://mako.hu/program/ujszulott-tamogatas-atado-unnepseg/
END:VEVENT
BEGIN:VEVENT
DTSTART;TZID=Europe/Budapest:20250525T100000
DTEND;TZID=Europe/Budapest:20250525T180000
DTSTAMP:20260422T054731
CREATED:20250515T114658Z
LAST-MODIFIED:20250515T114658Z
UID:35222-1748167200-1748196000@mako.hu
SUMMARY:Gyermeknap
DESCRIPTION:
URL:http://mako.hu/program/gyermeknap/
CATEGORIES:esemény
ATTACH;FMTTYPE=image/jpeg:http://mako.hu/wp-content/uploads/2025/05/gyermeknap-vizjelmentes-scaled.jpg
END:VEVENT
END:VCALENDAR