BEGIN:VCALENDAR
VERSION:2.0
PRODID:-//Makó - ECPv6.8.3//NONSGML v1.0//EN
CALSCALE:GREGORIAN
METHOD:PUBLISH
X-WR-CALNAME:Makó
X-ORIGINAL-URL:http://mako.hu
X-WR-CALDESC:Events for Makó
REFRESH-INTERVAL;VALUE=DURATION:PT1H
X-Robots-Tag:noindex
X-PUBLISHED-TTL:PT1H
BEGIN:VTIMEZONE
TZID:Europe/Budapest
BEGIN:DAYLIGHT
TZOFFSETFROM:+0100
TZOFFSETTO:+0200
TZNAME:CEST
DTSTART:20250330T010000
END:DAYLIGHT
BEGIN:STANDARD
TZOFFSETFROM:+0200
TZOFFSETTO:+0100
TZNAME:CET
DTSTART:20251026T010000
END:STANDARD
END:VTIMEZONE
BEGIN:VEVENT
DTSTART;VALUE=DATE:20250507
DTEND;VALUE=DATE:20250513
DTSTAMP:20260422T054812
CREATED:20250505T125855Z
LAST-MODIFIED:20250505T132034Z
UID:35085-1746576000-1747094399@mako.hu
SUMMARY:Útlezárások - Makói Városnapok
DESCRIPTION:
URL:http://mako.hu/program/utlezarasok/
ATTACH;FMTTYPE=image/jpeg:http://mako.hu/wp-content/uploads/2025/05/495017306-1304699644995095-7983407135895736399-n.jpg
END:VEVENT
BEGIN:VEVENT
DTSTART;VALUE=DATE:20250508
DTEND;VALUE=DATE:20250512
DTSTAMP:20260422T054812
CREATED:20250127T074420Z
LAST-MODIFIED:20250424T095521Z
UID:33750-1746662400-1747007999@mako.hu
SUMMARY:Makói Városnapok 2025
DESCRIPTION:
URL:http://mako.hu/program/varosnap-2/
CATEGORIES:esemény
ATTACH;FMTTYPE=image/jpeg:http://mako.hu/wp-content/uploads/2025/01/makoi-varosnapok-reszletes-plakat-vegleges-scaled.jpg
END:VEVENT
BEGIN:VEVENT
DTSTART;TZID=Europe/Budapest:20250508T163000
DTEND;TZID=Europe/Budapest:20250508T173000
DTSTAMP:20260422T054812
CREATED:20250505T125659Z
LAST-MODIFIED:20250505T125659Z
UID:35082-1746721800-1746725400@mako.hu
SUMMARY:Ötórai tea – MYGAN ART rendhagyó „videó discója” V. részé
DESCRIPTION:
URL:http://mako.hu/program/otorai-tea-mygan-art-rendhagyo-video-discoja-v-resze/
CATEGORIES:előadás
ATTACH;FMTTYPE=image/jpeg:http://mako.hu/wp-content/uploads/2025/05/493439864-9544766158905072-941595213842135140-n.jpg
END:VEVENT
BEGIN:VEVENT
DTSTART;TZID=Europe/Budapest:20250508T180000
DTEND;TZID=Europe/Budapest:20250508T210000
DTSTAMP:20260422T054812
CREATED:20250506T071058Z
LAST-MODIFIED:20250506T071058Z
UID:35094-1746727200-1746738000@mako.hu
SUMMARY:Városnapi koncert - Makói Városnapok
DESCRIPTION:
URL:http://mako.hu/program/varosnapi-koncert-makoi-varosnapok/
CATEGORIES:kulturális,zenei
ATTACH;FMTTYPE=image/jpeg:http://mako.hu/wp-content/uploads/2025/05/varosnapi-koncert-plakat-2025-scaled.jpg
END:VEVENT
END:VCALENDAR