BEGIN:VCALENDAR
VERSION:2.0
PRODID:-//Makó - ECPv6.8.3//NONSGML v1.0//EN
CALSCALE:GREGORIAN
METHOD:PUBLISH
X-WR-CALNAME:Makó
X-ORIGINAL-URL:http://mako.hu
X-WR-CALDESC:Events for Makó
REFRESH-INTERVAL;VALUE=DURATION:PT1H
X-Robots-Tag:noindex
X-PUBLISHED-TTL:PT1H
BEGIN:VTIMEZONE
TZID:Europe/Budapest
BEGIN:DAYLIGHT
TZOFFSETFROM:+0100
TZOFFSETTO:+0200
TZNAME:CEST
DTSTART:20250330T010000
END:DAYLIGHT
BEGIN:STANDARD
TZOFFSETFROM:+0200
TZOFFSETTO:+0100
TZNAME:CET
DTSTART:20251026T010000
END:STANDARD
END:VTIMEZONE
BEGIN:VEVENT
DTSTART;VALUE=DATE:20250418
DTEND;VALUE=DATE:20250428
DTSTAMP:20260422T085801
CREATED:20250417T080137Z
LAST-MODIFIED:20250417T080137Z
UID:34931-1744934400-1745798399@mako.hu
SUMMARY:Maros Kalandpark és Lombkorona sétány - Tavaszi szünetben is várunk egy kis kalandra!
DESCRIPTION:
URL:http://mako.hu/program/maros-kalandpark-es-lombkorona-setany-tavaszi-szunetben-is-varunk-egy-kis-kalandra/
ATTACH;FMTTYPE=image/jpeg:http://mako.hu/wp-content/uploads/2025/04/kalandpart-nyitas-2025.jpg
END:VEVENT
BEGIN:VEVENT
DTSTART;TZID=Europe/Budapest:20250421T100000
DTEND;TZID=Europe/Budapest:20250421T170000
DTSTAMP:20260422T085801
CREATED:20250409T111251Z
LAST-MODIFIED:20250409T112825Z
UID:34812-1745229600-1745254800@mako.hu
SUMMARY:Makói Húsvét
DESCRIPTION:
URL:http://mako.hu/program/makoi-husvet-2/
CATEGORIES:szabadidő
ATTACH;FMTTYPE=image/jpeg:http://mako.hu/wp-content/uploads/2025/04/makoi-husvet-1-scaled.jpg
END:VEVENT
END:VCALENDAR