BEGIN:VCALENDAR
VERSION:2.0
PRODID:-//Makó - ECPv6.8.3//NONSGML v1.0//EN
CALSCALE:GREGORIAN
METHOD:PUBLISH
X-ORIGINAL-URL:http://mako.hu
X-WR-CALDESC:Events for Makó
REFRESH-INTERVAL;VALUE=DURATION:PT1H
X-Robots-Tag:noindex
X-PUBLISHED-TTL:PT1H
BEGIN:VTIMEZONE
TZID:Europe/Budapest
BEGIN:DAYLIGHT
TZOFFSETFROM:+0100
TZOFFSETTO:+0200
TZNAME:CEST
DTSTART:20250330T010000
END:DAYLIGHT
BEGIN:STANDARD
TZOFFSETFROM:+0200
TZOFFSETTO:+0100
TZNAME:CET
DTSTART:20251026T010000
END:STANDARD
END:VTIMEZONE
BEGIN:VEVENT
DTSTART;TZID=Europe/Budapest:20250417T093000
DTEND;TZID=Europe/Budapest:20250417T123000
DTSTAMP:20260422T085809
CREATED:20250407T072525Z
LAST-MODIFIED:20250409T112729Z
UID:34747-1744882200-1744893000@mako.hu
SUMMARY:Húsvétoló - József Attila Múzeum skanzen
DESCRIPTION:
URL:http://mako.hu/program/husvetolo-jozsef-attila-muzeum-skanzen/
CATEGORIES:esemény
ATTACH;FMTTYPE=image/jpeg:http://mako.hu/wp-content/uploads/2025/04/488545146-1220598510074975-1471832158888877375-n.jpg
END:VEVENT
BEGIN:VEVENT
DTSTART;TZID=Europe/Budapest:20250417T140000
DTEND;TZID=Europe/Budapest:20250417T180000
DTSTAMP:20260422T085809
CREATED:20250416T181234Z
LAST-MODIFIED:20250416T181234Z
UID:34913-1744898400-1744912800@mako.hu
SUMMARY:Húsvéti kézműves foglalkozás és gitár szakkör
DESCRIPTION:
URL:http://mako.hu/program/husveti-kezmuves-foglalkozas-es-gitar-szakkor/
CATEGORIES:kulturális
ATTACH;FMTTYPE=image/jpeg:http://mako.hu/wp-content/uploads/2025/04/491756142-122124984932783679-3707822335522970254-n.jpg
END:VEVENT
END:VCALENDAR