BEGIN:VCALENDAR
VERSION:2.0
PRODID:-//Makó - ECPv6.8.3//NONSGML v1.0//EN
CALSCALE:GREGORIAN
METHOD:PUBLISH
X-WR-CALNAME:Makó
X-ORIGINAL-URL:http://mako.hu
X-WR-CALDESC:Events for Makó
REFRESH-INTERVAL;VALUE=DURATION:PT1H
X-Robots-Tag:noindex
X-PUBLISHED-TTL:PT1H
BEGIN:VTIMEZONE
TZID:Europe/Budapest
BEGIN:DAYLIGHT
TZOFFSETFROM:+0100
TZOFFSETTO:+0200
TZNAME:CEST
DTSTART:20250330T010000
END:DAYLIGHT
BEGIN:STANDARD
TZOFFSETFROM:+0200
TZOFFSETTO:+0100
TZNAME:CET
DTSTART:20251026T010000
END:STANDARD
END:VTIMEZONE
BEGIN:VEVENT
DTSTART;VALUE=DATE:20250416
DTEND;VALUE=DATE:20250417
DTSTAMP:20260422T071813
CREATED:20250408T075425Z
LAST-MODIFIED:20250408T075425Z
UID:34791-1744761600-1744847999@mako.hu
SUMMARY:Holokauszt Emléknap
DESCRIPTION:
URL:http://mako.hu/program/holokauszt-emleknap-5/
ATTACH;FMTTYPE=image/png:http://mako.hu/wp-content/uploads/2025/04/holokauszt-emleknap-2025-04-16.png
END:VEVENT
BEGIN:VEVENT
DTSTART;TZID=Europe/Budapest:20250416T100000
DTEND;TZID=Europe/Budapest:20250416T120000
DTSTAMP:20260422T071813
CREATED:20250407T072335Z
LAST-MODIFIED:20250407T072335Z
UID:34744-1744797600-1744804800@mako.hu
SUMMARY:Tavaszi Gála - Makói Általános Iskola és Alapfokú Művészeti Iskola
DESCRIPTION:
URL:http://mako.hu/program/tavaszi-gala-makoi-altalanos-iskola-es-alapfoku-muveszeti-iskola/
CATEGORIES:esemény,zenei
ATTACH;FMTTYPE=image/jpeg:http://mako.hu/wp-content/uploads/2025/04/488214389-1218598463608313-820273382913666566-n.jpg
END:VEVENT
BEGIN:VEVENT
DTSTART;TZID=Europe/Budapest:20250416T160000
DTEND;TZID=Europe/Budapest:20250416T170000
DTSTAMP:20260422T071813
CREATED:20250415T085657Z
LAST-MODIFIED:20250415T085657Z
UID:34859-1744819200-1744822800@mako.hu
SUMMARY:Maros-menti Könyvklub
DESCRIPTION:
URL:http://mako.hu/program/maros-menti-konyvklub-2/
CATEGORIES:kulturális
ATTACH;FMTTYPE=image/jpeg:http://mako.hu/wp-content/uploads/2025/04/img-7847.jpeg
END:VEVENT
END:VCALENDAR