BEGIN:VCALENDAR
VERSION:2.0
PRODID:-//Makó - ECPv6.8.3//NONSGML v1.0//EN
CALSCALE:GREGORIAN
METHOD:PUBLISH
X-ORIGINAL-URL:http://mako.hu
X-WR-CALDESC:Events for Makó
REFRESH-INTERVAL;VALUE=DURATION:PT1H
X-Robots-Tag:noindex
X-PUBLISHED-TTL:PT1H
BEGIN:VTIMEZONE
TZID:Europe/Budapest
BEGIN:DAYLIGHT
TZOFFSETFROM:+0100
TZOFFSETTO:+0200
TZNAME:CEST
DTSTART:20250330T010000
END:DAYLIGHT
BEGIN:STANDARD
TZOFFSETFROM:+0200
TZOFFSETTO:+0100
TZNAME:CET
DTSTART:20251026T010000
END:STANDARD
END:VTIMEZONE
BEGIN:VEVENT
DTSTART;TZID=Europe/Budapest:20250406T084500
DTEND;TZID=Europe/Budapest:20250406T110000
DTSTAMP:20260422T071823
CREATED:20250313T084513Z
LAST-MODIFIED:20250313T084513Z
UID:34422-1743929100-1743937200@mako.hu
SUMMARY:"Rügyfakasztó" gyalogtúra a Maros ártérben
DESCRIPTION:
URL:http://mako.hu/program/rugyfakaszto-gyalogtura-a-maros-arterben/
CATEGORIES:sport,szabadidő
ATTACH;FMTTYPE=image/jpeg:http://mako.hu/wp-content/uploads/2025/03/rugyfakaszto-25-scaled.jpg
END:VEVENT
END:VCALENDAR