BEGIN:VCALENDAR
VERSION:2.0
PRODID:-//Makó - ECPv6.8.3//NONSGML v1.0//EN
CALSCALE:GREGORIAN
METHOD:PUBLISH
X-ORIGINAL-URL:http://mako.hu
X-WR-CALDESC:Events for Makó
REFRESH-INTERVAL;VALUE=DURATION:PT1H
X-Robots-Tag:noindex
X-PUBLISHED-TTL:PT1H
BEGIN:VTIMEZONE
TZID:Europe/Budapest
BEGIN:DAYLIGHT
TZOFFSETFROM:+0100
TZOFFSETTO:+0200
TZNAME:CEST
DTSTART:20250330T010000
END:DAYLIGHT
BEGIN:STANDARD
TZOFFSETFROM:+0200
TZOFFSETTO:+0100
TZNAME:CET
DTSTART:20251026T010000
END:STANDARD
END:VTIMEZONE
BEGIN:VEVENT
DTSTART;TZID=Europe/Budapest:20250405T084500
DTEND;TZID=Europe/Budapest:20250405T150000
DTSTAMP:20260422T071822
CREATED:20250313T084644Z
LAST-MODIFIED:20250327T114203Z
UID:34425-1743842700-1743865200@mako.hu
SUMMARY:Bartók Béla Kerékpáros Emléktúra Nagyszentmiklósra
DESCRIPTION:
URL:http://mako.hu/program/bartok-bela-kerekparos-emlektura-nagyszentmiklosra-2/
CATEGORIES:sport,szabadidő
ATTACH;FMTTYPE=image/jpeg:http://mako.hu/wp-content/uploads/2025/03/bartok-2025-esonap-scaled.jpg
END:VEVENT
BEGIN:VEVENT
DTSTART;TZID=Europe/Budapest:20250405T100000
DTEND;TZID=Europe/Budapest:20250405T180000
DTSTAMP:20260422T071822
CREATED:20250326T133439Z
LAST-MODIFIED:20250326T133439Z
UID:34606-1743847200-1743876000@mako.hu
SUMMARY:Makói Hagymás Csücsür Ünnep
DESCRIPTION:
URL:http://mako.hu/program/makoi-hagymas-csucsur-unnep/
CATEGORIES:esemény,szabadidő,ünnep
ATTACH;FMTTYPE=image/jpeg:http://mako.hu/wp-content/uploads/2025/03/486441263-654507760864464-6783542589846044652-n-1.jpg
END:VEVENT
BEGIN:VEVENT
DTSTART;TZID=Europe/Budapest:20250405T180000
DTEND;TZID=Europe/Budapest:20250405T200000
DTSTAMP:20260422T071822
CREATED:20250304T094333Z
LAST-MODIFIED:20250304T094333Z
UID:34275-1743876000-1743883200@mako.hu
SUMMARY:Tavaszköszöntő vonósokkal
DESCRIPTION:
URL:http://mako.hu/program/tavaszkoszonto-vonosokkal/
LOCATION:Hagymaház\, Posta u. 2.\, Makó\, 6900\, Magyarország
CATEGORIES:esemény,kulturális,zenei
ATTACH;FMTTYPE=image/jpeg:http://mako.hu/wp-content/uploads/2025/03/481146453-1180072870794345-4193307552654338755-n.jpg
END:VEVENT
END:VCALENDAR