BEGIN:VCALENDAR
VERSION:2.0
PRODID:-//Makó - ECPv6.8.3//NONSGML v1.0//EN
CALSCALE:GREGORIAN
METHOD:PUBLISH
X-WR-CALNAME:Makó
X-ORIGINAL-URL:http://mako.hu
X-WR-CALDESC:Events for Makó
REFRESH-INTERVAL;VALUE=DURATION:PT1H
X-Robots-Tag:noindex
X-PUBLISHED-TTL:PT1H
BEGIN:VTIMEZONE
TZID:Europe/Budapest
BEGIN:DAYLIGHT
TZOFFSETFROM:+0100
TZOFFSETTO:+0200
TZNAME:CEST
DTSTART:20250330T010000
END:DAYLIGHT
BEGIN:STANDARD
TZOFFSETFROM:+0200
TZOFFSETTO:+0100
TZNAME:CET
DTSTART:20251026T010000
END:STANDARD
END:VTIMEZONE
BEGIN:VEVENT
DTSTART;TZID=Europe/Budapest:20250306T080000
DTEND;TZID=Europe/Budapest:20250306T160000
DTSTAMP:20260422T085759
CREATED:20250306T142310Z
LAST-MODIFIED:20250306T142310Z
UID:34335-1741248000-1741276800@mako.hu
SUMMARY:Nyílt nap a Makói Katolikus Általános Iskolában
DESCRIPTION:
URL:http://mako.hu/program/nyilt-nap-a-makoi-katolikus-altalanos-iskolaban/
ATTACH;FMTTYPE=image/jpeg:http://mako.hu/wp-content/uploads/2025/03/477724672-9149591721803488-8704249229298442674-n.jpg
END:VEVENT
BEGIN:VEVENT
DTSTART;TZID=Europe/Budapest:20250306T163000
DTEND;TZID=Europe/Budapest:20250306T163000
DTSTAMP:20260422T085759
CREATED:20250228T123558Z
LAST-MODIFIED:20250228T123558Z
UID:34251-1741278600-1741278600@mako.hu
SUMMARY:Ötórai tea - Mygan Art rendhagyó "videó discója" II. rész
DESCRIPTION:
URL:http://mako.hu/program/otorai-tea-mygan-art-rendhagyo-video-discoja-ii-resz/
LOCATION:József Attila Városi Könyvtár és Múzeum\, Deák Ferenc u. 2.\, Makó\, 6900\, Magyarország
CATEGORIES:előadás,kulturális
ATTACH;FMTTYPE=image/jpeg:http://mako.hu/wp-content/uploads/2025/02/plakat2025marc06-scaled.jpg
END:VEVENT
BEGIN:VEVENT
DTSTART;TZID=Europe/Budapest:20250306T190000
DTEND;TZID=Europe/Budapest:20250306T190000
DTSTAMP:20260422T085759
CREATED:20250206T123520Z
LAST-MODIFIED:20250206T123520Z
UID:33913-1741287600-1741287600@mako.hu
SUMMARY:Forgách András: Tercett – Móricz Zsigmond szerelmei
DESCRIPTION:
URL:http://mako.hu/program/forgach-andras-tercett-moricz-zsigmond-szerelmei/
CATEGORIES:előadás
ATTACH;FMTTYPE=image/jpeg:http://mako.hu/wp-content/uploads/2025/02/476132945-1160738632727769-3269514523225186455-n-1.jpg
ORGANIZER;CN="Hagymah%C3%A1z":MAILTO:makoihagymahaz@gmail.com
END:VEVENT
END:VCALENDAR