BEGIN:VCALENDAR
VERSION:2.0
PRODID:-//Makó - ECPv6.8.3//NONSGML v1.0//EN
CALSCALE:GREGORIAN
METHOD:PUBLISH
X-WR-CALNAME:Makó
X-ORIGINAL-URL:http://mako.hu
X-WR-CALDESC:Events for Makó
REFRESH-INTERVAL;VALUE=DURATION:PT1H
X-Robots-Tag:noindex
X-PUBLISHED-TTL:PT1H
BEGIN:VTIMEZONE
TZID:Europe/Budapest
BEGIN:DAYLIGHT
TZOFFSETFROM:+0100
TZOFFSETTO:+0200
TZNAME:CEST
DTSTART:20250330T010000
END:DAYLIGHT
BEGIN:STANDARD
TZOFFSETFROM:+0200
TZOFFSETTO:+0100
TZNAME:CET
DTSTART:20251026T010000
END:STANDARD
END:VTIMEZONE
BEGIN:VEVENT
DTSTART;VALUE=DATE:20250124
DTEND;VALUE=DATE:20250125
DTSTAMP:20260422T125442
CREATED:20241031T101617Z
LAST-MODIFIED:20241031T101617Z
UID:32833-1737676800-1737763199@mako.hu
SUMMARY:József Attila Gimnázium gombavatója
DESCRIPTION:
URL:http://mako.hu/program/jozsef-attila-gimnazium-gombavatoja/
LOCATION:Erdei János Városi Sportcsarnok\, Csanád vezér tér 6-10.\, Makó\, 6900\, Magyarország
CATEGORIES:esemény
END:VEVENT
BEGIN:VEVENT
DTSTART;TZID=Europe/Budapest:20250124T170000
DTEND;TZID=Europe/Budapest:20250124T190000
DTSTAMP:20260422T125442
CREATED:20250116T073617Z
LAST-MODIFIED:20250116T073617Z
UID:33603-1737738000-1737745200@mako.hu
SUMMARY:Imahét a krisztushívők egységéért 6.nap
DESCRIPTION:
URL:http://mako.hu/program/imahet-a-krisztushivok-egysegeert-6-nap/
ATTACH;FMTTYPE=image/png:http://mako.hu/wp-content/uploads/2025/01/imahet-a-krisztushivok-egysegeert1.png
END:VEVENT
END:VCALENDAR