BEGIN:VCALENDAR
VERSION:2.0
PRODID:-//Makó - ECPv6.8.3//NONSGML v1.0//EN
CALSCALE:GREGORIAN
METHOD:PUBLISH
X-ORIGINAL-URL:http://mako.hu
X-WR-CALDESC:Events for Makó
REFRESH-INTERVAL;VALUE=DURATION:PT1H
X-Robots-Tag:noindex
X-PUBLISHED-TTL:PT1H
BEGIN:VTIMEZONE
TZID:Europe/Budapest
BEGIN:DAYLIGHT
TZOFFSETFROM:+0100
TZOFFSETTO:+0200
TZNAME:CEST
DTSTART:20250330T010000
END:DAYLIGHT
BEGIN:STANDARD
TZOFFSETFROM:+0200
TZOFFSETTO:+0100
TZNAME:CET
DTSTART:20251026T010000
END:STANDARD
END:VTIMEZONE
BEGIN:VEVENT
DTSTART;VALUE=DATE:20250122
DTEND;VALUE=DATE:20250123
DTSTAMP:20260422T130556
CREATED:20241031T101518Z
LAST-MODIFIED:20241031T101518Z
UID:32829-1737504000-1737590399@mako.hu
SUMMARY:Magyar Kultúra Napja
DESCRIPTION:
URL:http://mako.hu/program/magyar-kultura-napja/
LOCATION:József Attila Városi Könyvtár és Múzeum\, Deák Ferenc u. 2.\, Makó\, 6900\, Magyarország
CATEGORIES:esemény
END:VEVENT
BEGIN:VEVENT
DTSTART;VALUE=DATE:20250122
DTEND;VALUE=DATE:20250123
DTSTAMP:20260422T130556
CREATED:20241031T101551Z
LAST-MODIFIED:20241031T101551Z
UID:32831-1737504000-1737590399@mako.hu
SUMMARY:Óperencia bérlet
DESCRIPTION:
URL:http://mako.hu/program/operencia-berlet-3/
LOCATION:Hagymaház\, Posta u. 2.\, Makó\, 6900\, Magyarország
CATEGORIES:esemény
END:VEVENT
BEGIN:VEVENT
DTSTART;TZID=Europe/Budapest:20250122T170000
DTEND;TZID=Europe/Budapest:20250122T190000
DTSTAMP:20260422T130556
CREATED:20250115T125133Z
LAST-MODIFIED:20250115T125222Z
UID:33594-1737565200-1737572400@mako.hu
SUMMARY:Madarassy István és Madarassy András kiállításának megnyitója
DESCRIPTION:
URL:http://mako.hu/program/madarassy-istvan-es-madarassy-andras-unnepelyes-kiallitasanak-megnyitoja/
LOCATION:József Attila Városi Könyvtár és Múzeum\, Deák Ferenc u. 2.\, Makó\, 6900\, Magyarország
CATEGORIES:esemény
END:VEVENT
BEGIN:VEVENT
DTSTART;TZID=Europe/Budapest:20250122T170000
DTEND;TZID=Europe/Budapest:20250122T190000
DTSTAMP:20260422T130556
CREATED:20250116T073546Z
LAST-MODIFIED:20250116T073546Z
UID:33601-1737565200-1737572400@mako.hu
SUMMARY:Imahét a krisztushívők egységéért 4.nap
DESCRIPTION:
URL:http://mako.hu/program/imahet-a-krisztushivok-egysegeert-4-nap/
CATEGORIES:esemény
ATTACH;FMTTYPE=image/png:http://mako.hu/wp-content/uploads/2025/01/imahet-a-krisztushivok-egysegeert1.png
END:VEVENT
BEGIN:VEVENT
DTSTART;TZID=Europe/Budapest:20250122T170000
DTEND;TZID=Europe/Budapest:20250122T190000
DTSTAMP:20260422T130556
CREATED:20250116T145503Z
LAST-MODIFIED:20250116T145536Z
UID:33614-1737565200-1737572400@mako.hu
SUMMARY:A MAGYAR KULTÚRA NAPJA
DESCRIPTION:
URL:http://mako.hu/program/a-magyar-kultura-napja/
LOCATION:József Attila Városi Könyvtár és Múzeum\, Deák Ferenc u. 2.\, Makó\, 6900\, Magyarország
CATEGORIES:esemény
ATTACH;FMTTYPE=image/jpeg:http://mako.hu/wp-content/uploads/2025/01/b1-plakat-scaled.jpg
END:VEVENT
END:VCALENDAR