BEGIN:VCALENDAR
VERSION:2.0
PRODID:-//Makó - ECPv6.8.3//NONSGML v1.0//EN
CALSCALE:GREGORIAN
METHOD:PUBLISH
X-ORIGINAL-URL:http://mako.hu
X-WR-CALDESC:Events for Makó
REFRESH-INTERVAL;VALUE=DURATION:PT1H
X-Robots-Tag:noindex
X-PUBLISHED-TTL:PT1H
BEGIN:VTIMEZONE
TZID:Europe/Budapest
BEGIN:DAYLIGHT
TZOFFSETFROM:+0100
TZOFFSETTO:+0200
TZNAME:CEST
DTSTART:20250330T010000
END:DAYLIGHT
BEGIN:STANDARD
TZOFFSETFROM:+0200
TZOFFSETTO:+0100
TZNAME:CET
DTSTART:20251026T010000
END:STANDARD
END:VTIMEZONE
BEGIN:VEVENT
DTSTART;TZID=Europe/Budapest:20250113T160000
DTEND;TZID=Europe/Budapest:20250113T170000
DTSTAMP:20260422T124803
CREATED:20250108T070231Z
LAST-MODIFIED:20250108T070231Z
UID:33521-1736784000-1736787600@mako.hu
SUMMARY:Stílus- és Bútortörténet- a művészettörténet előadássorozat
DESCRIPTION:
URL:http://mako.hu/program/stilus-es-butortortenet-a-muveszettortenet-eloadassorozat-2/
LOCATION:József Attila Városi Könyvtár és Múzeum\, Deák Ferenc u. 2.\, Makó\, 6900\, Magyarország
CATEGORIES:előadás
ATTACH;FMTTYPE=image/jpeg:http://mako.hu/wp-content/uploads/2025/01/2025janplakat.jpg
END:VEVENT
END:VCALENDAR