BEGIN:VCALENDAR
VERSION:2.0
PRODID:-//Makó - ECPv6.8.3//NONSGML v1.0//EN
CALSCALE:GREGORIAN
METHOD:PUBLISH
X-ORIGINAL-URL:http://mako.hu
X-WR-CALDESC:Events for Makó
REFRESH-INTERVAL;VALUE=DURATION:PT1H
X-Robots-Tag:noindex
X-PUBLISHED-TTL:PT1H
BEGIN:VTIMEZONE
TZID:Europe/Budapest
BEGIN:DAYLIGHT
TZOFFSETFROM:+0100
TZOFFSETTO:+0200
TZNAME:CEST
DTSTART:20250330T010000
END:DAYLIGHT
BEGIN:STANDARD
TZOFFSETFROM:+0200
TZOFFSETTO:+0100
TZNAME:CET
DTSTART:20251026T010000
END:STANDARD
END:VTIMEZONE
BEGIN:VEVENT
DTSTART;VALUE=DATE:20250104
DTEND;VALUE=DATE:20250105
DTSTAMP:20260422T124745
CREATED:20241127T081940Z
LAST-MODIFIED:20241127T081940Z
UID:33188-1735948800-1736035199@mako.hu
SUMMARY:SZERB gasztro nap
DESCRIPTION:
URL:http://mako.hu/program/szerb-gasztro-nap/
LOCATION:Hagymatikum\, Makovecz tér 6.\, Makó\, 6900\, Magyarország
CATEGORIES:esemény
ATTACH;FMTTYPE=image/jpeg:http://mako.hu/wp-content/uploads/2024/11/468547083-954881283340570-164782084626447710-n.jpg
END:VEVENT
BEGIN:VEVENT
DTSTART;TZID=Europe/Budapest:20250104T100000
DTEND;TZID=Europe/Budapest:20250104T120000
DTSTAMP:20260422T124745
CREATED:20241031T101332Z
LAST-MODIFIED:20250102T092706Z
UID:32825-1735984800-1735992000@mako.hu
SUMMARY:Dr. Tóth Ferencre emlékezünk
DESCRIPTION:
URL:http://mako.hu/program/dr-toth-ferencre-emlekezunk/
LOCATION:József Attila Városi Könyvtár és Múzeum\, Deák Ferenc u. 2.\, Makó\, 6900\, Magyarország
CATEGORIES:esemény
END:VEVENT
END:VCALENDAR