BEGIN:VCALENDAR
VERSION:2.0
PRODID:-//Makó - ECPv6.8.3//NONSGML v1.0//EN
CALSCALE:GREGORIAN
METHOD:PUBLISH
X-WR-CALNAME:Makó
X-ORIGINAL-URL:http://mako.hu
X-WR-CALDESC:Events for Makó
REFRESH-INTERVAL;VALUE=DURATION:PT1H
X-Robots-Tag:noindex
X-PUBLISHED-TTL:PT1H
BEGIN:VTIMEZONE
TZID:Europe/Budapest
BEGIN:DAYLIGHT
TZOFFSETFROM:+0100
TZOFFSETTO:+0200
TZNAME:CEST
DTSTART:20240331T010000
END:DAYLIGHT
BEGIN:STANDARD
TZOFFSETFROM:+0200
TZOFFSETTO:+0100
TZNAME:CET
DTSTART:20241027T010000
END:STANDARD
END:VTIMEZONE
BEGIN:VEVENT
DTSTART;VALUE=DATE:20241231
DTEND;VALUE=DATE:20250101
DTSTAMP:20260424T122831
CREATED:20241029T115847Z
LAST-MODIFIED:20241029T115847Z
UID:32749-1735603200-1735689599@mako.hu
SUMMARY:Szilveszteri futás
DESCRIPTION:
URL:http://mako.hu/program/szilveszteri-futas/
LOCATION:Makovecz tér\, Makovecz tér 6.\, Makó\, Csongrád\, 6900\, Magyarország
CATEGORIES:esemény
END:VEVENT
BEGIN:VEVENT
DTSTART;VALUE=DATE:20241231
DTEND;VALUE=DATE:20250101
DTSTAMP:20260424T122831
CREATED:20241029T132738Z
LAST-MODIFIED:20241029T132925Z
UID:32766-1735603200-1735689599@mako.hu
SUMMARY:Karibi szilveszter
DESCRIPTION:
URL:http://mako.hu/program/karibi-szilveszter/
LOCATION:Hagymatikum\, Makovecz tér 6.\, Makó\, 6900\, Magyarország
CATEGORIES:esemény
ATTACH;FMTTYPE=image/jpeg:http://mako.hu/wp-content/uploads/2024/10/2025-karibi-szilveszter-a-hagymaikumba-20241231.jpg
END:VEVENT
BEGIN:VEVENT
DTSTART;TZID=Europe/Budapest:20241231T093000
DTEND;TZID=Europe/Budapest:20241231T120000
DTSTAMP:20260424T122831
CREATED:20241219T072356Z
LAST-MODIFIED:20241219T072356Z
UID:33469-1735637400-1735646400@mako.hu
SUMMARY:Szilveszteri futás 2024.
DESCRIPTION:
URL:http://mako.hu/program/szilveszteri-futas-2024/
CATEGORIES:sport
ATTACH;FMTTYPE=image/jpeg:http://mako.hu/wp-content/uploads/2024/12/szilveszteri-futas.jpg
END:VEVENT
END:VCALENDAR