BEGIN:VCALENDAR
VERSION:2.0
PRODID:-//Makó - ECPv6.8.3//NONSGML v1.0//EN
CALSCALE:GREGORIAN
METHOD:PUBLISH
X-WR-CALNAME:Makó
X-ORIGINAL-URL:http://mako.hu
X-WR-CALDESC:Events for Makó
REFRESH-INTERVAL;VALUE=DURATION:PT1H
X-Robots-Tag:noindex
X-PUBLISHED-TTL:PT1H
BEGIN:VTIMEZONE
TZID:Europe/Budapest
BEGIN:DAYLIGHT
TZOFFSETFROM:+0100
TZOFFSETTO:+0200
TZNAME:CEST
DTSTART:20240331T010000
END:DAYLIGHT
BEGIN:STANDARD
TZOFFSETFROM:+0200
TZOFFSETTO:+0100
TZNAME:CET
DTSTART:20241027T010000
END:STANDARD
END:VTIMEZONE
BEGIN:VEVENT
DTSTART;TZID=Europe/Budapest:20241212T153000
DTEND;TZID=Europe/Budapest:20241212T170000
DTSTAMP:20260422T161808
CREATED:20241205T132959Z
LAST-MODIFIED:20241210T103318Z
UID:33346-1734017400-1734022800@mako.hu
SUMMARY:Kiss Ádám települési képviselő-lakossági fogadóóra
DESCRIPTION:
URL:http://mako.hu/program/kiss-adam-telepulesi-kepviselo-es-simon-zsolt-a-roma-nemzetisegi-onkormanyzat-elnoke-lakossagi-fogadoorat-tart/
CATEGORIES:esemény
ATTACH;FMTTYPE=image/jpeg:http://mako.hu/wp-content/uploads/2024/12/kaf.jpg
END:VEVENT
BEGIN:VEVENT
DTSTART;TZID=Europe/Budapest:20241212T170000
DTEND;TZID=Europe/Budapest:20241212T190000
DTSTAMP:20260422T161808
CREATED:20241125T132031Z
LAST-MODIFIED:20241125T132031Z
UID:33184-1734022800-1734030000@mako.hu
SUMMARY:Farkas Éva Hanna-heg könyvbemutató
DESCRIPTION:
URL:http://mako.hu/program/farkas-eva-hanna-heg-konyvbemutato/
LOCATION:József Attila Városi Könyvtár és Múzeum\, Deák Ferenc u. 2.\, Makó\, 6900\, Magyarország
CATEGORIES:esemény
ATTACH;FMTTYPE=image/jpeg:http://mako.hu/wp-content/uploads/2024/11/farkas-eva-hanna-heg-konyvbemutato-20241212-17-00.jpg
END:VEVENT
BEGIN:VEVENT
DTSTART;TZID=Europe/Budapest:20241212T170000
DTEND;TZID=Europe/Budapest:20241212T200000
DTSTAMP:20260422T161808
CREATED:20241105T070009Z
LAST-MODIFIED:20241105T070009Z
UID:32927-1734022800-1734033600@mako.hu
SUMMARY:Gimi est
DESCRIPTION:
URL:http://mako.hu/program/gimi-est/
LOCATION:József Attila Gimnázium aulája\, Csanád vezér tér 6.\, Makó\, 6800\, Magyarország
CATEGORIES:esemény
END:VEVENT
END:VCALENDAR