BEGIN:VCALENDAR
VERSION:2.0
PRODID:-//Makó - ECPv6.8.3//NONSGML v1.0//EN
CALSCALE:GREGORIAN
METHOD:PUBLISH
X-ORIGINAL-URL:http://mako.hu
X-WR-CALDESC:Events for Makó
REFRESH-INTERVAL;VALUE=DURATION:PT1H
X-Robots-Tag:noindex
X-PUBLISHED-TTL:PT1H
BEGIN:VTIMEZONE
TZID:Europe/Budapest
BEGIN:DAYLIGHT
TZOFFSETFROM:+0100
TZOFFSETTO:+0200
TZNAME:CEST
DTSTART:20240331T010000
END:DAYLIGHT
BEGIN:STANDARD
TZOFFSETFROM:+0200
TZOFFSETTO:+0100
TZNAME:CET
DTSTART:20241027T010000
END:STANDARD
END:VTIMEZONE
BEGIN:VEVENT
DTSTART;VALUE=DATE:20241207
DTEND;VALUE=DATE:20241208
DTSTAMP:20260422T161302
CREATED:20241029T114831Z
LAST-MODIFIED:20241029T114831Z
UID:32719-1733529600-1733615999@mako.hu
SUMMARY:Givaudan karácsonyi party
DESCRIPTION:
URL:http://mako.hu/program/givaudan-karacsonyi-party/
LOCATION:Erdei János Városi Sportcsarnok\, Csanád vezér tér 6-10.\, Makó\, 6900\, Magyarország
CATEGORIES:esemény
END:VEVENT
BEGIN:VEVENT
DTSTART;VALUE=DATE:20241207
DTEND;VALUE=DATE:20241208
DTSTAMP:20260422T161302
CREATED:20241029T114855Z
LAST-MODIFIED:20241029T114855Z
UID:32722-1733529600-1733615999@mako.hu
SUMMARY:Forgatós Táncegyüttes műsora
DESCRIPTION:
URL:http://mako.hu/program/forgatos-tancegyuttes-musora-2/
LOCATION:Hagymaház\, Posta u. 2.\, Makó\, 6900\, Magyarország
CATEGORIES:esemény
END:VEVENT
BEGIN:VEVENT
DTSTART;TZID=Europe/Budapest:20241207T170000
DTEND;TZID=Europe/Budapest:20241207T190000
DTSTAMP:20260422T161302
CREATED:20241125T083526Z
LAST-MODIFIED:20241125T083526Z
UID:33175-1733590800-1733598000@mako.hu
SUMMARY:Adventi hangverseny
DESCRIPTION:
URL:http://mako.hu/program/adventi-hangverseny/
CATEGORIES:esemény
ATTACH;FMTTYPE=image/jpeg:http://mako.hu/wp-content/uploads/2024/11/image-50802177.jpg
END:VEVENT
END:VCALENDAR